Workbook

Sheet Realisasi Sasaran
A1: MONITORING DAN EVALUASI TERHADAP CAPAIAN KINERJA SASARAN PERANGKAT DAERAH
A3: Kabupaten/Kota | F3: : Gresik
A4: Perangkat Daerah | F4: : Sekretariat DPRD
A5: Periode Renja PD | F5: : 2026
A6: Periode RKA PD | F6: =F5 -> : 2026
A8: Kode | F8: Tujuan / Sasaran | G8: Indikator | H8: FORMULASI | J8: JUMLAH KEGIATAN | L8: Target | N8: Realisasi | Z8: Capaian
J9: Target | K9: Realisasi | L9: Kinerja | M9: Satuan | N9: Jan | O9: Feb | P9: Mar | Q9: Apr | R9: Mei | S9: Jun | T9: Jul | U9: Agst | V9: Sept | W9: Okt | X9: Nop | Y9: Des | Z9: Jumlah | AA9: %
F10: Terwujudnya Sinergitas Antara Pemerintah Daerah dan DPRD Dalam Penyelenggaraan Pemerintahan Daerah | G10: Indeks Pelayanan Publik | H10: Nilai indeks pelayanan publik Sekretariat DPRD | L10: 4.25 | M10: Nilai | N10: 4.24 | O10: 4.24 | P10: 4.24 | Q10: 4.24 | R10: 4.24 | Z10: =LOOKUP(2,1/(N10:Y10<>0),(N10:Y10)) -> 4.24 | AA10: =Z10/L10 -> 0.99764706
A11: 4 | B11: 02 | F11: Meningkatnya kualitas pelayanan atas dukungan fasilitasi pelaksanaan tugas dan fungsi DPRD | G11: Persentase penyelenggaraan pelayanan administrasi kesekretariatan dan keuangan | H11: Jumlah pelayanan administrasi kesekretariatan dan keuangan yang diselenggarakan dibagi Jumlah pelayanan administrasi kesekretariatan dan keuangan sesuai Renja dikali 100% | J11: ='Realisasi Kegiatan&SubKeg'!I13 -> 984 | K11: ='Realisasi Kegiatan&SubKeg'!AI13 -> 458 | L11: 100 | M11: Persen | N11: ='Realisasi Kegiatan&SubKeg'!L13 -> 0.087398374 | O11: ='Realisasi Kegiatan&SubKeg'!N13 -> 0.088414634 | P11: ='Realisasi Kegiatan&SubKeg'!P13 -> 0.10060976 | Q11: ='Realisasi Kegiatan&SubKeg'!R13 -> 0.1097561 | R11: ='Realisasi Kegiatan&SubKeg'!T13 -> 0.079268293 | S11: ='Realisasi Kegiatan&SubKeg'!V13 -> 0 | T11: ='Realisasi Kegiatan&SubKeg'!X13 -> 0 | U11: ='Realisasi Kegiatan&SubKeg'!Z13 -> 0 | V11: ='Realisasi Kegiatan&SubKeg'!AB13 -> 0 | W11: ='Realisasi Kegiatan&SubKeg'!AD13 -> 0 | X11: ='Realisasi Kegiatan&SubKeg'!AF13 -> 0 | Y11: ='Realisasi Kegiatan&SubKeg'!AH13 -> 0 | Z11: =SUM(N11:Y11) -> 0.46544715 | AA11: =Z11/L11*100 -> 0.46544715
G12: Persentase Fasilitasi Pelaksanaan Fungsi DPRD | H12: Jumlah fasilitasi kegiatan DPRD sesuai fungsinya yang dipenuhi dibagi jumlah kegiatan DPRD sesuai fungsinya berdasarkan renja DPRD dikali 100% | J12: ='Realisasi Kegiatan&SubKeg'!I60 -> 574 | K12: ='Realisasi Kegiatan&SubKeg'!AI60 -> 219 | L12: 100 | M12: Persen | N12: ='Realisasi Kegiatan&SubKeg'!L60 -> 0.031358885 | O12: ='Realisasi Kegiatan&SubKeg'!N60 -> 0.033101045 | P12: ='Realisasi Kegiatan&SubKeg'!P60 -> 0.1271777 | Q12: ='Realisasi Kegiatan&SubKeg'!R60 -> 0.055749129 | R12: ='Realisasi Kegiatan&SubKeg'!T60 -> 0.13414634 | S12: ='Realisasi Kegiatan&SubKeg'!V60 -> 0 | T12: ='Realisasi Kegiatan&SubKeg'!X60 -> 0 | U12: ='Realisasi Kegiatan&SubKeg'!Z60 -> 0 | V12: ='Realisasi Kegiatan&SubKeg'!AB60 -> 0 | W12: ='Realisasi Kegiatan&SubKeg'!AD60 -> 0 | X12: ='Realisasi Kegiatan&SubKeg'!AF60 -> 0 | Y12: ='Realisasi Kegiatan&SubKeg'!AH60 -> 0 | Z12: =SUM(N12:Y12) -> 0.3815331 | AA12: =Z12/L12*100 -> 0.3815331
G13: Persentase fasilitasi pelaksanaan tugas DPRD | H13: Jumlah fasilitasi kegiatan DPRD sesuai tugasnya yang dipenuhi dibagi jumlah kegiatan DPRD sesuai tugasnya berdasarkan renja DPRD dikali 100% | J13: ='Realisasi Kegiatan&SubKeg'!I92 -> 605 | K13: ='Realisasi Kegiatan&SubKeg'!AI92 -> 251 | L13: 100 | M13: Persen | N13: ='Realisasi Kegiatan&SubKeg'!L92 -> 0.052892562 | O13: ='Realisasi Kegiatan&SubKeg'!N92 -> 0.080991736 | P13: ='Realisasi Kegiatan&SubKeg'!P92 -> 0.095867769 | Q13: ='Realisasi Kegiatan&SubKeg'!R92 -> 0.099173554 | R13: ='Realisasi Kegiatan&SubKeg'!T92 -> 0.085950413 | S13: ='Realisasi Kegiatan&SubKeg'!V92 -> 0 | T13: ='Realisasi Kegiatan&SubKeg'!X92 -> 0 | U13: ='Realisasi Kegiatan&SubKeg'!Z92 -> 0 | V13: ='Realisasi Kegiatan&SubKeg'!AB92 -> 0 | W13: ='Realisasi Kegiatan&SubKeg'!AD92 -> 0 | X13: ='Realisasi Kegiatan&SubKeg'!AF92 -> 0 | Y13: ='Realisasi Kegiatan&SubKeg'!AH92 -> 0 | Z13: =SUM(N13:Y13) -> 0.41487603 | AA13: =Z13/L13*100 -> 0.41487603
G14: Nilai Kepuasan Anggota DPRD Atas Dukungan Pelaksanaan Tugas Sekretariat DPRD | H14: Nilai hasil survey indeks kepuasan masyarakat (Anggota DPRD) | L14: 96.5 | M14: Nilai | N14: 95 | O14: 95 | P14: 96.75 | Q14: 97.86 | R14: 98.14 | Z14: =LOOKUP(2,1/(N14:Y14<>0),(N14:Y14)) -> 98.14 | AA14: =Z14/L14 -> 1.0169948
V17: Gresik, 5 Juni 2026
V18: SEKRETARIS DPRD
V19: KABUPATEN GRESIK
V23: Ir. MOKHAMMAD NAJIKH, M.M.
V24: Pembina Utama Muda
V25: NIP. 196804121992031011

Sheet Realisasi Program
A1: MONITORING DAN EVALUASI TERHADAP CAPAIAN KINERJA PROGRAM PERANGKAT DAERAH
A3: Kabupaten/Kota | F3: : Gresik
A4: Perangkat Daerah | F4: : Sekretariat DPRD
A5: Periode Renja PD | F5: : 2026
A6: Periode RKA PD | F6: =F5 -> : 2026
A8: Kode | F8: Urusan/Bidang Urusan Pemerintahan Daerah dan Program/Kegiatan/Sub Kegiatan | G8: Indikator Kinerja | H8: FORMULASI | J8: Target | L8: Realisasi | X8: Capaian
J9: Target | K9: Satuan | L9: Jan | M9: Feb | N9: Mar | O9: Apr | P9: Mei | Q9: Jun | R9: Jul | S9: Agst | T9: Sept | U9: Okt | V9: Nop | W9: Des | X9: Jumlah | Y9: %
A10: 4 | B10: 02 | C10: 1 | F10: PROGRAM PENUNJANG URUSAN PEMERINTAHAN DAERAH KABUPATEN/KOTA
A11: Terselenggaranya layanan administrasi kesekretariatan dan keuangan DPRD | G11: Nilai Hasil Evaluasi SAKIP Perangkat Daerah | H11: Nilai Sakip dari Inspektorat Kabupaten | I11: Nilai Sakip dari Inspektorat Kabupaten | J11: 86.9 | K11: Nilai | L11: 86.85 | M11: 86.85 | N11: 86.85 | O11: 86.85 | X11: =LOOKUP(2,1/(L11:W11<>0),(L11:W11)) -> 86.85 | Y11: =X11/$J11 -> 0.99942463
G12: Persentase Penyelenggaraan Administrasi Kesekretariatan | H12: Jumlah layanan administrasi kesekretariatan yang diselenggarakan dibagi jumlah layanan administrasi kesekretariatan dikali 100% | J12: 100 | K12: Persen | L12: ='Realisasi Kegiatan&SubKeg'!L25 -> 0.088235294 | M12: ='Realisasi Kegiatan&SubKeg'!N25 -> 0.096470588 | N12: ='Realisasi Kegiatan&SubKeg'!P25 -> 0.10470588 | O12: ='Realisasi Kegiatan&SubKeg'!R25 -> 0.11529412 | P12: 0 | Q12: 0 | R12: 0 | S12: ='Realisasi Kegiatan&SubKeg'!Z25 -> 0 | T12: ='Realisasi Kegiatan&SubKeg'!AB25 -> 0 | U12: ='Realisasi Kegiatan&SubKeg'!AD25 -> 0 | V12: ='Realisasi Kegiatan&SubKeg'!AF25 -> 0 | W12: ='Realisasi Kegiatan&SubKeg'!AH25 -> 0 | X12: =SUM(W12,V12,U12,T12,S12,R12,Q12,P12,O12,N12,M12,L12) -> 0.40470588 | Y12: =X12/$J12*100 -> 0.40470588 | AA12: =SUM(L12:N12) -> 0.28941176 | AB12: =SUM(O12:Q12) -> 0.11529412 | AC12: =SUM(R12:T12) -> 0 | AD12: =SUM(U12:W12) -> 0
G13: Persentase Penyelenggaraan Administrasi Keuangan dan Kesejahteraan DPRD | H13: Jumlah layanan administrasi Keuangan dan Kesejahteraan DPRD yang diselenggarakan dibagi jumlah layanan administrasi Keuangan dan Kesejahteraan DPRD dikali 100% | J13: 100 | K13: Persen | L13: ='Realisasi Kegiatan&SubKeg'!L50 -> 0 | M13: ='Realisasi Kegiatan&SubKeg'!N50 -> 0.026666667 | N13: ='Realisasi Kegiatan&SubKeg'!P50 -> 0.026666667 | O13: ='Realisasi Kegiatan&SubKeg'!R50 -> 0.08 | P13: ='Realisasi Kegiatan&SubKeg'!T50 -> 0.053333333 | Q13: ='Realisasi Kegiatan&SubKeg'!V50 -> 0 | R13: ='Realisasi Kegiatan&SubKeg'!X50 -> 0 | S13: ='Realisasi Kegiatan&SubKeg'!Z50 -> 0 | T13: ='Realisasi Kegiatan&SubKeg'!AB50 -> 0 | U13: ='Realisasi Kegiatan&SubKeg'!AD50 -> 0 | V13: ='Realisasi Kegiatan&SubKeg'!AF50 -> 0 | W13: ='Realisasi Kegiatan&SubKeg'!AH50 -> 0 | X13: =SUM(W13,V13,U13,T13,S13,R13,Q13,P13,O13,N13,M13,L13) -> 0.18666667 | Y13: =X13/$J13*100 -> 0.18666667 | AA13: =SUM(L13:N13) -> 0.053333333 | AB13: =SUM(O13:Q13) -> 0.13333333 | AC13: =SUM(R13:T13) -> 0 | AD13: =SUM(U13:W13) -> 0
A14: 4 | B14: 02 | C14: 2 | F14: PROGRAM DUKUNGAN PELAKSANAAN TUGAS DAN FUNGSI DPRD | AA14: =SUM(L14:N14) -> 0 | AB14: =SUM(O14:Q14) -> 0 | AC14: =SUM(R14:T14) -> 0 | AD14: =SUM(U14:W14) -> 0
A15: Meningkatnya Kualitas Persidangan dan Kajian Peratuan Perundang-Undangan | G15: Ketepatan Penetapan Ranperda Tahun N | H15: Jumlah fasilitasi pembahasan Ranperda Tahun N yang tepat waktu dibagi jumlah pembahasan Ranperda Tahun N berdasarkan Renja DPRD dikali 100% | J15: 100 | K15: Persen | L15: ='Realisasi Kegiatan&SubKeg'!L61 -> 0 | M15: ='Realisasi Kegiatan&SubKeg'!N61 -> 0.0029498525 | N15: ='Realisasi Kegiatan&SubKeg'!P61 -> 0.15929204 | O15: ='Realisasi Kegiatan&SubKeg'!R61 -> 0.026548673 | P15: ='Realisasi Kegiatan&SubKeg'!T61 -> 0.179941 | Q15: ='Realisasi Kegiatan&SubKeg'!V61 -> 0 | R15: ='Realisasi Kegiatan&SubKeg'!X61 -> 0 | S15: ='Realisasi Kegiatan&SubKeg'!Z61 -> 0 | T15: ='Realisasi Kegiatan&SubKeg'!AB61 -> 0 | U15: ='Realisasi Kegiatan&SubKeg'!AD61 -> 0 | V15: ='Realisasi Kegiatan&SubKeg'!AF61 -> 0 | W15: ='Realisasi Kegiatan&SubKeg'!AH61 -> 0 | X15: =SUM(L15:W15) -> 0.36873156 | Y15: =X15/$J15*100 -> 0.36873156 | AA15: =SUM(L15:N15) -> 0.16224189 | AB15: =SUM(O15:Q15) -> 0.20648968 | AC15: =SUM(R15:T15) -> 0 | AD15: =SUM(U15:W15) -> 0
A16: Indikator Program | G16: Persentase fasilitasi pelaksanaan tugas dan fungsi penganggaran DPRD | H16: Persentase fasilitasi pelaksanaan tugas dan fungsi penganggaran DPRD | J16: 100 | K16: Persen | X16: =SUM(W16,V16,U16,T16,S16,R16,Q16,P16,O16,N16,M16,L16) -> 0 | Y16: =X16/$J16*100 -> 0 | AA16: =SUM(L16:N16) -> 0 | AB16: =SUM(O16:Q16) -> 0 | AC16: =SUM(R16:T16) -> 0 | AD16: =SUM(U16:W16) -> 0
A17: Meningkatnya Kualitas Penganggaran dan Pengawasan | G17: Ketepatan Penetapan Perda APBD Tahun N | H17: Jumlah fasilitasi pembahasan Perda APBD Tahun N yang tepat waktu dibagi jumlah pembahasan Perda APBD Tahun N berdasarkan Renja DPRD dikali 100% | J17: 100 | K17: Persen | L17: ='Realisasi Kegiatan&SubKeg'!L69 -> 0.045454545 | M17: ='Realisasi Kegiatan&SubKeg'!N69 -> 0 | N17: ='Realisasi Kegiatan&SubKeg'!P69 -> 0 | O17: ='Realisasi Kegiatan&SubKeg'!R69 -> 0 | P17: ='Realisasi Kegiatan&SubKeg'!T69 -> 0 | Q17: ='Realisasi Kegiatan&SubKeg'!V69 -> 0 | R17: ='Realisasi Kegiatan&SubKeg'!X69 -> 0 | S17: ='Realisasi Kegiatan&SubKeg'!Z69 -> 0 | T17: ='Realisasi Kegiatan&SubKeg'!AB69 -> 0 | U17: ='Realisasi Kegiatan&SubKeg'!AD69 -> 0 | V17: ='Realisasi Kegiatan&SubKeg'!AF69 -> 0 | W17: ='Realisasi Kegiatan&SubKeg'!AH69 -> 0 | X17: =SUM(L17:W17) -> 0.045454545 | Y17: =X17/$J17*100 -> 0.045454545 | AA17: =SUM(L17:N17) -> 0.045454545 | AB17: =SUM(O17:Q17) -> 0 | AC17: =SUM(R17:T17) -> 0 | AD17: =SUM(U17:W17) -> 0
G18: Persentase Pengawasan Penyelenggaraan Pemerintahan | H18: Jumlah fasilitasi kegiatan pengawasan penyelenggaraan pemerintahan dibagi jumlah kegiatan pengawasan berdasarkan Renja DPRD dikali 100% | J18: 100 | K18: Persen | L18: ='Realisasi Kegiatan&SubKeg'!L77 -> 0.079812207 | M18: ='Realisasi Kegiatan&SubKeg'!N77 -> 0.084507042 | N18: ='Realisasi Kegiatan&SubKeg'!P77 -> 0.089201878 | O18: ='Realisasi Kegiatan&SubKeg'!R77 -> 0.10798122 | P18: ='Realisasi Kegiatan&SubKeg'!T77 -> 0.075117371 | Q18: ='Realisasi Kegiatan&SubKeg'!V77 -> 0 | R18: ='Realisasi Kegiatan&SubKeg'!X77 -> 0 | S18: ='Realisasi Kegiatan&SubKeg'!Z77 -> 0 | T18: ='Realisasi Kegiatan&SubKeg'!AB77 -> 0 | U18: ='Realisasi Kegiatan&SubKeg'!AD77 -> 0 | V18: ='Realisasi Kegiatan&SubKeg'!AF77 -> 0 | W18: ='Realisasi Kegiatan&SubKeg'!AH77 -> 0 | X18: =SUM(L18:W18) -> 0.43661972 | Y18: =X18/$J18*100 -> 0.43661972 | AA18: =SUM(L18:N18) -> 0.25352113 | AB18: =SUM(O18:Q18) -> 0.18309859 | AC18: =SUM(R18:T18) -> 0 | AD18: =SUM(U18:W18) -> 0
A19: Terfasilitasinya Pelaksanaan Tugas DPRD | G19: Persentase Dukungan Fasilitasi Terhadap Pelaksanaan Tugas DPRD | H19: Jumlah kegiatan pelaksanaan tugas DPRD yang difasilitasi dibagi jumlah pelaksanaan tugas DPRD Berdasarkan Renja DPRD dikali 100% | J19: 100 | K19: Persen | L19: ='Realisasi Kegiatan&SubKeg'!L94 -> 0.052892562 | M19: ='Realisasi Kegiatan&SubKeg'!N94 -> 0.080991736 | N19: ='Realisasi Kegiatan&SubKeg'!P94 -> 0.095867769 | O19: ='Realisasi Kegiatan&SubKeg'!R94 -> 0.099173554 | P19: ='Realisasi Kegiatan&SubKeg'!T94 -> 0.085950413 | Q19: ='Realisasi Kegiatan&SubKeg'!V94 -> 0 | R19: ='Realisasi Kegiatan&SubKeg'!X94 -> 0 | S19: ='Realisasi Kegiatan&SubKeg'!Z94 -> 0 | T19: ='Realisasi Kegiatan&SubKeg'!AB94 -> 0 | U19: ='Realisasi Kegiatan&SubKeg'!AD94 -> 0 | V19: ='Realisasi Kegiatan&SubKeg'!AF94 -> 0 | W19: ='Realisasi Kegiatan&SubKeg'!AH94 -> 0 | X19: =SUM(L19:W19) -> 0.41487603 | Y19: =X19/$J19*100 -> 0.41487603 | AA19: =SUM(L19:N19) -> 0.22975207 | AB19: =SUM(O19:Q19) -> 0.18512397 | AC19: =SUM(R19:T19) -> 0 | AD19: =SUM(U19:W19) -> 0
I21: Column1
T22: ='Realisasi Sasaran'!V17 -> Gresik, 5 Juni 2026
T23: ='Realisasi Sasaran'!V18 -> SEKRETARIS DPRD
T24: ='Realisasi Sasaran'!V19 -> KABUPATEN GRESIK
T28: ='Realisasi Sasaran'!V23 -> Ir. MOKHAMMAD NAJIKH, M.M.
T29: ='Realisasi Sasaran'!V24 -> Pembina Utama Muda
T30: ='Realisasi Sasaran'!V25 -> NIP. 196804121992031011

Sheet Realisasi Kegiatan&SubKeg
A1: REALISASI KINERJA KEGIATAN PERANGKAT DAERAH
A3: Kabupaten/Kota | F3: : Gresik
A4: Perangkat Daerah | F4: : Sekretariat DPRD
A5: Periode Renja PD | F5: : 2026
A6: Periode RKA PD | F6: =F5 -> : 2026
A8: Kode | F8: Urusan/Bidang Urusan Pemerintahan Daerah dan Program/Kegiatan/Sub Kegiatan | G8: Indikator | H8: FORMULASI | I8: Target | K8: Realisasi | AI8: Capaian | AK8: Bukti Dukung
I9: Kinerja | J9: Satuan | K9: Jan | M9: Feb | O9: Mar | Q9: Apr | S9: Mei | U9: Jun | W9: Jul | Y9: Agst | AA9: Sept | AC9: Okt | AE9: Nop | AG9: Des | AI9: Jumlah | AJ9: % | AM9: TW I | AN9: TW II | AO9: TW III | AP9: TW IV
K10: K | L10: % | M10: K | N10: % | O10: K | P10: % | Q10: K | R10: % | S10: K | T10: % | U10: K | V10: % | W10: K | X10: % | Y10: K | Z10: % | AA10: K | AB10: % | AC10: K | AD10: % | AE10: K | AF10: % | AG10: K | AH10: % | AI10: K | AJ10: %
B11: 02 | F11: SEKRETARIAT DPRD | I11: =SUM(I12,I59) -> 2163 | J11: Kegiatan | K11: =SUM(K12,K59) -> 136 | L11: =K11/$I11 -> 0.062875636 | M11: =SUM(M12,M59) -> 155 | N11: =M11/$I11 -> 0.071659732 | O11: =SUM(O12,O59) -> 230 | P11: =O11/$I11 -> 0.1063338 | Q11: =SUM(Q12,Q59) -> 200 | R11: =Q11/$I11 -> 0.09246417 | S11: =SUM(S12,S59) -> 207 | T11: =S11/$I11 -> 0.095700416 | U11: =SUM(U12,U59) -> 0 | V11: =U11/$I11 -> 0 | W11: =SUM(W12,W59) -> 0 | X11: =W11/$I11 -> 0 | Y11: =SUM(Y12,Y59) -> 0 | Z11: =Y11/$I11 -> 0 | AA11: =SUM(AA12,AA59) -> 0 | AB11: =AA11/$I11 -> 0 | AC11: =SUM(AC12,AC59) -> 0 | AD11: =AC11/$I11 -> 0 | AE11: =SUM(AE12,AE59) -> 0 | AF11: =AE11/$I11 -> 0 | AG11: =SUM(AG12,AG59) -> 0 | AH11: =AG11/$I11 -> 0 | AI11: =SUM(K11,M11,O11,Q11,S11,U11,W11,Y11,AA11,AC11,AE11,AG11) -> 928 | AJ11: =AI11/I11 -> 0.42903375 | AM11: =SUM(K11,M11,O11) -> 521 | AN11: =SUM(Q11,S11,U11) -> 407 | AO11: =SUM(W11,Y11,AA11) -> 0 | AP11: =SUM(AC11,AE11,AG11) -> 0
A12: 4 | B12: 02 | C12: 1 | F12: PROGRAM PENUNJANG URUSAN PEMERINTAHAN DAERAH KABUPATEN/KOTA | I12: =SUM(I14,I25,I50) -> 984 | J12: Kegiatan | K12: =SUM(K14,K25,K50) -> 86 | L12: =K12/$I12 -> 0.087398374 | M12: =SUM(M14,M25,M50) -> 87 | N12: =M12/$I12 -> 0.088414634 | O12: =SUM(O14,O25,O50) -> 99 | P12: =O12/$I12 -> 0.10060976 | Q12: =SUM(Q14,Q25,Q50) -> 108 | R12: =Q12/$I12 -> 0.1097561 | S12: =SUM(S14,S25,S50) -> 78 | T12: =S12/$I12 -> 0.079268293 | U12: =SUM(U14,U25,U50) -> 0 | V12: =U12/$I12 -> 0 | W12: =SUM(W14,W25,W50) -> 0 | X12: =W12/$I12 -> 0 | Y12: =SUM(Y14,Y25,Y50) -> 0 | Z12: =Y12/$I12 -> 0 | AA12: =SUM(AA14,AA25,AA50) -> 0 | AB12: =AA12/$I12 -> 0 | AC12: =SUM(AC14,AC25,AC50) -> 0 | AD12: =AC12/$I12 -> 0 | AE12: =SUM(AE14,AE25,AE50) -> 0 | AF12: =AE12/$I12 -> 0 | AG12: =SUM(AG14,AG25,AG50) -> 0 | AH12: =AG12/$I12 -> 0 | AI12: =SUM(K12,M12,O12,Q12,S12,U12,W12,Y12,AA12,AC12,AE12,AG12) -> 458 | AJ12: =AI12/I12 -> 0.46544715 | AM12: =SUM(K12,M12,O12) -> 272 | AN12: =SUM(Q12,S12,U12) -> 186 | AO12: =SUM(W12,Y12,AA12) -> 0 | AP12: =SUM(AC12,AE12,AG12) -> 0
A13: Terselenggaranya pelayanan administrasi kesekretariatan dan keuangan | G13: Jumlah kegiatan penyelenggaraan pelayanan administrasi kesekretariatan dan keuangan | H13: Jumlah kegiatan penyelenggaraan pelayanan administrasi kesekretariatan dan keuangan | I13: =SUM(I14,I25,I50) -> 984 | J13: Kegiatan | K13: =SUM(K14,K25,K50) -> 86 | L13: =K13/$I13 -> 0.087398374 | M13: =SUM(M14,M25,M50) -> 87 | N13: =M13/$I13 -> 0.088414634 | O13: =SUM(O14,O25,O50) -> 99 | P13: =O13/$I13 -> 0.10060976 | Q13: =SUM(Q14,Q25,Q50) -> 108 | R13: =Q13/$I13 -> 0.1097561 | S13: =SUM(S14,S25,S50) -> 78 | T13: =S13/$I13 -> 0.079268293 | U13: =SUM(U14,U25,U50) -> 0 | V13: =U13/$I13 -> 0 | W13: =SUM(W14,W25,W50) -> 0 | X13: =W13/$I13 -> 0 | Y13: =SUM(Y14,Y25,Y50) -> 0 | Z13: =Y13/$I13 -> 0 | AA13: =SUM(AA14,AA25,AA50) -> 0 | AB13: =AA13/$I13 -> 0 | AC13: =SUM(AC14,AC25,AC50) -> 0 | AD13: =AC13/$I13 -> 0 | AE13: =SUM(AE14,AE25,AE50) -> 0 | AF13: =AE13/$I13 -> 0 | AG13: =SUM(AG14,AG25,AG50) -> 0 | AH13: =AG13/$I13 -> 0 | AI13: =SUM(K13,M13,O13,Q13,S13,U13,W13,Y13,AA13,AC13,AE13,AG13) -> 458 | AJ13: =AI13/I13 -> 0.46544715 | AM13: =SUM(K13,M13,O13) -> 272 | AN13: =SUM(Q13,S13,U13) -> 186 | AO13: =SUM(W13,Y13,AA13) -> 0 | AP13: =SUM(AC13,AE13,AG13) -> 0
A14: Terselenggaranya layanan administrasi keuangan | G14: Jumlah dokumen hasil penyelenggaraan layanan administrasi keuangan | H14: Jumlah dokumen hasil penyelenggaraan layanan administrasi keuangan | I14: =SUM(I15,I19) -> 59 | J14: Kegiatan | K14: =SUM(K15,K19) -> 11 | L14: =K14/$I14 -> 0.18644068 | M14: =SUM(M15,M19) -> 3 | N14: =M14/$I14 -> 0.050847458 | O14: =SUM(O15,O19) -> 8 | P14: =O14/$I14 -> 0.13559322 | Q14: =SUM(Q15,Q19) -> 4 | R14: =Q14/$I14 -> 0.06779661 | S14: =SUM(S15,S19) -> 3 | T14: =S14/$I14 -> 0.050847458 | U14: =SUM(U15,U19) -> 0 | V14: =U14/$I14 -> 0 | W14: =SUM(W15,W19) -> 0 | X14: =W14/$I14 -> 0 | Y14: =SUM(Y15,Y19) -> 0 | Z14: =Y14/$I14 -> 0 | AA14: =SUM(AA15,AA19) -> 0 | AB14: =AA14/$I14 -> 0 | AC14: =SUM(AC15,AC19) -> 0 | AD14: =AC14/$I14 -> 0 | AE14: =SUM(AE15,AE19) -> 0 | AF14: =AE14/$I14 -> 0 | AG14: =SUM(AG15,AG19) -> 0 | AH14: =AG14/$I14 -> 0 | AI14: =SUM(AG14,AE14,AC14,AA14,Y14,W14,U14,S14,Q14,O14,M14,K14) -> 29 | AJ14: =AI14/I14 -> 0.49152542 | AM14: =SUM(K14,M14,O14) -> 22 | AN14: =SUM(Q14,S14,U14) -> 7 | AO14: =SUM(W14,Y14,AA14) -> 0 | AP14: =SUM(AC14,AE14,AG14) -> 0
A15: 4 | B15: 02 | C15: 1 | D15: 2.01 | F15: Perencanaan, Penganggaran, dan Evaluasi Kinerja Perangkat Daerah | G15: Jumlah dokumen perencanaan, penganggaran dan evaluasi kinerja perangkat daerah yang tersusun | H15: Jumlah dokumen perencanaan, penganggaran dan evaluasi kinerja perangkat daerah yang tersusun | I15: =SUM(I16:I18) -> 29 | J15: Dokumen | K15: =SUM(K16:K18) -> 9 | L15: =K15/$I15 -> 0.31034483 | M15: =SUM(M16:M18) -> 1 | N15: =M15/$I15 -> 0.034482759 | O15: =SUM(O16:O18) -> 1 | P15: =O15/$I15 -> 0.034482759 | Q15: =SUM(Q16:Q18) -> 2 | R15: =Q15/$I15 -> 0.068965517 | S15: =SUM(S16:S18) -> 1 | T15: =S15/$I15 -> 0.034482759 | U15: =SUM(U16:U18) -> 0 | V15: =U15/$I15 -> 0 | W15: =SUM(W16:W18) -> 0 | X15: =W15/$I15 -> 0 | Y15: =SUM(Y16:Y18) -> 0 | Z15: =Y15/$I15 -> 0 | AA15: =SUM(AA16:AA18) -> 0 | AB15: =AA15/$I15 -> 0 | AC15: =SUM(AC16:AC18) -> 0 | AD15: =AC15/$I15 -> 0 | AE15: =SUM(AE16:AE18) -> 0 | AF15: =AE15/$I15 -> 0 | AG15: =SUM(AG16:AG18) -> 0 | AH15: =AG15/$I15 -> 0 | AI15: =SUM(AG15,AE15,AC15,AA15,Y15,W15,U15,S15,Q15,O15,M15,K15) -> 14 | AJ15: =AI15/I15 -> 0.48275862 | AM15: =SUM(K15,M15,O15) -> 11 | AN15: =SUM(Q15,S15,U15) -> 3 | AO15: =SUM(W15,Y15,AA15) -> 0 | AP15: =SUM(AC15,AE15,AG15) -> 0
A16: 4 | B16: 02 | C16: 1 | D16: 2.01 | E16: 01 | F16: Penyusunan Dokumen Perencanaan Perangkat Daerah | G16: Jumlah dokumen perencanaan Perangkat Daerah | H16: Jumlah dokumen perencanaan Perangkat Daerah | I16: 8 | J16: Dokumen | K16: =[1]KEUANGAN!V7 -> 3 | L16: =K16/$I16 -> 0.375 | M16: =[1]KEUANGAN!W7 -> 0 | N16: =M16/$I16 -> 0 | O16: =[1]KEUANGAN!X7 -> 0 | P16: =O16/$I16 -> 0 | Q16: =[1]KEUANGAN!$Y$7 -> 0 | R16: =Q16/$I16 -> 0 | S16: =[1]KEUANGAN!$Z$7 -> 0 | T16: =S16/$I16 -> 0 | U16: =[1]KEUANGAN!$AA7 -> 0 | V16: =U16/$I16 -> 0 | W16: =[1]KEUANGAN!$AB$7 -> 0 | X16: =W16/$I16 -> 0 | Y16: =[1]KEUANGAN!$AC$7 -> 0 | Z16: =Y16/$I16 -> 0 | AA16: =[1]KEUANGAN!$AD$7 -> 0 | AB16: =AA16/$I16 -> 0 | AC16: =[1]KEUANGAN!$AE$7 -> 0 | AD16: =AC16/$I16 -> 0 | AE16: =[1]KEUANGAN!$AF$7 -> 0 | AF16: =AE16/$I16 -> 0 | AG16: =[1]KEUANGAN!$AG$7 -> 0 | AH16: =AG16/$I16 -> 0 | AI16: =SUM(AG16,AE16,AC16,AA16,Y16,W16,U16,S16,Q16,O16,M16,K16) -> 3 | AJ16: =AI16/I16 -> 0.375 | AK16: Dokumen perencanaan | AM16: =SUM(K16,M16,O16) -> 3 | AN16: =SUM(Q16,S16,U16) -> 0 | AO16: =SUM(W16,Y16,AA16) -> 0 | AP16: =SUM(AC16,AE16,AG16) -> 0
A17: 4 | B17: 02 | C17: 1 | D17: 2.01 | E17: 06 | F17: Koordinasi dan Penyusunan Laporan Capaian Kinerja dan Ikhtisar Realisasi Kinerja SKPD | G17: Jumlah Laporan Capaian Kinerja dan Ikhtisar Realisasi Kinerja SKPD dan Laporan Hasil Koordinasi Penyusunan Laporan Capaian Kinerja dan Ikhtisar Realisasi Kinerja SKPD | H17: Jumlah Laporan Capaian Kinerja dan Ikhtisar Realisasi Kinerja SKPD dan Laporan Hasil Koordinasi Penyusunan Laporan Capaian Kinerja dan Ikhtisar Realisasi Kinerja SKPD | I17: 17 | J17: Laporan | K17: =[1]KEUANGAN!V8 -> 3 | L17: =K17/$I17 -> 0.17647059 | M17: =[1]KEUANGAN!W8 -> 1 | N17: =M17/$I17 -> 0.058823529 | O17: =[1]KEUANGAN!X8 -> 1 | P17: =O17/$I17 -> 0.058823529 | Q17: =[1]KEUANGAN!$Y$8 -> 2 | R17: =Q17/$I17 -> 0.11764706 | S17: =[1]KEUANGAN!Z$8 -> 1 | T17: =S17/$I17 -> 0.058823529 | U17: =[1]KEUANGAN!$AA$8 -> 0 | V17: =U17/$I17 -> 0 | W17: =[1]KEUANGAN!$AB$8 -> 0 | X17: =W17/$I17 -> 0 | Y17: =[1]KEUANGAN!$AC$8 -> 0 | Z17: =Y17/$I17 -> 0 | AA17: =[1]KEUANGAN!$AD$8 -> 0 | AB17: =AA17/$I17 -> 0 | AC17: =[1]KEUANGAN!$AE$8 -> 0 | AD17: =AC17/$I17 -> 0 | AE17: =[1]KEUANGAN!$AF$8 -> 0 | AF17: =AE17/$I17 -> 0 | AG17: =[1]KEUANGAN!$AG$8 -> 0 | AH17: =AG17/$I17 -> 0 | AI17: =SUM(AG17,AE17,AC17,AA17,Y17,W17,U17,S17,Q17,O17,M17,K17) -> 8 | AJ17: =AI17/I17 -> 0.47058824 | AK17: Laporan capaian kinerja | AM17: =SUM(K17,M17,O17) -> 5 | AN17: =SUM(Q17,S17,U17) -> 3 | AO17: =SUM(W17,Y17,AA17) -> 0 | AP17: =SUM(AC17,AE17,AG17) -> 0
A18: 4 | B18: 02 | C18: 1 | D18: 2.01 | E18: 07 | F18: Evaluasi Kinerja Perangkat Daerah | G18: Jumlah Laporan Evaluasi Kinerja Perangkat Daerah | H18: Jumlah Laporan Evaluasi Kinerja Perangkat Daerah | I18: 4 | J18: Laporan | K18: =[1]KEUANGAN!V9 -> 3 | L18: =K18/$I18 -> 0.75 | M18: =[1]KEUANGAN!W9 -> 0 | N18: =M18/$I18 -> 0 | O18: =[1]KEUANGAN!X9 -> 0 | P18: =O18/$I18 -> 0 | Q18: =[1]KEUANGAN!$Y$9 -> 0 | R18: =Q18/$I18 -> 0 | S18: =[1]KEUANGAN!$Z$9 -> 0 | T18: =S18/$I18 -> 0 | U18: =[1]KEUANGAN!$AA$9 -> 0 | V18: =U18/$I18 -> 0 | W18: =[1]KEUANGAN!$AB$9 -> 0 | X18: =W18/$I18 -> 0 | Y18: =[1]KEUANGAN!$AC$9 -> 0 | Z18: =Y18/$I18 -> 0 | AA18: =[1]KEUANGAN!$AD$9 -> 0 | AB18: =AA18/$I18 -> 0 | AC18: =[1]KEUANGAN!$AE$9 -> 0 | AD18: =AC18/$I18 -> 0 | AE18: =[1]KEUANGAN!$AF$9 -> 0 | AF18: =AE18/$I18 -> 0 | AG18: =[1]KEUANGAN!$AG$9 -> 0 | AH18: =AG18/$I18 -> 0 | AI18: =SUM(AG18,AE18,AC18,AA18,Y18,W18,U18,S18,Q18,O18,M18,K18) -> 3 | AJ18: =AI18/I18 -> 0.75 | AK18: Laporan evaluasi kinerja | AM18: =SUM(K18,M18,O18) -> 3 | AN18: =SUM(Q18,S18,U18) -> 0 | AO18: =SUM(W18,Y18,AA18) -> 0 | AP18: =SUM(AC18,AE18,AG18) -> 0
A19: 4 | B19: 02 | C19: 1 | D19: 2.02 | F19: Administrasi Keuangan Perangkat Daerah | G19: Jumlah dokumen administrasi keuangan Perangkat Daerah yang dipenuhi | H19: Jumlah dokumen administrasi keuangan Perangkat Daerah yang dipenuhi | I19: =SUM(I21:I22,I24) -> 30 | J19: Dokumen | K19: =SUM(K21:K22,K24) -> 2 | L19: =K19/$I19 -> 0.066666667 | M19: =SUM(M21:M22,M24) -> 2 | N19: =M19/$I19 -> 0.066666667 | O19: =SUM(O21:O22,O24) -> 7 | P19: =O19/$I19 -> 0.23333333 | Q19: =SUM(Q21:Q22,Q24) -> 2 | R19: =Q19/$I19 -> 0.066666667 | S19: =SUM(S21:S22,S24) -> 2 | T19: =S19/$I19 -> 0.066666667 | U19: =SUM(U21:U22,U24) -> 0 | V19: =U19/$I19 -> 0 | W19: =SUM(W21:W22,W24) -> 0 | X19: =W19/$I19 -> 0 | Y19: =SUM(Y21:Y22,Y24) -> 0 | Z19: =Y19/$I19 -> 0 | AA19: =SUM(AA21:AA22,AA24) -> 0 | AB19: =AA19/$I19 -> 0 | AC19: =SUM(AC21:AC22,AC24) -> 0 | AD19: =AC19/$I19 -> 0 | AE19: =SUM(AE21:AE22,AE24) -> 0 | AF19: =AE19/$I19 -> 0 | AG19: =SUM(AG21:AG22,AG24) -> 0 | AH19: =AG19/$I19 -> 0 | AI19: =SUM(AI21:AI22,AI24) -> 15 | AJ19: =AI19/I19 -> 0.5 | AM19: =SUM(K19,M19,O19) -> 11 | AN19: =SUM(Q19,S19,U19) -> 4 | AO19: =SUM(W19,Y19,AA19) -> 0 | AP19: =SUM(AC19,AE19,AG19) -> 0
A20: 4 | B20: 02 | C20: 1 | D20: 2.02 | E20: 01 | F20: Penyediaan Gaji dan Tunjangan ASN | G20: Jumlah Orang yang Menerima Gaji dan Tunjangan ASN | H20: Jumlah Orang yang Menerima Gaji dan Tunjangan ASN | I20: 30 | J20: Orang/bulan | K20: =[1]KEUANGAN!$V10 -> 46 | L20: =K20/$I20 -> 1.5333333 | M20: =[1]KEUANGAN!$W$10 -> 46 | N20: =M20/$I20 -> 1.5333333 | O20: =[1]KEUANGAN!$X$10 -> 46 | P20: =O20/$I20 -> 1.5333333 | Q20: =[1]KEUANGAN!$Y$10 -> 46 | R20: =Q20/$I20 -> 1.5333333 | S20: =[1]KEUANGAN!$Z$10 -> 46 | T20: =S20/$I20 -> 1.5333333 | U20: =[1]KEUANGAN!$AA$10 -> 0 | V20: =U20/$I20 -> 0 | W20: =[1]KEUANGAN!$AB$10 -> 0 | X20: =W20/$I20 -> 0 | Y20: =[1]KEUANGAN!$AC$10 -> 0 | Z20: =Y20/$I20 -> 0 | AA20: =[1]KEUANGAN!$AD$10 -> 0 | AB20: =AA20/$I20 -> 0 | AC20: =[1]KEUANGAN!$AE$10 -> 0 | AD20: =AC20/$I20 -> 0 | AE20: =[1]KEUANGAN!$AF$10 -> 0 | AF20: =AE20/$I20 -> 0 | AG20: =[1]KEUANGAN!$AG$10 -> 0 | AH20: =AG20/$I20 -> 0 | AI20: =LOOKUP(2,1/((K20:AH20<>"")*(K20:AH20>=2)),K20:AH20) -> 46 | AJ20: =AI20/I20 -> 1.5333333 | AK20: Gaji ASN | AM20: 46 | AN20: =SUM(Q20,S20,U20) -> 92 | AO20: =SUM(W20,Y20,AA20) -> 0 | AP20: =SUM(AC20,AE20,AG20) -> 0
A21: 4 | B21: 02 | C21: 1 | D21: 2.02 | E21: 03 | F21: Pelaksanaan Penatausahaan dan Pengujian/Verifikasi Keuangan SKPD | G21: Jumlah Dokumen Penatausahaan dan Pengujian/Verifikasi Keuangan SKPD | H21: Jumlah Dokumen Penatausahaan dan Pengujian/Verifikasi Keuangan SKPD | I21: 24 | J21: Dokumen | K21: =[1]KEUANGAN!$V11 -> 2 | L21: =K21/$I21 -> 0.083333333 | M21: =[1]KEUANGAN!$W$11 -> 2 | N21: =M21/$I21 -> 0.083333333 | O21: =[1]KEUANGAN!$X$11 -> 2 | P21: =O21/$I21 -> 0.083333333 | Q21: =[1]KEUANGAN!$Y$11 -> 2 | R21: =Q21/$I21 -> 0.083333333 | S21: =[1]KEUANGAN!$Z$11 -> 2 | T21: =S21/$I21 -> 0.083333333 | U21: =[1]KEUANGAN!$AA$11 -> 0 | V21: =U21/$I21 -> 0 | W21: =[1]KEUANGAN!$AB$11 -> 0 | X21: =W21/$I21 -> 0 | Y21: =[1]KEUANGAN!$AC$11 -> 0 | Z21: =Y21/$I21 -> 0 | AA21: =[1]KEUANGAN!$AD$11 -> 0 | AB21: =AA21/$I21 -> 0 | AC21: =[1]KEUANGAN!$AE$11 -> 0 | AD21: =AC21/$I21 -> 0 | AE21: =[1]KEUANGAN!$AF$11 -> 0 | AF21: =AE21/$I21 -> 0 | AG21: =[1]KEUANGAN!$AG$11 -> 0 | AH21: =AG21/$I21 -> 0 | AI21: =SUM(AG21,AE21,AC21,AA21,Y21,W21,U21,S21,Q21,O21,M21,K21) -> 10 | AJ21: =AI21/I21 -> 0.41666667 | AK21: Dokumen penatausahaan | AM21: =SUM(K21,M21,O21) -> 6 | AN21: =SUM(Q21,S21,U21) -> 4 | AO21: =SUM(W21,Y21,AA21) -> 0 | AP21: =SUM(AC21,AE21,AG21) -> 0
A22: 4 | B22: 02 | C22: 1 | D22: 2.02 | E22: 05 | F22: Koordinasi dan Penyusunan Laporan Keuangan Akhir Tahun SKPD | G22: Jumlah Laporan Keuangan Akhir Tahun SKPD dan Laporan Hasil Koordinasi Penyusunan Laporan Keuangan Akhir Tahun SKPD | H22: Jumlah Laporan Keuangan Akhir Tahun SKPD dan Laporan Hasil Koordinasi Penyusunan Laporan Keuangan Akhir Tahun SKPD | I22: 5 | J22: Laporan | K22: =[1]KEUANGAN!$V$12 -> 0 | L22: =K22/$I22 -> 0 | M22: =[1]KEUANGAN!$W$12 -> 0 | N22: =M22/$I22 -> 0 | O22: =[1]KEUANGAN!$X$12 -> 5 | P22: =O22/$I22 -> 1 | Q22: =[1]KEUANGAN!$Y$12 -> 0 | R22: =Q22/$I22 -> 0 | S22: =[1]KEUANGAN!$Z$12 -> 0 | T22: =S22/$I22 -> 0 | U22: =[1]KEUANGAN!$AA$12 -> 0 | V22: =U22/$I22 -> 0 | W22: =[1]KEUANGAN!$AB$12 -> 0 | X22: =W22/$I22 -> 0 | Y22: =[1]KEUANGAN!$AC$12 -> 0 | Z22: =Y22/$I22 -> 0 | AA22: =[1]KEUANGAN!$AD$12 -> 0 | AB22: =AA22/$I22 -> 0 | AC22: =[1]KEUANGAN!$AE$12 -> 0 | AD22: =AC22/$I22 -> 0 | AE22: =[1]KEUANGAN!$AF$12 -> 0 | AF22: =AE22/$I22 -> 0 | AG22: =[1]KEUANGAN!$AG$12 -> 0 | AH22: =AG22/$I22 -> 0 | AI22: =SUM(AG22,AE22,AC22,AA22,Y22,W22,U22,S22,Q22,O22,M22,K22) -> 5 | AJ22: =AI22/I22 -> 1 | AK22: LK akhir tahun | AM22: =SUM(K22,M22,O22) -> 5 | AN22: =SUM(Q22,S22,U22) -> 0 | AO22: =SUM(W22,Y22,AA22) -> 0 | AP22: =SUM(AC22,AE22,AG22) -> 0
A23: 4 | B23: 02 | C23: 1 | D23: 2.02 | E23: 07 | F23: Koordinasi dan Penyusunan Laporan Keuangan Bulanan/Triwulanan/Semesteran SKPD | G23: Jumlah Laporan Keuangan Bulanan/ Triwulanan/ Semesteran SKPD dan Laporan Koordinasi Penyusunan Laporan Keuangan Bulanan/Triwulanan/Semesteran SKPD | H23: Jumlah Laporan Keuangan Bulanan/ Triwulanan/ Semesteran SKPD dan Laporan Koordinasi Penyusunan Laporan Keuangan Bulanan/Triwulanan/Semesteran SKPD | I23: 9 | J23: Laporan | K23: =[1]KEUANGAN!$V$13 -> 9 | L23: =K23/$I23 -> 1 | M23: =[1]KEUANGAN!$W$13 -> 9 | N23: =M23/$I23 -> 1 | O23: =[1]KEUANGAN!$X$13 -> 9 | P23: =O23/$I23 -> 1 | Q23: =[1]KEUANGAN!$Y$13 -> 9 | R23: =Q23/$I23 -> 1 | S23: =[1]KEUANGAN!$Z$13 -> 9 | T23: =S23/$I23 -> 1 | U23: =[1]KEUANGAN!$AA$13 -> 0 | V23: =U23/$I23 -> 0 | W23: =[1]KEUANGAN!$AB$13 -> 0 | X23: =W23/$I23 -> 0 | Y23: =[1]KEUANGAN!$AC$13 -> 0 | Z23: =Y23/$I23 -> 0 | AA23: =[1]KEUANGAN!$AD$13 -> 0 | AB23: =AA23/$I23 -> 0 | AC23: =[1]KEUANGAN!$AE$13 -> 0 | AD23: =AC23/$I23 -> 0 | AE23: =[1]KEUANGAN!$AF$13 -> 0 | AF23: =AE23/$I23 -> 0 | AG23: =[1]KEUANGAN!$AG$13 -> 0 | AH23: =AG23/$I23 -> 0 | AI23: =LOOKUP(2,1/((K23:AH23<>"")*(K23:AH23>=2)),K23:AH23) -> 9 | AJ23: =AI23/I23 -> 1 | AK23: Penyusunan LK bulanan | AM23: 9 | AN23: =SUM(Q23,S23,U23) -> 18 | AO23: =SUM(W23,Y23,AA23) -> 0 | AP23: =SUM(AC23,AE23,AG23) -> 0
A24: 4 | B24: 02 | C24: 1 | D24: 2.02 | E24: 08 | F24: Penyusunan Pelaporan dan Analisis Prognosis Realisasi Anggaran | G24: Jumlah Dokumen Pelaporan dan Analisis Prognosis Realisasi Anggaran | H24: Jumlah Dokumen Pelaporan dan Analisis Prognosis Realisasi Anggaran | I24: 1 | J24: Dokumen | K24: =[1]KEUANGAN!$V$14 -> 0 | L24: =K24/$I24 -> 0 | M24: =[1]KEUANGAN!$W$14 -> 0 | N24: =M24/$I24 -> 0 | O24: =[1]KEUANGAN!$X$14 -> 0 | P24: =O24/$I24 -> 0 | Q24: =[1]KEUANGAN!$Y$14 -> 0 | R24: =Q24/$I24 -> 0 | S24: =[1]KEUANGAN!$Z$14 -> 0 | T24: =S24/$I24 -> 0 | U24: =[1]KEUANGAN!$AA$14 -> 0 | V24: =U24/$I24 -> 0 | W24: =[1]KEUANGAN!$AB$14 -> 0 | X24: =W24/$I24 -> 0 | Y24: =[1]KEUANGAN!$AC$14 -> 0 | Z24: =Y24/$I24 -> 0 | AA24: =[1]KEUANGAN!$AD$14 -> 0 | AB24: =AA24/$I24 -> 0 | AC24: =[1]KEUANGAN!$AE$14 -> 0 | AD24: =AC24/$I24 -> 0 | AE24: =[1]KEUANGAN!$AF$14 -> 0 | AF24: =AE24/$I24 -> 0 | AG24: =[1]KEUANGAN!$AG$14 -> 0 | AH24: =AG24/$I24 -> 0 | AI24: =SUM(AG24,AE24,AC24,AA24,Y24,W24,U24,S24,Q24,O24,M24,K24) -> 0 | AJ24: =AI24/I24 -> 0 | AK24: Dokumen laporan prognosis | AM24: =SUM(K24,M24,O24) -> 0 | AN24: =SUM(Q24,S24,U24) -> 0 | AO24: =SUM(W24,Y24,AA24) -> 0 | AP24: =SUM(AC24,AE24,AG24) -> 0
A25: Terselenggaranya layanan administrasi kesekretariatan | G25: Jumlah dokumen hasil penyelenggaraan layanan administrasi kesekretariatan | H25: Jumlah dokumen hasil penyelenggaraan layanan administrasi kesekretariatan | I25: =SUM(I26,I30,I39,I43) -> 850 | J25: Kegiatan | K25: =SUM(K26,K30,K39,K43) -> 75 | L25: =K25/$I25 -> 0.088235294 | M25: =SUM(M26,M30,M39,M43) -> 82 | N25: =M25/$I25 -> 0.096470588 | O25: =SUM(O26,O30,O39,O43) -> 89 | P25: =O25/$I25 -> 0.10470588 | Q25: =SUM(Q26,Q30,Q39,Q43) -> 98 | R25: =Q25/$I25 -> 0.11529412 | S25: =SUM(S26,S30,S39,S43) -> 71 | T25: =S25/$I25 -> 0.083529412 | U25: =SUM(U26,U30,U39,U43) -> 0 | V25: =U25/$I25 -> 0 | W25: =SUM(W26,W30,W39,W43) -> 0 | X25: =W25/$I25 -> 0 | Y25: =SUM(Y26,Y30,Y39,Y43) -> 0 | Z25: =Y25/$I25 -> 0 | AA25: =SUM(AA26,AA30,AA39,AA43) -> 0 | AB25: =AA25/$I25 -> 0 | AC25: =SUM(AC26,AC30,AC39,AC43) -> 0 | AD25: =AC25/$I25 -> 0 | AE25: =SUM(AE26,AE30,AE39,AE43) -> 0 | AF25: =AE25/$I25 -> 0 | AG25: =SUM(AG26,AG30,AG39,AG43) -> 0 | AH25: =AG25/$I25 -> 0 | AI25: =SUM(AG25,AE25,AC25,AA25,Y25,W25,U25,S25,Q25,O25,M25,K25) -> 415 | AJ25: =AI25/I25 -> 0.48823529 | AM25: =SUM(K25,M25,O25) -> 246 | AN25: =SUM(Q25,S25,U25) -> 169 | AO25: =SUM(W25,Y25,AA25) -> 0 | AP25: =SUM(AC25,AE25,AG25) -> 0
A26: 4 | B26: 02 | C26: 1 | D26: 2.05 | F26: Administrasi Kepegawaian Perangkat Daerah | G26: Jumlah dokumen Administrasi Kepegawaian Perangkat Daerah yang terpenuhi | H26: Jumlah dokumen Administrasi Kepegawaian Perangkat Daerah yang terpenuhi | I26: =SUM(I27:I29) -> 183 | J26: Dokumen | K26: =SUM(K27:K29) -> 4 | L26: =K26/$I26 -> 0.021857923 | M26: =SUM(M27:M29) -> 2 | N26: =M26/$I26 -> 0.010928962 | O26: =SUM(O27:O29) -> 0 | P26: =O26/$I26 -> 0 | Q26: =SUM(Q27:Q29) -> 3 | R26: =Q26/$I26 -> 0.016393443 | S26: =SUM(S27:S29) -> 2 | T26: =S26/$I26 -> 0.010928962 | U26: =SUM(U27:U29) -> 0 | V26: =U26/$I26 -> 0 | W26: =SUM(W27:W29) -> 0 | X26: =W26/$I26 -> 0 | Y26: =SUM(Y27:Y29) -> 0 | Z26: =Y26/$I26 -> 0 | AA26: =SUM(AA27:AA29) -> 0 | AB26: =AA26/$I26 -> 0 | AC26: =SUM(AC27:AC29) -> 0 | AD26: =AC26/$I26 -> 0 | AE26: =SUM(AE27:AE29) -> 0 | AF26: =AE26/$I26 -> 0 | AG26: =SUM(AG27:AG29) -> 0 | AH26: =AG26/$I26 -> 0 | AI26: =SUM(AG26,AE26,AC26,AA26,Y26,W26,U26,S26,Q26,O26,M26,K26) -> 11 | AJ26: =AI26/I26 -> 0.06010929 | AM26: =SUM(K26,M26,O26) -> 6 | AN26: =SUM(Q26,S26,U26) -> 5 | AO26: =SUM(W26,Y26,AA26) -> 0 | AP26: =SUM(AC26,AE26,AG26) -> 0
A27: 4 | B27: 02 | C27: 1 | D27: 2.05 | E27: 03 | F27: Pendataan dan Pengolahan Administrasi Kepegawaian | G27: Jumlah Dokumen Pendataan dan Pengolahan Administrasi Kepegawaian | H27: Jumlah Dokumen Pendataan dan Pengolahan Administrasi Kepegawaian | I27: 17 | J27: Dokumen | K27: =[1]TU!$V$7 -> 4 | L27: =K27/$I27 -> 0.23529412 | M27: =[1]TU!$W$7 -> 2 | N27: =M27/$I27 -> 0.11764706 | O27: =[1]TU!$X$7 -> 0 | P27: =O27/$I27 -> 0 | Q27: =[1]TU!$Y$7 -> 2 | R27: =Q27/$I27 -> 0.11764706 | S27: =[1]TU!$Z$7 -> 2 | T27: =S27/$I27 -> 0.11764706 | U27: =[1]TU!$AA$7 -> 0 | V27: =U27/$I27 -> 0 | W27: =[1]TU!$AB$7 -> 0 | X27: =W27/$I27 -> 0 | Y27: =[1]TU!$AC$7 -> 0 | Z27: =Y27/$I27 -> 0 | AA27: =[1]TU!$AD$7 -> 0 | AB27: =AA27/$I27 -> 0 | AC27: =[1]TU!$AE$7 -> 0 | AD27: =AC27/$I27 -> 0 | AE27: =[1]TU!$AF$7 -> 0 | AF27: =AE27/$I27 -> 0 | AG27: =[1]TU!$AG$7 -> 0 | AH27: =AG27/$I27 -> 0 | AI27: =SUM(AG27,AE27,AC27,AA27,Y27,W27,U27,S27,Q27,O27,M27,K27) -> 10 | AJ27: =AI27/I27 -> 0.58823529 | AK27: Dokumen adm kepegawaian | AM27: =SUM(K27,M27,O27) -> 6 | AN27: =SUM(Q27,S27,U27) -> 4 | AO27: =SUM(W27,Y27,AA27) -> 0 | AP27: =SUM(AC27,AE27,AG27) -> 0
A28: 4 | B28: 02 | C28: 1 | D28: 2.05 | E28: 09 | F28: Pendidikan dan Pelatihan Pegawai Berdasarkan Tugas dan Fungsi | G28: Jumlah Pegawai Berdasarkan Tugas dan Fungsi yang Mengikuti Pendidikan dan Pelatihan | H28: Jumlah Pegawai Berdasarkan Tugas dan Fungsi yang Mengikuti Pendidikan dan Pelatihan | I28: 151 | J28: Orang | K28: =[1]TU!$V$8 -> 0 | L28: =K28/$I28 -> 0 | M28: =[1]TU!$W$8 -> 0 | N28: =M28/$I28 -> 0 | O28: =[1]TU!$X$8 -> 0 | P28: =O28/$I28 -> 0 | Q28: =[1]TU!$Y$8 -> 1 | R28: =Q28/$I28 -> 0.0066225166 | S28: =[1]TU!$Z$8 -> 0 | T28: =S28/$I28 -> 0 | U28: =[1]TU!$AA$8 -> 0 | V28: =U28/$I28 -> 0 | W28: =[1]TU!$AB$8 -> 0 | X28: =W28/$I28 -> 0 | Y28: =[1]TU!$AC$8 -> 0 | Z28: =Y28/$I28 -> 0 | AA28: =[1]TU!$AD$8 -> 0 | AB28: =AA28/$I28 -> 0 | AC28: =[1]TU!$AE$8 -> 0 | AD28: =AC28/$I28 -> 0 | AE28: =[1]TU!$AF$8 -> 0 | AF28: =AE28/$I28 -> 0 | AG28: =[1]TU!$AG$8 -> 0 | AH28: =AG28/$I28 -> 0 | AI28: =SUM(AG28,AE28,AC28,AA28,Y28,W28,U28,S28,Q28,O28,M28,K28) -> 1 | AJ28: =AI28/I28 -> 0.0066225166 | AK28: Pegawai mengikuti diklat | AM28: =SUM(K28,M28,O28) -> 0 | AN28: =SUM(Q28,S28,U28) -> 1 | AO28: =SUM(W28,Y28,AA28) -> 0 | AP28: =SUM(AC28,AE28,AG28) -> 0
A29: 4 | B29: 02 | C29: 1 | D29: 2.05 | E29: 11 | F29: Bimbingan Teknis Implementasi Peraturan Perundang-Undangan | G29: Jumlah Orang yang Mengikuti Bimbingan Teknis Implementasi Peraturan Perundang-Undangan | H29: Jumlah Orang yang Mengikuti Bimbingan Teknis Implementasi Peraturan Perundang-Undangan | I29: 15 | J29: Orang | K29: =[1]TU!$V$9 -> 0 | L29: =K29/$I29 -> 0 | M29: =[1]TU!$W$9 -> 0 | N29: =M29/$I29 -> 0 | O29: =[1]TU!$X$9 -> 0 | P29: =O29/$I29 -> 0 | Q29: =[1]TU!$Y$9 -> 0 | R29: =Q29/$I29 -> 0 | S29: =[1]TU!$Z$9 -> 0 | T29: =S29/$I29 -> 0 | U29: =[1]TU!$AA$9 -> 0 | V29: =U29/$I29 -> 0 | W29: =[1]TU!$AB$9 -> 0 | X29: =W29/$I29 -> 0 | Y29: =[1]TU!$AC$9 -> 0 | Z29: =Y29/$I29 -> 0 | AA29: =[1]TU!$AD$9 -> 0 | AB29: =AA29/$I29 -> 0 | AC29: =[1]TU!$AE$9 -> 0 | AD29: =AC29/$I29 -> 0 | AE29: =[1]TU!$AF$9 -> 0 | AF29: =AE29/$I29 -> 0 | AG29: =[1]TU!$AG$9 -> 0 | AH29: =AG29/$I29 -> 0 | AI29: =SUM(AG29,AE29,AC29,AA29,Y29,W29,U29,S29,Q29,O29,M29,K29) -> 0 | AJ29: =AI29/I29 -> 0 | AK29: Pegawai mengikuti bimtek | AM29: =SUM(K29,M29,O29) -> 0 | AN29: =SUM(Q29,S29,U29) -> 0 | AO29: =SUM(W29,Y29,AA29) -> 0 | AP29: =SUM(AC29,AE29,AG29) -> 0
A30: 4 | B30: 02 | C30: 1 | D30: 2.06 | F30: Administrasi Umum Perangkat Daerah | G30: Jumlah administrasi umum Perangkat Daerah yang disediakan | H30: Jumlah administrasi umum Perangkat Daerah yang disediakan | I30: =SUM(I31:I38) -> 457 | J30: Dokumen | K30: =SUM(K31:K38) -> 55 | L30: =K30/$I30 -> 0.12035011 | M30: =SUM(M31:M38) -> 46 | N30: =M30/$I30 -> 0.10065646 | O30: =SUM(O31:O38) -> 62 | P30: =O30/$I30 -> 0.1356674 | Q30: =SUM(Q31:Q38) -> 64 | R30: =Q30/$I30 -> 0.14004376 | S30: =SUM(S31:S38) -> 49 | T30: =S30/$I30 -> 0.10722101 | U30: =SUM(U31:U38) -> 0 | V30: =U30/$I30 -> 0 | W30: =SUM(W31:W38) -> 0 | X30: =W30/$I30 -> 0 | Y30: =SUM(Y31:Y38) -> 0 | Z30: =Y30/$I30 -> 0 | AA30: =SUM(AA31:AA38) -> 0 | AB30: =AA30/$I30 -> 0 | AC30: =SUM(AC31:AC38) -> 0 | AD30: =AC30/$I30 -> 0 | AE30: =SUM(AE31:AE38) -> 0 | AF30: =AE30/$I30 -> 0 | AG30: =SUM(AG31:AG38) -> 0 | AH30: =AG30/$I30 -> 0 | AI30: =SUM(AG30,AE30,AC30,AA30,Y30,W30,U30,S30,Q30,O30,M30,K30) -> 276 | AJ30: =AI30/I30 -> 0.60393873 | AM30: =SUM(K30,M30,O30) -> 163 | AN30: =SUM(Q30,S30,U30) -> 113 | AO30: =SUM(W30,Y30,AA30) -> 0 | AP30: =SUM(AC30,AE30,AG30) -> 0
A31: 4 | B31: 02 | C31: 1 | D31: 2.06 | E31: 01 | F31: Penyediaan Komponen Instalasi Listrik/Penerangan Bangunan Kantor | G31: Jumlah Paket Komponen Instalasi Listrik/Penerangan Bangunan Kantor yang disediakan | H31: Jumlah Paket Komponen Instalasi Listrik/Penerangan Bangunan Kantor yang disediakan | I31: 1 | J31: Paket | K31: =[1]RT!$V$7 -> 0 | L31: =K31/$I31 -> 0 | M31: =[1]RT!$W$7 -> 0 | N31: =M31/$I31 -> 0 | O31: =[1]RT!$X$7 -> 0 | P31: =O31/$I31 -> 0 | Q31: =[1]RT!$Y$7 -> 0 | R31: =Q31/$I31 -> 0 | S31: =[1]RT!$Z$7 -> 0 | T31: =S31/$I31 -> 0 | U31: =[1]RT!$AA$7 -> 0 | V31: =U31/$I31 -> 0 | W31: =[1]RT!$AB$7 -> 0 | X31: =W31/$I31 -> 0 | Y31: =[1]RT!$AC$7 -> 0 | Z31: =Y31/$I31 -> 0 | AA31: =[1]RT!$AD$7 -> 0 | AB31: =AA31/$I31 -> 0 | AC31: =[1]RT!$AE$7 -> 0 | AD31: =AC31/$I31 -> 0 | AE31: =[1]RT!$AF$7 -> 0 | AF31: =AE31/$I31 -> 0 | AG31: =[1]RT!$AG$7 -> 0 | AH31: =AG31/$I31 -> 0 | AI31: =SUM(AG31,AE31,AC31,AA31,Y31,W31,U31,S31,Q31,O31,M31,K31) -> 0 | AJ31: =AI31/I31 -> 0 | AK31: Paket komponen instalasi listrik | AM31: =SUM(K31,M31,O31) -> 0 | AN31: =SUM(Q31,S31,U31) -> 0 | AO31: =SUM(W31,Y31,AA31) -> 0 | AP31: =SUM(AC31,AE31,AG31) -> 0
A32: 4 | B32: 02 | C32: 1 | D32: 2.06 | E32: 02 | F32: Penyediaan Peralatan dan Perlengkapan Kantor | G32: Jumlah Paket Peralatan dan Perlengkapan Kantor yang disediakan | H32: Jumlah Paket Peralatan dan Perlengkapan Kantor yang disediakan | I32: 3 | J32: Paket | K32: =[1]RT!$V$8 -> 0 | L32: =K32/$I32 -> 0 | M32: =[1]RT!$W$8 -> 1 | N32: =M32/$I32 -> 0.33333333 | O32: =[1]RT!$X$8 -> 2 | P32: =O32/$I32 -> 0.66666667 | Q32: =[1]RT!$Y$8 -> 0 | R32: =Q32/$I32 -> 0 | S32: =[1]RT!$Z$8 -> 0 | T32: =S32/$I32 -> 0 | U32: =[1]RT!$AA$8 -> 0 | V32: =U32/$I32 -> 0 | W32: =[1]RT!$AB$8 -> 0 | X32: =W32/$I32 -> 0 | Y32: =[1]RT!$AC$8 -> 0 | Z32: =Y32/$I32 -> 0 | AA32: =[1]RT!$AD$8 -> 0 | AB32: =AA32/$I32 -> 0 | AC32: =[1]RT!$AE$8 -> 0 | AD32: =AC32/$I32 -> 0 | AE32: =[1]RT!$AF$8 -> 0 | AF32: =AE32/$I32 -> 0 | AG32: =[1]RT!$AG$8 -> 0 | AH32: =AG32/$I32 -> 0 | AI32: =SUM(AG32,AE32,AC32,AA32,Y32,W32,U32,S32,Q32,O32,M32,K32) -> 3 | AJ32: =AI32/I32 -> 1 | AK32: Paket peralatan kantor | AM32: =SUM(K32,M32,O32) -> 3 | AN32: =SUM(Q32,S32,U32) -> 0 | AO32: =SUM(W32,Y32,AA32) -> 0 | AP32: =SUM(AC32,AE32,AG32) -> 0
A33: 4 | B33: 02 | C33: 1 | D33: 2.06 | E33: 03 | F33: Penyediaan Peralatan Rumah Tangga | G33: Jumlah Paket Peralatan Rumah Tangga yang disediakan | H33: Jumlah Paket Peralatan Rumah Tangga yang disediakan | I33: 2 | J33: Paket | K33: =[1]RT!$V$9 -> 1 | L33: =K33/$I33 -> 0.5 | M33: =[1]RT!$W$9 -> 0 | N33: =M33/$I33 -> 0 | O33: =[1]RT!$X$9 -> 0 | P33: =O33/$I33 -> 0 | Q33: =[1]RT!$Y$9 -> 1 | R33: =Q33/$I33 -> 0.5 | S33: =[1]RT!$Z$9 -> 0 | T33: =S33/$I33 -> 0 | U33: =[1]RT!$AA$9 -> 0 | V33: =U33/$I33 -> 0 | W33: =[1]RT!$AB$9 -> 0 | X33: =W33/$I33 -> 0 | Y33: =[1]RT!$AC$9 -> 0 | Z33: =Y33/$I33 -> 0 | AA33: =[1]RT!$AD$9 -> 0 | AB33: =AA33/$I33 -> 0 | AC33: =[1]RT!$AE$9 -> 0 | AD33: =AC33/$I33 -> 0 | AE33: =[1]RT!$AF$9 -> 0 | AF33: =AE33/$I33 -> 0 | AG33: =[1]RT!$AG$9 -> 0 | AH33: =AG33/$I33 -> 0 | AI33: =SUM(AG33,AE33,AC33,AA33,Y33,W33,U33,S33,Q33,O33,M33,K33) -> 2 | AJ33: =AI33/I33 -> 1 | AK33: Paket peralatam RT | AM33: =SUM(K33,M33,O33) -> 1 | AN33: =SUM(Q33,S33,U33) -> 1 | AO33: =SUM(W33,Y33,AA33) -> 0 | AP33: =SUM(AC33,AE33,AG33) -> 0
A34: 4 | B34: 02 | C34: 1 | D34: 2.06 | E34: 04 | F34: Penyediaan Bahan Logistik Kantor | G34: Jumlah Paket Bahan Logistik Kantor yang disediakan | H34: Jumlah Paket Bahan Logistik Kantor yang disediakan | I34: 60 | J34: Paket | K34: =[1]TU!$V$10 -> 6 | L34: =K34/$I34 -> 0.1 | M34: =[1]TU!$W$10 -> 3 | N34: =M34/$I34 -> 0.05 | O34: =[1]TU!$X$10 -> 2 | P34: =O34/$I34 -> 0.033333333 | Q34: =[1]TU!$Y$10 -> 6 | R34: =Q34/$I34 -> 0.1 | S34: =[1]TU!$Z$10 -> 6 | T34: =S34/$I34 -> 0.1 | U34: =[1]TU!$AA$10 -> 0 | V34: =U34/$I34 -> 0 | W34: =[1]TU!$AB$10 -> 0 | X34: =W34/$I34 -> 0 | Y34: =[1]TU!$AC$10 -> 0 | Z34: =Y34/$I34 -> 0 | AA34: =[1]TU!$AD$10 -> 0 | AB34: =AA34/$I34 -> 0 | AC34: =[1]TU!$AE$10 -> 0 | AD34: =AC34/$I34 -> 0 | AE34: =[1]TU!$AF$10 -> 0 | AF34: =AE34/$I34 -> 0 | AG34: =[1]TU!$AG$10 -> 0 | AH34: =AG34/$I34 -> 0 | AI34: =SUM(AG34,AE34,AC34,AA34,Y34,W34,U34,S34,Q34,O34,M34,K34) -> 23 | AJ34: =AI34/I34 -> 0.38333333 | AK34: Paket bahan logistik | AM34: =SUM(K34,M34,O34) -> 11 | AN34: =SUM(Q34,S34,U34) -> 12 | AO34: =SUM(W34,Y34,AA34) -> 0 | AP34: =SUM(AC34,AE34,AG34) -> 0
A35: 4 | B35: 02 | C35: 1 | D35: 2.06 | E35: 05 | F35: Penyediaan Barang Cetakan dan Penggandaan | G35: Jumlah Paket Barang Cetakan dan Penggandaan yang disediakan | H35: Jumlah Paket Barang Cetakan dan Penggandaan yang disediakan | I35: 7 | J35: Paket | K35: =[1]TU!$V$11 -> 3 | L35: =K35/$I35 -> 0.42857143 | M35: =[1]TU!$W$11 -> 1 | N35: =M35/$I35 -> 0.14285714 | O35: =[1]TU!$X$11 -> 0 | P35: =O35/$I35 -> 0 | Q35: =[1]TU!$Y$11 -> 0 | R35: =Q35/$I35 -> 0 | S35: =[1]TU!$Z$11 -> 0 | T35: =S35/$I35 -> 0 | U35: =[1]TU!$AA$11 -> 0 | V35: =U35/$I35 -> 0 | W35: =[1]TU!$AB$11 -> 0 | X35: =W35/$I35 -> 0 | Y35: =[1]TU!$AC$11 -> 0 | Z35: =Y35/$I35 -> 0 | AA35: =[1]TU!$AD$11 -> 0 | AB35: =AA35/$I35 -> 0 | AC35: =[1]TU!$AE$11 -> 0 | AD35: =AC35/$I35 -> 0 | AE35: =[1]TU!$AF$11 -> 0 | AF35: =AE35/$I35 -> 0 | AG35: =[1]TU!$AG$11 -> 0 | AH35: =AG35/$I35 -> 0 | AI35: =SUM(AG35,AE35,AC35,AA35,Y35,W35,U35,S35,Q35,O35,M35,K35) -> 4 | AJ35: =AI35/I35 -> 0.57142857 | AK35: Paket barang cetakan | AM35: =SUM(K35,M35,O35) -> 4 | AN35: =SUM(Q35,S35,U35) -> 0 | AO35: =SUM(W35,Y35,AA35) -> 0 | AP35: =SUM(AC35,AE35,AG35) -> 0
A36: 4 | B36: 02 | C36: 1 | D36: 2.06 | E36: 08 | F36: Fasilitasi Kunjungan Tamu | G36: Jumlah Laporan Fasilitasi Kunjungan Tamu | H36: Jumlah Laporan Fasilitasi Kunjungan Tamu | I36: 360 | J36: Laporan | K36: =[1]TU!$V$12 -> 41 | L36: =K36/$I36 -> 0.11388889 | M36: =[1]TU!$W$12 -> 40 | N36: =M36/$I36 -> 0.11111111 | O36: =[1]TU!$X$12 -> 55 | P36: =O36/$I36 -> 0.15277778 | Q36: =[1]TU!$Y$12 -> 56 | R36: =Q36/$I36 -> 0.15555556 | S36: =[1]TU!$Z$12 -> 42 | T36: =S36/$I36 -> 0.11666667 | U36: =[1]TU!$AA$12 -> 0 | V36: =U36/$I36 -> 0 | W36: =[1]TU!$AB$12 -> 0 | X36: =W36/$I36 -> 0 | Y36: =[1]TU!$AC$12 -> 0 | Z36: =Y36/$I36 -> 0 | AA36: =[1]TU!$AD$12 -> 0 | AB36: =AA36/$I36 -> 0 | AC36: =[1]TU!$AE$12 -> 0 | AD36: =AC36/$I36 -> 0 | AE36: =[1]TU!$AF$12 -> 0 | AF36: =AE36/$I36 -> 0 | AG36: =[1]TU!$AG$12 -> 0 | AH36: =AG36/$I36 -> 0 | AI36: =SUM(AG36,AE36,AC36,AA36,Y36,W36,U36,S36,Q36,O36,M36,K36) -> 234 | AJ36: =AI36/I36 -> 0.65 | AK36: Laporan kunjungan tamu | AM36: =SUM(K36,M36,O36) -> 136 | AN36: =SUM(Q36,S36,U36) -> 98 | AO36: =SUM(W36,Y36,AA36) -> 0 | AP36: =SUM(AC36,AE36,AG36) -> 0
A37: 4 | B37: 02 | C37: 1 | D37: 2.06 | E37: 09 | F37: Penyelenggaraan Rapat Koordinasi dan Konsultasi SKPD | G37: Jumlah Laporan Penyelenggaraan Rapat Koordinasi dan Konsultasi SKPD | H37: Jumlah Laporan Penyelenggaraan Rapat Koordinasi dan Konsultasi SKPD | I37: 20 | J37: Laporan | K37: =[1]TU!$V$13 -> 3 | L37: =K37/$I37 -> 0.15 | M37: =[1]TU!$W$13 -> 0 | N37: =M37/$I37 -> 0 | O37: =[1]TU!$X$13 -> 3 | P37: =O37/$I37 -> 0.15 | Q37: =[1]TU!$Y$13 -> 0 | R37: =Q37/$I37 -> 0 | S37: =[1]TU!$Z$13 -> 1 | T37: =S37/$I37 -> 0.05 | U37: =[1]TU!$AA$13 -> 0 | V37: =U37/$I37 -> 0 | W37: =[1]TU!$AB$13 -> 0 | X37: =W37/$I37 -> 0 | Y37: =[1]TU!$AC$13 -> 0 | Z37: =Y37/$I37 -> 0 | AA37: =[1]TU!$AD$13 -> 0 | AB37: =AA37/$I37 -> 0 | AC37: =[1]TU!$AF$13 -> 0 | AD37: =AC37/$I37 -> 0 | AE37: =[1]TU!$AF$13 -> 0 | AF37: =AE37/$I37 -> 0 | AG37: =[1]TU!$AG$13 -> 0 | AH37: =AG37/$I37 -> 0 | AI37: =SUM(AG37,AE37,AC37,AA37,Y37,W37,U37,S37,Q37,O37,M37,K37) -> 7 | AJ37: =AI37/I37 -> 0.35 | AK37: Laporan rapat rakor SKPD | AM37: =SUM(K37,M37,O37) -> 6 | AN37: =SUM(Q37,S37,U37) -> 1 | AO37: =SUM(W37,Y37,AA37) -> 0 | AP37: =SUM(AC37,AE37,AG37) -> 0
A38: 4 | B38: 02 | C38: 1 | D38: 2.06 | E38: 11 | F38: Dukungan Pelaksanaan Sistem Pemerintahan Berbasis Elektronik pada SKPD | G38: Jumlah Dokumen Dukungan Pelaksanaan Sistem Pemerintahan Berbasis Elektronik pada SKPD | H38: Jumlah Dokumen Dukungan Pelaksanaan Sistem Pemerintahan Berbasis Elektronik pada SKPD | I38: 4 | J38: Dokumen | K38: =[1]RT!$V$10 -> 1 | L38: =K38/$I38 -> 0.25 | M38: =[1]RT!$W$10 -> 1 | N38: =M38/$I38 -> 0.25 | O38: =[1]RT!$X$10 -> 0 | P38: =O38/$I38 -> 0 | Q38: =[1]RT!$Y$10 -> 1 | R38: =Q38/$I38 -> 0.25 | S38: =[1]RT!$Z$10 -> 0 | T38: =S38/$I38 -> 0 | U38: =[1]RT!$AA$10 -> 0 | V38: =U38/$I38 -> 0 | W38: =[1]RT!$AB$10 -> 0 | X38: =W38/$I38 -> 0 | Y38: =[1]RT!$AC$10 -> 0 | Z38: =Y38/$I38 -> 0 | AA38: =[1]RT!$AD$10 -> 0 | AB38: =AA38/$I38 -> 0 | AC38: =[1]RT!$AE$10 -> 0 | AD38: =AC38/$I38 -> 0 | AE38: =[1]RT!$AF$10 -> 0 | AF38: =AE38/$I38 -> 0 | AG38: =[1]RT!$AG$10 -> 0 | AH38: =AG38/$I38 -> 0 | AI38: =SUM(AG38,AE38,AC38,AA38,Y38,W38,U38,S38,Q38,O38,M38,K38) -> 3 | AJ38: =AI38/I38 -> 0.75 | AK38: Dokumen SPBE | AM38: =SUM(K38,M38,O38) -> 2 | AN38: =SUM(Q38,S38,U38) -> 1 | AO38: =SUM(W38,Y38,AA38) -> 0 | AP38: =SUM(AC38,AE38,AG38) -> 0
A39: 4 | B39: 02 | C39: 1 | D39: 2.08 | F39: Penyediaan Jasa penunjang Urusan Pemerintahan Daerah | G39: Jumlah laporan hasil penyediaan jasa penunjang urusan Pemerintah Daerah | H39: Jumlah laporan hasil penyediaan jasa penunjang urusan Pemerintah Daerah | I39: =SUM(I40:I41) -> 102 | J39: Laporan | K39: =SUM(K40:K41) -> 9 | L39: =K39/$I39 -> 0.088235294 | M39: =SUM(M40:M41) -> 6 | N39: =M39/$I39 -> 0.058823529 | O39: =SUM(O40:O41) -> 6 | P39: =O39/$I39 -> 0.058823529 | Q39: =SUM(Q40:Q41) -> 7 | R39: =Q39/$I39 -> 0.068627451 | S39: =SUM(S40:S41) -> 6 | T39: =S39/$I39 -> 0.058823529 | U39: =SUM(U40:U41) -> 0 | V39: =U39/$I39 -> 0 | W39: =SUM(W40:W41) -> 0 | X39: =W39/$I39 -> 0 | Y39: =SUM(Y40:Y41) -> 0 | Z39: =Y39/$I39 -> 0 | AA39: =SUM(AA40:AA41) -> 0 | AB39: =AA39/$I39 -> 0 | AC39: =SUM(AC40:AC41) -> 0 | AD39: =AC39/$I39 -> 0 | AE39: =SUM(AE40:AE41) -> 0 | AF39: =AE39/$I39 -> 0 | AG39: =SUM(AG40:AG41) -> 0 | AH39: =AG39/$I39 -> 0 | AI39: =SUM(AG39,AE39,AC39,AA39,Y39,W39,U39,S39,Q39,O39,M39,K39) -> 34 | AJ39: =AI39/I39 -> 0.33333333 | AM39: =SUM(K39,M39,O39) -> 21 | AN39: =SUM(Q39,S39,U39) -> 13 | AO39: =SUM(W39,Y39,AA39) -> 0 | AP39: =SUM(AC39,AE39,AG39) -> 0
A40: 4 | B40: 02 | C40: 1 | D40: 2.08 | E40: 01 | F40: Penyediaan Jasa Surat Menyurat | G40: Jumlah Laporan Penyediaan Jasa Surat Menyurat | H40: Jumlah Laporan Penyediaan Jasa Surat Menyurat | I40: 90 | J40: Laporan | K40: =[1]TU!$V$14 -> 8 | L40: =K40/$I40 -> 0.088888889 | M40: =[1]TU!$W$14 -> 5 | N40: =M40/$I40 -> 0.055555556 | O40: =[1]TU!$X$14 -> 5 | P40: =O40/$I40 -> 0.055555556 | Q40: =[1]TU!$Y$14 -> 6 | R40: =Q40/$I40 -> 0.066666667 | S40: =[1]TU!$Z$14 -> 5 | T40: =S40/$I40 -> 0.055555556 | U40: =[1]TU!$AA$14 -> 0 | V40: =U40/$I40 -> 0 | W40: =[1]TU!$AB$14 -> 0 | X40: =W40/$I40 -> 0 | Y40: =[1]TU!$AC$14 -> 0 | Z40: =Y40/$I40 -> 0 | AA40: =[1]TU!$AD$14 -> 0 | AB40: =AA40/$I40 -> 0 | AC40: =[1]TU!$AE$14 -> 0 | AD40: =AC40/$I40 -> 0 | AE40: =[1]TU!$AF$14 -> 0 | AF40: =AE40/$I40 -> 0 | AG40: =[1]TU!$AG$14 -> 0 | AH40: =AG40/$I40 -> 0 | AI40: =SUM(AG40,AE40,AC40,AA40,Y40,W40,U40,S40,Q40,O40,M40,K40) -> 29 | AJ40: =AI40/I40 -> 0.32222222 | AK40: Laporan jasa surat menyurat | AM40: =SUM(K40,M40,O40) -> 18 | AN40: =SUM(Q40,S40,U40) -> 11 | AO40: =SUM(W40,Y40,AA40) -> 0 | AP40: =SUM(AC40,AE40,AG40) -> 0
A41: 4 | B41: 02 | C41: 1 | D41: 2.08 | E41: 02 | F41: Penyediaan Jasa Komunikasi, Sumber Daya Air dan Listrik | G41: Jumlah Laporan Penyediaan Jasa Komunikasi, Sumber Daya Air dan Listrik yang Disediakan | H41: Jumlah Laporan Penyediaan Jasa Komunikasi, Sumber Daya Air dan Listrik yang Disediakan | I41: 12 | J41: Laporan | K41: =[1]RT!$V$11 -> 1 | L41: =K41/$I41 -> 0.083333333 | M41: =[1]RT!$W$11 -> 1 | N41: =M41/$I41 -> 0.083333333 | O41: =[1]RT!$X$11 -> 1 | P41: =O41/$I41 -> 0.083333333 | Q41: =[1]RT!$Y$11 -> 1 | R41: =Q41/$I41 -> 0.083333333 | S41: =[1]RT!$Z$11 -> 1 | T41: =S41/$I41 -> 0.083333333 | U41: =[1]RT!$AA$11 -> 0 | V41: =U41/$I41 -> 0 | W41: =[1]RT!$AB$11 -> 0 | X41: =W41/$I41 -> 0 | Y41: =[1]RT!$AC$11 -> 0 | Z41: =Y41/$I41 -> 0 | AA41: =[1]RT!$AD$11 -> 0 | AB41: =AA41/$I41 -> 0 | AC41: =[1]RT!$AE$11 -> 0 | AD41: =AC41/$I41 -> 0 | AE41: =[1]RT!$AF$11 -> 0 | AF41: =AE41/$I41 -> 0 | AG41: =[1]RT!$AG$11 -> 0 | AH41: =AG41/$I41 -> 0 | AI41: =SUM(AG41,AE41,AC41,AA41,Y41,W41,U41,S41,Q41,O41,M41,K41) -> 5 | AJ41: =AI41/I41 -> 0.41666667 | AK41: Laporan jasa komunikasi, SDA | AM41: =SUM(K41,M41,O41) -> 3 | AN41: =SUM(Q41,S41,U41) -> 2 | AO41: =SUM(W41,Y41,AA41) -> 0 | AP41: =SUM(AC41,AE41,AG41) -> 0
A42: 4 | B42: 02 | C42: 1 | D42: 2.08 | E42: 04 | F42: Penyediaan Jasa Pelayanan Umum Kantor | G42: Jumlah Laporan Penyediaan Jasa Pelayanan Umum Kantor yang Disediakan | H42: Jumlah Laporan Penyediaan Jasa Pelayanan Umum Kantor yang Disediakan | I42: 39 | J42: Laporan | K42: =[1]RT!$V$12 -> 39 | L42: =K42/$I42 -> 1 | M42: =[1]RT!$W$12 -> 0 | N42: =M42/$I42 -> 0 | O42: =[1]RT!$X$12 -> 0 | P42: =O42/$I42 -> 0 | Q42: =[1]RT!$Y$12 -> 0 | R42: =Q42/$I42 -> 0 | S42: =[1]RT!$Z$12 -> 0 | T42: =S42/$I42 -> 0 | U42: =[1]RT!$AA$12 -> 0 | V42: =U42/$I42 -> 0 | W42: =[1]RT!$AB$12 -> 0 | X42: =W42/$I42 -> 0 | Y42: =[1]RT!$AC$12 -> 0 | Z42: =Y42/$I42 -> 0 | AA42: =[1]RT!$AD$12 -> 0 | AB42: =AA42/$I42 -> 0 | AC42: =[1]RT!$AE$12 -> 0 | AD42: =AC42/$I42 -> 0 | AE42: =[1]RT!$AF$12 -> 0 | AF42: =AE42/$I42 -> 0 | AG42: =[1]RT!$AG$12 -> 0 | AH42: =AG42/$I42 -> 0 | AI42: =SUM(AG42,AE42,AC42,AA42,Y42,W42,U42,S42,Q42,O42,M42,K42) -> 39 | AJ42: =AI42/I42 -> 1 | AK42: Laporan jasa pelayanan umum | AM42: =SUM(K42,M42,O42) -> 39 | AN42: =SUM(Q42,S42,U42) -> 0 | AO42: =SUM(W42,Y42,AA42) -> 0 | AP42: =SUM(AC42,AE42,AG42) -> 0
A43: 4 | B43: 02 | C43: 1 | D43: 2.09 | F43: Pemeliharaan Barang Milik Daerah Penunjang Urusan Pemerintahan Daerah | G43: Jumlah barang milik daerah penunjang urusan Pemerintahan Daerah yang terpelihara | H43: Jumlah barang milik daerah penunjang urusan Pemerintahan Daerah yang terpelihara | I43: =SUM(I44:I49) -> 108 | J43: Unit | K43: =SUM(K44:K49) -> 7 | L43: =K43/$I43 -> 0.064814815 | M43: =SUM(M44:M49) -> 28 | N43: =M43/$I43 -> 0.25925926 | O43: =SUM(O44:O49) -> 21 | P43: =O43/$I43 -> 0.19444444 | Q43: =SUM(Q44:Q49) -> 24 | R43: =Q43/$I43 -> 0.22222222 | S43: =SUM(S44:S49) -> 14 | T43: =S43/$I43 -> 0.12962963 | U43: =SUM(U44:U49) -> 0 | V43: =U43/$I43 -> 0 | W43: =SUM(W44:W49) -> 0 | X43: =W43/$I43 -> 0 | Y43: =SUM(Y44:Y49) -> 0 | Z43: =Y43/$I43 -> 0 | AA43: =SUM(AA44:AA49) -> 0 | AB43: =AA43/$I43 -> 0 | AC43: =SUM(AC44:AC49) -> 0 | AD43: =AC43/$I43 -> 0 | AE43: =SUM(AE44:AE49) -> 0 | AF43: =AE43/$I43 -> 0 | AG43: =SUM(AG44:AG49) -> 0 | AH43: =AG43/$I43 -> 0 | AI43: =SUM(AG43,AE43,AC43,AA43,Y43,W43,U43,S43,Q43,O43,M43,K43) -> 94 | AJ43: =AI43/I43 -> 0.87037037 | AM43: =SUM(K43,M43,O43) -> 56 | AN43: =SUM(Q43,S43,U43) -> 38 | AO43: =SUM(W43,Y43,AA43) -> 0 | AP43: =SUM(AC43,AE43,AG43) -> 0
A44: 4 | B44: 02 | C44: 1 | D44: 2.09 | E44: 01 | F44: Penyediaan Jasa Pemeliharaan, Biaya Pemeliharaan dan Pajak Kendaraan Perorangan Dinas atau Kendaraan Dinas Jabatan | G44: Jumlah Kendaraan Perorangan Dinas atau Kendaraan Dinas Jabatan yang Dipelihara dan dibayarkan Pajaknya | H44: Jumlah Kendaraan Perorangan Dinas atau Kendaraan Dinas Jabatan yang Dipelihara dan dibayarkan Pajaknya | I44: 4 | J44: Unit | K44: =[1]RT!$V$13 -> 0 | L44: =K44/$I44 -> 0 | M44: =[1]RT!$W$13 -> 0 | N44: =M44/$I44 -> 0 | O44: =[1]RT!$X$13 -> 2 | P44: =O44/$I44 -> 0.5 | Q44: =[1]RT!$Y$13 -> 1 | R44: =Q44/$I44 -> 0.25 | S44: =[1]RT!$Z$13 -> 1 | T44: =S44/$I44 -> 0.25 | U44: =[1]RT!$AA$13 -> 0 | V44: =U44/$I44 -> 0 | W44: =[1]RT!$AB$13 -> 0 | X44: =W44/$I44 -> 0 | Y44: =[1]RT!$AC$13 -> 0 | Z44: =Y44/$I44 -> 0 | AA44: =[1]RT!$AD$13 -> 0 | AB44: =AA44/$I44 -> 0 | AC44: =[1]RT!$AE$13 -> 0 | AD44: =AC44/$I44 -> 0 | AE44: =[1]RT!$AF$13 -> 0 | AF44: =AE44/$I44 -> 0 | AG44: =[1]RT!$AG$13 -> 0 | AH44: =AG44/$I44 -> 0 | AI44: =SUM(AG44,AE44,AC44,AA44,Y44,W44,U44,S44,Q44,O44,M44,K44) -> 4 | AJ44: =AI44/I44 -> 1 | AK44: Servis kendaraan jabatan | AM44: =SUM(K44,M44,O44) -> 2 | AN44: =SUM(Q44,S44,U44) -> 2 | AO44: =SUM(W44,Y44,AA44) -> 0 | AP44: =SUM(AC44,AE44,AG44) -> 0
A45: 4 | B45: 02 | C45: 1 | D45: 2.09 | E45: 02 | F45: Penyediaan Jasa Pemeliharaan, Biaya Pemeliharaan, Pajak, dan Perizinan Kendaraan Dinas Operasional atau Lapangan | G45: Jumlah Kendaraan Dinas Operasional atau Lapangan yang Dipelihara dan dibayarkan Pajak dan Perizinannya | H45: Jumlah Kendaraan Dinas Operasional atau Lapangan yang Dipelihara dan dibayarkan Pajak dan Perizinannya | I45: 18 | J45: Unit | K45: =[1]RT!$V$14 -> 5 | L45: =K45/$I45 -> 0.27777778 | M45: =[1]RT!$W$14 -> 2 | N45: =M45/$I45 -> 0.11111111 | O45: =[1]RT!$X$14 -> 1 | P45: =O45/$I45 -> 0.055555556 | Q45: =[1]RT!$Y$14 -> 6 | R45: =Q45/$I45 -> 0.33333333 | S45: =[1]RT!$Z$14 -> 2 | T45: =S45/$I45 -> 0.11111111 | U45: =[1]RT!$AA$14 -> 0 | V45: =U45/$I45 -> 0 | W45: =[1]RT!$AB$14 -> 0 | X45: =W45/$I45 -> 0 | Y45: =[1]RT!$AC$14 -> 0 | Z45: =Y45/$I45 -> 0 | AA45: =[1]RT!$AD$14 -> 0 | AB45: =AA45/$I45 -> 0 | AC45: =[1]RT!$AE$14 -> 0 | AD45: =AC45/$I45 -> 0 | AE45: =[1]RT!$AF$14 -> 0 | AF45: =AE45/$I45 -> 0 | AG45: =[1]RT!$AG$14 -> 0 | AH45: =AG45/$I45 -> 0 | AI45: =SUM(AG45,AE45,AC45,AA45,Y45,W45,U45,S45,Q45,O45,M45,K45) -> 16 | AJ45: =AI45/I45 -> 0.88888889 | AK45: Servis kendaraan operasional | AM45: =SUM(K45,M45,O45) -> 8 | AN45: =SUM(Q45,S45,U45) -> 8 | AO45: =SUM(W45,Y45,AA45) -> 0 | AP45: =SUM(AC45,AE45,AG45) -> 0
A46: 4 | B46: 02 | C46: 1 | D46: 2.09 | E46: 05 | F46: Pemeliharaan Mebel | G46: Jumlah Mebel yang Dipelihara | H46: Jumlah Mebel yang Dipelihara | I46: 25 | J46: Unit | K46: =[1]RT!$V$15 -> 0 | L46: =K46/$I46 -> 0 | M46: =[1]RT!$W$15 -> 0 | N46: =M46/$I46 -> 0 | O46: =[1]RT!$X$15 -> 0 | P46: =O46/$I46 -> 0 | Q46: =[1]RT!$Y$15 -> 0 | R46: =Q46/$I46 -> 0 | S46: =[1]RT!$Z$15 -> 10 | T46: =S46/$I46 -> 0.4 | U46: =[1]RT!$AA$15 -> 0 | V46: =U46/$I46 -> 0 | W46: =[1]RT!$AB$15 -> 0 | X46: =W46/$I46 -> 0 | Y46: =[1]RT!$AC$15 -> 0 | Z46: =Y46/$I46 -> 0 | AA46: =[1]RT!$AD$15 -> 0 | AB46: =AA46/$I46 -> 0 | AC46: =[1]RT!$AE$15 -> 0 | AD46: =AC46/$I46 -> 0 | AE46: =[1]RT!$AF$15 -> 0 | AF46: =AE46/$I46 -> 0 | AG46: =[1]RT!$AG$15 -> 0 | AH46: =AG46/$I46 -> 0 | AI46: =SUM(AG46,AE46,AC46,AA46,Y46,W46,U46,S46,Q46,O46,M46,K46) -> 10 | AJ46: =AI46/I46 -> 0.4 | AK46: Pemeliharaan mebel | AM46: =SUM(K46,M46,O46) -> 0 | AN46: =SUM(Q46,S46,U46) -> 10 | AO46: =SUM(W46,Y46,AA46) -> 0 | AP46: =SUM(AC46,AE46,AG46) -> 0
A47: 4 | B47: 02 | C47: 1 | D47: 2.09 | E47: 06 | F47: Pemeliharaan Peralatan dan Mesin Lainnya | G47: Jumlah Peralatan dan Mesin Lainnya yang dipelihara | H47: Jumlah Peralatan dan Mesin Lainnya yang dipelihara | I47: 55 | J47: Unit | K47: =[1]RT!$V$16 -> 1 | L47: =K47/$I47 -> 0.018181818 | M47: =[1]RT!$W$16 -> 26 | N47: =M47/$I47 -> 0.47272727 | O47: =[1]RT!$X$16 -> 18 | P47: =O47/$I47 -> 0.32727273 | Q47: =[1]RT!$Y$16 -> 17 | R47: =Q47/$I47 -> 0.30909091 | S47: =[1]RT!$Z$16 -> 0 | T47: =S47/$I47 -> 0 | U47: =[1]RT!$AA$16 -> 0 | V47: =U47/$I47 -> 0 | W47: =[1]RT!$AB$16 -> 0 | X47: =W47/$I47 -> 0 | Y47: =[1]RT!$AC$16 -> 0 | Z47: =Y47/$I47 -> 0 | AA47: =[1]RT!$AD$16 -> 0 | AB47: =AA47/$I47 -> 0 | AC47: =[1]RT!$AE$16 -> 0 | AD47: =AC47/$I47 -> 0 | AE47: =[1]RT!$AF$16 -> 0 | AF47: =AE47/$I47 -> 0 | AG47: =[1]RT!$AG$16 -> 0 | AH47: =AG47/$I47 -> 0 | AI47: =SUM(AG47,AE47,AC47,AA47,Y47,W47,U47,S47,Q47,O47,M47,K47) -> 62 | AJ47: =AI47/I47 -> 1.1272727 | AK47: Pemeliharaan mesin lainnya | AM47: =SUM(K47,M47,O47) -> 45 | AN47: =SUM(Q47,S47,U47) -> 17 | AO47: =SUM(W47,Y47,AA47) -> 0 | AP47: =SUM(AC47,AE47,AG47) -> 0
A48: 4 | B48: 02 | C48: 1 | D48: 2.09 | E48: 09 | F48: Pemeliharaan/Rehabilitasi Gedung Kantor dan Bangunan Lainnya | G48: Jumlah Gedung Kantor dan Bangunan Lainnya yang dipelihara/direhabilitasi | H48: Jumlah Gedung Kantor dan Bangunan Lainnya yang dipelihara/direhabilitasi | I48: 2 | J48: Unit | K48: =[1]RT!$V$17 -> 0 | L48: =K48/$I48 -> 0 | M48: =[1]RT!$W$17 -> 0 | N48: =M48/$I48 -> 0 | O48: =[1]RT!$X$17 -> 0 | P48: =O48/$I48 -> 0 | Q48: =[1]RT!$Y$17 -> 0 | R48: =Q48/$I48 -> 0 | S48: =[1]RT!$Z$17 -> 1 | T48: =S48/$I48 -> 0.5 | U48: =[1]RT!$AA$17 -> 0 | V48: =U48/$I48 -> 0 | W48: =[1]RT!$AB$17 -> 0 | X48: =W48/$I48 -> 0 | Y48: =[1]RT!$AC$17 -> 0 | Z48: =Y48/$I48 -> 0 | AA48: =[1]RT!$AD$17 -> 0 | AB48: =AA48/$I48 -> 0 | AC48: =[1]RT!$AE$17 -> 0 | AD48: =AC48/$I48 -> 0 | AE48: =[1]RT!$AF$17 -> 0 | AF48: =AE48/$I48 -> 0 | AG48: =[1]RT!$AG$17 -> 0 | AH48: =AG48/$I48 -> 0 | AI48: =SUM(AG48,AE48,AC48,AA48,Y48,W48,U48,S48,Q48,O48,M48,K48) -> 1 | AJ48: =AI48/I48 -> 0.5 | AK48: Rehab gedung | AM48: =SUM(K48,M48,O48) -> 0 | AN48: =SUM(Q48,S48,U48) -> 1 | AO48: =SUM(W48,Y48,AA48) -> 0 | AP48: =SUM(AC48,AE48,AG48) -> 0
A49: 4 | B49: 02 | C49: 1 | D49: 2.09 | E49: 10 | F49: Pemeliharaan/Rehabilitasi Sarana dan Prasarana Gedung Kantor atau Bangunan Lainnya | G49: Jumlah Sarana dan Prasarana Gedung Kantor atau Bangunan Lainnya yang Dipelihara/Direhabilitasi | H49: Jumlah Sarana dan Prasarana Gedung Kantor atau Bangunan Lainnya yang Dipelihara/Direhabilitasi | I49: 4 | J49: Unit | K49: =[1]RT!$V$18 -> 1 | L49: =K49/$I49 -> 0.25 | M49: =[1]RT!$W$18 -> 0 | N49: =M49/$I49 -> 0 | O49: =[1]RT!$X$18 -> 0 | P49: =O49/$I49 -> 0 | Q49: =[1]RT!$Y$18 -> 0 | R49: =Q49/$I49 -> 0 | S49: =[1]RT!$Z$18 -> 0 | T49: =S49/$I49 -> 0 | U49: =[1]RT!$AA$18 -> 0 | V49: =U49/$I49 -> 0 | W49: =[1]RT!$AB$18 -> 0 | X49: =W49/$I49 -> 0 | Y49: =[1]RT!$AB$18 -> 0 | Z49: =Y49/$I49 -> 0 | AA49: =[1]RT!$AD$18 -> 0 | AB49: =AA49/$I49 -> 0 | AC49: =[1]RT!$AE$18 -> 0 | AD49: =AC49/$I49 -> 0 | AE49: =[1]RT!$AF$18 -> 0 | AF49: =AE49/$I49 -> 0 | AG49: =[1]RT!$AG$18 -> 0 | AH49: =AG49/$I49 -> 0 | AI49: =SUM(AG49,AE49,AC49,AA49,Y49,W49,U49,S49,Q49,O49,M49,K49) -> 1 | AJ49: =AI49/I49 -> 0.25 | AK49: Rehab sarpras | AM49: =SUM(K49,M49,O49) -> 1 | AN49: =SUM(Q49,S49,U49) -> 0 | AO49: =SUM(W49,Y49,AA49) -> 0 | AP49: =SUM(AC49,AE49,AG49) -> 0
A50: Terselenggaranya layanan administrasi keuangan dan kesejahteraan DPRD | G50: Jumlah dokumen hasil penyelenggaraan administrasi keuangan dan kesejahteraan DPRD | H50: Jumlah dokumen hasil penyelenggaraan administrasi keuangan dan kesejahteraan DPRD | I50: =SUM(I51,I55) -> 75 | J50: Kegiatan | K50: =SUM(K51,K55) -> 0 | L50: =K50/$I50 -> 0 | M50: =SUM(M51,M55) -> 2 | N50: =M50/$I50 -> 0.026666667 | O50: =SUM(O51,O55) -> 2 | P50: =O50/$I50 -> 0.026666667 | Q50: =SUM(Q51,Q55) -> 6 | R50: =Q50/$I50 -> 0.08 | S50: =SUM(S51,S55) -> 4 | T50: =S50/$I50 -> 0.053333333 | U50: =SUM(U51,U55) -> 0 | V50: =U50/$I50 -> 0 | W50: =SUM(W51,W55) -> 0 | X50: =W50/$I50 -> 0 | Y50: =SUM(Y51,Y55) -> 0 | Z50: =Y50/$I50 -> 0 | AA50: =SUM(AA51,AA55) -> 0 | AB50: =AA50/$I50 -> 0 | AC50: =SUM(AC51,AC55) -> 0 | AD50: =AC50/$I50 -> 0 | AE50: =SUM(AE51,AE55) -> 0 | AF50: =AE50/$I50 -> 0 | AG50: =SUM(AG51,AG55) -> 0 | AH50: =AG50/$I50 -> 0 | AI50: =SUM(AG50,AE50,AC50,AA50,Y50,W50,U50,S50,Q50,O50,M50,K50) -> 14 | AJ50: =AI50/I50 -> 0.18666667 | AM50: =SUM(K50,M50,O50) -> 4 | AN50: =SUM(Q50,S50,U50) -> 10 | AO50: =SUM(W50,Y50,AA50) -> 0 | AP50: =SUM(AC50,AE50,AG50) -> 0
A51: 4 | B51: 02 | C51: 1 | D51: 2.15 | F51: Layanan Keuangan dan Kesejahteraan DPRD | G51: Jumlah layanan keuangan dan kesejahteraan DPRD yang dipenuhi | H51: Jumlah dokumen layanan keuangan dan kesejahteraan Anggota DPRD | I51: =SUM(I53:I54) -> 55 | J51: Dokumen | K51: =SUM(K53:K54) -> 0 | L51: =K51/$I51 -> 0 | M51: =SUM(M53:M54) -> 1 | N51: =M51/$I51 -> 0.018181818 | O51: =SUM(O53:O54) -> 1 | P51: =O51/$I51 -> 0.018181818 | Q51: =SUM(Q53:Q54) -> 3 | R51: =Q51/$I51 -> 0.054545455 | S51: =SUM(S53:S54) -> 2 | T51: =S51/$I51 -> 0.036363636 | U51: =SUM(U53:U54) -> 0 | V51: =U51/$I51 -> 0 | W51: =SUM(W53:W54) -> 0 | X51: =W51/$I51 -> 0 | Y51: =SUM(Y53:Y54) -> 0 | Z51: =Y51/$I51 -> 0 | AA51: =SUM(AA53:AA54) -> 0 | AB51: =AA51/$I51 -> 0 | AC51: =SUM(AC53:AC54) -> 0 | AD51: =AC51/$I51 -> 0 | AE51: =SUM(AE53:AE54) -> 0 | AF51: =AE51/$I51 -> 0 | AG51: =SUM(AG53:AG54) -> 0 | AH51: =AG51/$I51 -> 0 | AI51: =SUM(AI53:AI54) -> 7 | AJ51: =AI51/I51 -> 0.12727273 | AM51: =SUM(K51,M51,O51) -> 2 | AN51: =SUM(Q51,S51,U51) -> 5 | AO51: =SUM(W51,Y51,AA51) -> 0 | AP51: =SUM(AC51,AE51,AG51) -> 0
A52: 4 | B52: 02 | C52: 1 | D52: 2.15 | E52: 01 | F52: Penyelenggaraan Administrasi Keuangan DPRD | G52: Jumlah Anggota DPRD yang Menerima Hak Keuangan DPRD | H52: Jumlah Anggota DPRD yang Menerima Hak Keuangan DPRD | I52: 50 | J52: Orang/Bulan | K52: =[1]TU!$V$15 -> 50 | L52: =K52/$I52 -> 1 | M52: =[1]TU!$W$15 -> 50 | N52: =M52/$I52 -> 1 | O52: =[1]TU!$X$15 -> 50 | P52: =O52/$I52 -> 1 | Q52: =[1]TU!$Y$15 -> 50 | R52: =Q52/$I52 -> 1 | S52: =[1]TU!$Z$15 -> 50 | T52: =S52/$I52 -> 1 | U52: =[1]TU!$AA$15 -> 0 | V52: =U52/$I52 -> 0 | W52: =[1]TU!$AB$15 -> 0 | X52: =W52/$I52 -> 0 | Y52: =[1]TU!$AC$15 -> 0 | Z52: =Y52/$I52 -> 0 | AA52: =[1]TU!$AD$15 -> 0 | AB52: =AA52/$I52 -> 0 | AC52: =[1]TU!$AE$15 -> 0 | AD52: =AC52/$I52 -> 0 | AE52: =[1]TU!$AF$15 -> 0 | AF52: =AE52/$I52 -> 0 | AG52: =[1]TU!$AG$15 -> 0 | AH52: =AG52/$I52 -> 0 | AI52: 50 | AJ52: =AI52/I52 -> 1 | AK52: Daftar gaji DPRD | AM52: 50 | AN52: =SUM(Q52,S52,U52) -> 100 | AO52: =SUM(W52,Y52,AA52) -> 0 | AP52: =SUM(AC52,AE52,AG52) -> 0
A53: 4 | B53: 02 | C53: 1 | D53: 2.15 | E53: 02 | F53: Penyediaan Pakaian Dinas dan Atribut DPRD | G53: Jumlah Paket Pakaian Dinas dan Atribut DPRD yang Disediakan | H53: Jumlah Paket Pakaian Dinas dan Atribut DPRD yang Disediakan | I53: 5 | J53: Paket | K53: =[1]TU!$V$16 -> 0 | L53: =K53/$I53 -> 0 | M53: =[1]TU!$W$16 -> 0 | N53: =M53/$I53 -> 0 | O53: =[1]TU!$X$16 -> 0 | P53: =O53/$I53 -> 0 | Q53: =[1]TU!$Y$16 -> 0 | R53: =Q53/$I53 -> 0 | S53: =[1]TU!$Z$16 -> 0 | T53: =S53/$I53 -> 0 | U53: =[1]TU!$AA$16 -> 0 | V53: =U53/$I53 -> 0 | W53: =[1]TU!$AB$16 -> 0 | X53: =W53/$I53 -> 0 | Y53: =[1]TU!$AC$16 -> 0 | Z53: =Y53/$I53 -> 0 | AA53: =[1]TU!$AD$16 -> 0 | AB53: =AA53/$I53 -> 0 | AC53: =[1]TU!$AE$16 -> 0 | AD53: =AC53/$I53 -> 0 | AE53: =[1]TU!$AF$16 -> 0 | AF53: =AE53/$I53 -> 0 | AG53: =[1]TU!$AG$16 -> 0 | AH53: =AG53/$I53 -> 0 | AI53: =SUM(AG53,AE53,AC53,AA53,Y53,W53,U53,S53,Q53,O53,M53,K53) -> 0 | AJ53: =AI53/I53 -> 0 | AK53: Paket pakaian dinas DPRD | AM53: =SUM(K53,M53,O53) -> 0 | AN53: =SUM(Q53,S53,U53) -> 0 | AO53: =SUM(W53,Y53,AA53) -> 0 | AP53: =SUM(AC53,AE53,AG53) -> 0
A54: 4 | B54: 02 | C54: 1 | D54: 2.15 | E54: 03 | F54: Pelaksanaan Medical Check Up DPRD | G54: Jumlah Orang yang Mengikuti Medical Check Up DPRD | H54: Jumlah Orang yang Mengikuti Medical Check Up DPRD | I54: 50 | J54: Orang | K54: =[1]TU!$V$17 -> 0 | L54: =K54/$I54 -> 0 | M54: =[1]TU!$W$17 -> 1 | N54: =M54/$I54 -> 0.02 | O54: =[1]TU!$X$17 -> 1 | P54: =O54/$I54 -> 0.02 | Q54: =[1]TU!$Y$17 -> 3 | R54: =Q54/$I54 -> 0.06 | S54: =[1]TU!$Z$17 -> 2 | T54: =S54/$I54 -> 0.04 | U54: =[1]TU!$AA$17 -> 0 | V54: =U54/$I54 -> 0 | W54: =[1]TU!$AB$17 -> 0 | X54: =W54/$I54 -> 0 | Y54: =[1]TU!$AC$17 -> 0 | Z54: =Y54/$I54 -> 0 | AA54: =[1]TU!$AD$17 -> 0 | AB54: =AA54/$I54 -> 0 | AC54: =[1]TU!$AE$17 -> 0 | AD54: =AC54/$I54 -> 0 | AE54: =[1]TU!$AF$17 -> 0 | AF54: =AE54/$I54 -> 0 | AG54: =[1]TU!$AG$17 -> 0 | AH54: =AG54/$I54 -> 0 | AI54: =SUM(AG54,AE54,AC54,AA54,Y54,W54,U54,S54,Q54,O54,M54,K54) -> 7 | AJ54: =AI54/I54 -> 0.14 | AK54: Medical checkup DPRD | AM54: =SUM(K54,M54,O54) -> 2 | AN54: =SUM(Q54,S54,U54) -> 5 | AO54: =SUM(W54,Y54,AA54) -> 0 | AP54: =SUM(AC54,AE54,AG54) -> 0
A55: 4 | B55: 02 | C55: 1 | D55: 2.16 | F55: Layanan Administrasi DPRD | G55: Jumlah dokumen laporan pelayanan administrasi DPRD yang terpenuhi | H55: Jumlah dokumen laporan pelayanan administrasi DPRD yang terpenuhi | I55: =SUM(I56:I58) -> 20 | J55: Dokumen | K55: =SUM(K56:K58) -> 0 | L55: =K55/$I55 -> 0 | M55: =SUM(M56:M58) -> 1 | N55: =M55/$I55 -> 0.05 | O55: =SUM(O56:O58) -> 1 | P55: =O55/$I55 -> 0.05 | Q55: =SUM(Q56:Q58) -> 3 | R55: =Q55/$I55 -> 0.15 | S55: =SUM(S56:S58) -> 2 | T55: =S55/$I55 -> 0.1 | U55: =SUM(U56:U58) -> 0 | V55: =U55/$I55 -> 0 | W55: =SUM(W56:W58) -> 0 | X55: =W55/$I55 -> 0 | Y55: =SUM(Y56:Y58) -> 0 | Z55: =Y55/$I55 -> 0 | AA55: =SUM(AA56:AA58) -> 0 | AB55: =AA55/$I55 -> 0 | AC55: =SUM(AC56:AC58) -> 0 | AD55: =AC55/$I55 -> 0 | AE55: =SUM(AE56:AE58) -> 0 | AF55: =AE55/$I55 -> 0 | AG55: =SUM(AG56:AG58) -> 0 | AH55: =AG55/$I55 -> 0 | AI55: =SUM(AG55,AE55,AC55,AA55,Y55,W55,U55,S55,Q55,O55,M55,K55) -> 7 | AJ55: =AI55/I55 -> 0.35 | AM55: =SUM(K55,M55,O55) -> 2 | AN55: =SUM(Q55,S55,U55) -> 5 | AO55: =SUM(W55,Y55,AA55) -> 0 | AP55: =SUM(AC55,AE55,AG55) -> 0
A56: 4 | B56: 02 | C56: 1 | D56: 2.16 | E56: 01 | F56: Penyelenggaraan Administrasi Keanggotaan DPRD | G56: Jumlah Dokumen Hasil Penyelenggaraan Administrasi Keanggotaan DPRD | H56: Jumlah Dokumen Hasil Penyelenggaraan Administrasi Keanggotaan DPRD | I56: 10 | J56: Dokumen | K56: =[1]TU!$V$18 -> 0 | L56: =K56/$I56 -> 0 | M56: =[1]TU!$W$18 -> 0 | N56: =M56/$I56 -> 0 | O56: =[1]TU!$X$18 -> 0 | P56: =O56/$I56 -> 0 | Q56: =[1]TU!$Y$18 -> 1 | R56: =Q56/$I56 -> 0.1 | S56: =[1]TU!$Z$18 -> 1 | T56: =S56/$I56 -> 0.1 | U56: =[1]TU!$AA$18 -> 0 | V56: =U56/$I56 -> 0 | W56: =[1]TU!$AB$18 -> 0 | X56: =W56/$I56 -> 0 | Y56: =[1]TU!$AC$18 -> 0 | Z56: =Y56/$I56 -> 0 | AA56: =[1]TU!$AD$18 -> 0 | AB56: =AA56/$I56 -> 0 | AC56: =[1]TU!$AE$18 -> 0 | AD56: =AC56/$I56 -> 0 | AE56: =[1]TU!$AF$18 -> 0 | AF56: =AE56/$I56 -> 0 | AG56: =[1]TU!$AG$18 -> 0 | AH56: =AG56/$I56 -> 0 | AI56: =SUM(AG56,AE56,AC56,AA56,Y56,W56,U56,S56,Q56,O56,M56,K56) -> 2 | AJ56: =AI56/I56 -> 0.2 | AK56: Dolumen adm keanggotaan DPRD | AM56: =SUM(K56,M56,O56) -> 0 | AN56: =SUM(Q56,S56,U56) -> 2 | AO56: =SUM(W56,Y56,AA56) -> 0 | AP56: =SUM(AC56,AE56,AG56) -> 0
A57: 4 | B57: 02 | C57: 1 | D57: 2.16 | E57: 02 | F57: Fasilitasi Fraksi DPRD | G57: Jumlah Laporan Hasil Fasilitasi Fraksi DPRD | H57: Jumlah Laporan Hasil Fasilitasi Fraksi DPRD | I57: 0 | J57: Laporan | K57: 0 | L57: =K57/$I57 -> #DIV/0! | N57: =M57/$I57 -> #DIV/0! | P57: =O57/$I57 -> #DIV/0! | R57: =Q57/$I57 -> #DIV/0! | T57: =S57/$I57 -> #DIV/0! | V57: =U57/$I57 -> #DIV/0! | X57: =W57/$I57 -> #DIV/0! | Z57: =Y57/$I57 -> #DIV/0! | AB57: =AA57/$I57 -> #DIV/0! | AD57: =AC57/$I57 -> #DIV/0! | AF57: =AE57/$I57 -> #DIV/0! | AH57: =AG57/$I57 -> #DIV/0! | AI57: =SUM(AG57,AE57,AC57,AA57,Y57,W57,U57,S57,Q57,O57,M57,K57) -> 0 | AJ57: =AI57/I57 -> #DIV/0! | AM57: =SUM(K57,M57,O57) -> 0 | AN57: =SUM(Q57,S57,U57) -> 0 | AO57: =SUM(W57,Y57,AA57) -> 0 | AP57: =SUM(AC57,AE57,AG57) -> 0
A58: 4 | B58: 02 | C58: 1 | D58: 2.16 | E58: 03 | F58: Fasilitasi Rapat Koordinasi dan Konsultasi DPRD | G58: Jumlah Laporan Hasil Fasilitasi Rapat Koordinasi dan Konsultasi DPRD | H58: Jumlah Laporan Hasil Fasilitasi Rapat Koordinasi dan Konsultasi DPRD | I58: 10 | J58: Laporan | K58: =[1]TU!$V$19 -> 0 | L58: =K58/$I58 -> 0 | M58: =[1]TU!$W$19 -> 1 | N58: =M58/$I58 -> 0.1 | O58: =[1]TU!$X$19 -> 1 | P58: =O58/$I58 -> 0.1 | Q58: =[1]TU!$Y$19 -> 2 | R58: =Q58/$I58 -> 0.2 | S58: =[1]TU!$Z$19 -> 1 | T58: =S58/$I58 -> 0.1 | U58: =[1]TU!$AA$19 -> 0 | V58: =U58/$I58 -> 0 | W58: =[1]TU!$AB$19 -> 0 | X58: =W58/$I58 -> 0 | Y58: =[1]TU!$AC$19 -> 0 | Z58: =Y58/$I58 -> 0 | AA58: =[1]TU!$AD$19 -> 0 | AB58: =AA58/$I58 -> 0 | AC58: =[1]TU!$AE$19 -> 0 | AD58: =AC58/$I58 -> 0 | AE58: =[1]TU!$AF$19 -> 0 | AF58: =AE58/$I58 -> 0 | AG58: =[1]TU!$AG$19 -> 0 | AH58: =AG58/$I58 -> 0 | AI58: =SUM(AG58,AE58,AC58,AA58,Y58,W58,U58,S58,Q58,O58,M58,K58) -> 5 | AJ58: =AI58/I58 -> 0.5 | AK58: Laporan rapat konsultasi DPRD | AM58: =SUM(K58,M58,O58) -> 2 | AN58: =SUM(Q58,S58,U58) -> 3 | AO58: =SUM(W58,Y58,AA58) -> 0 | AP58: =SUM(AC58,AE58,AG58) -> 0
A59: 4 | B59: 02 | C59: 2 | F59: PROGRAM DUKUNGAN PELAKSANAAN TUGAS DAN FUNGSI DPRD | I59: =SUM(I60,I92) -> 1179 | J59: Kegiatan | K59: =SUM(K60,K92) -> 50 | L59: =K59/$I59 -> 0.042408821 | M59: =SUM(M60,M92) -> 68 | N59: =M59/$I59 -> 0.057675997 | O59: =SUM(O60,O92) -> 131 | P59: =O59/$I59 -> 0.11111111 | Q59: =SUM(Q60,Q92) -> 92 | R59: =Q59/$I59 -> 0.078032231 | S59: =SUM(S60,S92) -> 129 | T59: =S59/$I59 -> 0.10941476 | U59: =SUM(U60,U92) -> 0 | V59: =U59/$I59 -> 0 | W59: =SUM(W60,W92) -> 0 | X59: =W59/$I59 -> 0 | Y59: =SUM(Y60,Y92) -> 0 | Z59: =Y59/$I59 -> 0 | AA59: =SUM(AA60,AA92) -> 0 | AB59: =AA59/$I59 -> 0 | AC59: =SUM(AC60,AC92) -> 0 | AD59: =AC59/$I59 -> 0 | AE59: =SUM(AE60,AE92) -> 0 | AF59: =AE59/$I59 -> 0 | AG59: =SUM(AG60,AG92) -> 0 | AH59: =AG59/$I59 -> 0 | AI59: =SUM(AG59,AE59,AC59,AA59,Y59,W59,U59,S59,Q59,O59,M59,K59) -> 470 | AJ59: =AI59/I59 -> 0.39864292 | AM59: =SUM(K59,M59,O59) -> 249 | AN59: =SUM(Q59,S59,U59) -> 221 | AO59: =SUM(W59,Y59,AA59) -> 0 | AP59: =SUM(AC59,AE59,AG59) -> 0
A60: Terselenggaranya Fasilitasi Pelaksanaan Fungsi DPRD | G60: Jumlah Kegiatan Fasilitasi Pelaksanaan Fungsi DPRD | H60: Jumlah Kegiatan Fasilitasi Pelaksanaan Fungsi DPRD | I60: =SUM(I61,I69,I77) -> 574 | J60: Kegiatan | K60: =SUM(K61,K69,K77) -> 18 | L60: =K60/$I60 -> 0.031358885 | M60: =SUM(M61,M69,M77) -> 19 | N60: =M60/$I60 -> 0.033101045 | O60: =SUM(O61,O69,O77) -> 73 | P60: =O60/$I60 -> 0.1271777 | Q60: =SUM(Q61,Q69,Q77) -> 32 | R60: =Q60/$I60 -> 0.055749129 | S60: =SUM(S61,S69,S77) -> 77 | T60: =S60/$I60 -> 0.13414634 | U60: =SUM(U61,U69,U77) -> 0 | V60: =U60/$I60 -> 0 | W60: =SUM(W61,W69,W77) -> 0 | X60: =W60/$I60 -> 0 | Y60: =SUM(Y61,Y69,Y77) -> 0 | Z60: =Y60/$I60 -> 0 | AA60: =SUM(AA61,AA69,AA77) -> 0 | AB60: =AA60/$I60 -> 0 | AC60: =SUM(AC61,AC69,AC77) -> 0 | AD60: =AC60/$I60 -> 0 | AE60: =SUM(AE61,AE69,AE77) -> 0 | AF60: =AE60/$I60 -> 0 | AG60: =SUM(AG61,AG69,AG77) -> 0 | AH60: =AG60/$I60 -> 0 | AI60: =SUM(K60,M60,O60,Q60,S60,U60,W60,Y60,AA60,AC60,AE60,AG60) -> 219 | AJ60: =AI60/I60 -> 0.3815331 | AL60: =SUM(AI61,AI69,AI77) -> 219 | AM60: =SUM(K60,M60,O60) -> 110 | AN60: =SUM(Q60,S60,U60) -> 109 | AO60: =SUM(W60,Y60,AA60) -> 0 | AP60: =SUM(AC60,AE60,AG60) -> 0
A61: Meningkatnya Kualitas Persidangan dan Kajian Peratuan Perundang-Undangan | G61: Jumlah kegiatan peningkatan Kualitas Persidangan dan Kajian Peratuan Perundang-Undangan | H61: Jumlah kegiatan peningkatan Kualitas Persidangan dan Kajian Peratuan Perundang-Undangan | I61: =SUM(I62) -> 339 | J61: Kegiatan | K61: =SUM(K62) -> 0 | L61: =K61/$I62 -> 0 | M61: =SUM(M62) -> 1 | N61: =M61/$I62 -> 0.0029498525 | O61: =SUM(O62) -> 54 | P61: =O61/$I62 -> 0.15929204 | Q61: =SUM(Q62) -> 9 | R61: =Q61/$I62 -> 0.026548673 | S61: =SUM(S62) -> 61 | T61: =S61/$I62 -> 0.179941 | U61: =SUM(U62) -> 0 | V61: =U61/$I62 -> 0 | W61: =SUM(W62) -> 0 | X61: =W61/$I62 -> 0 | Y61: =SUM(Y62) -> 0 | Z61: =Y61/$I62 -> 0 | AA61: =SUM(AA62) -> 0 | AB61: =AA61/$I62 -> 0 | AC61: =SUM(AC62) -> 0 | AD61: =AC61/$I62 -> 0 | AE61: =SUM(AE62) -> 0 | AF61: =AE61/$I62 -> 0 | AG61: =SUM(AG62) -> 0 | AH61: =AG61/$I62 -> 0 | AI61: =SUM(AG61,AE61,AC61,AA61,Y61,W61,U61,S61,Q61,O61,M61,K61) -> 125 | AJ61: =AI61/I61 -> 0.36873156 | AM61: =SUM(K61,M61,O61) -> 55 | AN61: =SUM(Q61,S61,U61) -> 70 | AO61: =SUM(W61,Y61,AA61) -> 0 | AP61: =SUM(AC61,AE61,AG61) -> 0
A62: 4 | B62: 02 | C62: 2 | D62: 2.01 | F62: Pembentukan Peraturan Daerah dan Peraturan DPRD | G62: Jumlah dokumen hasil kegiatan pembentukan Peraturan Daerah dan Peraturan DPRD yang difasilitasi | H62: Jumlah dokumen hasil kegiatan pembentukan Peraturan Daerah dan Peraturan DPRD yang difasilitasi ditambah dokumen hasil pelaksanaan sosperda | I62: =SUM(I63:I66)+324 -> 339 | J62: Dokumen | K62: =IF(K67>0,SUM(K63:K66)+54,SUM(K63:K66)) -> 0 | L62: =K62/$I62 -> 0 | M62: =IF(M67>0,SUM(M63:M66)+54,SUM(M63:M66)) -> 1 | N62: =M62/$I62 -> 0.0029498525 | O62: =IF(O67>0,SUM(O63:O66)+54,SUM(O63:O66)) -> 54 | P62: =O62/$I62 -> 0.15929204 | Q62: =IF(Q67>0,SUM(Q63:Q66)+54,SUM(Q63:Q66)) -> 9 | R62: =Q62/$I62 -> 0.026548673 | S62: =IF(S67>0,SUM(S63:S66)+54,SUM(S63:S66)) -> 61 | T62: =S62/$I62 -> 0.179941 | U62: =IF(U67>0,SUM(U63:U66)+54,SUM(U63:U66)) -> 0 | V62: =U62/$I62 -> 0 | W62: =IF(W67>0,SUM(W63:W66)+54,SUM(W63:W66)) -> 0 | X62: =W62/$I62 -> 0 | Y62: =IF(Y67>0,SUM(Y63:Y66)+54,SUM(Y63:Y66)) -> 0 | Z62: =Y62/$I62 -> 0 | AA62: =IF(AA67>0,SUM(AA63:AA66)+54,SUM(AA63:AA66)) -> 0 | AB62: =AA62/$I62 -> 0 | AC62: =IF(AC67>0,SUM(AC63:AC66)+54,SUM(AC63:AC66)) -> 0 | AD62: =AC62/$I62 -> 0 | AE62: =IF(AE67>0,SUM(AE63:AE66)+54,SUM(AE63:AE66)) -> 0 | AF62: =AE62/$I62 -> 0 | AG62: =IF(AG67>0,SUM(AG63:AG66)+54,SUM(AG63:AG66)) -> 0 | AH62: =AG62/$I62 -> 0 | AI62: =SUM(AG62,AE62,AC62,AA62,Y62,W62,U62,S62,Q62,O62,M62,K62) -> 125 | AJ62: =AI62/I62 -> 0.36873156 | AM62: =SUM(K62,M62,O62) -> 55 | AN62: =SUM(Q62,S62,U62) -> 70 | AO62: =SUM(W62,Y62,AA62) -> 0 | AP62: =SUM(AC62,AE62,AG62) -> 0
A63: 4 | B63: 02 | C63: 2 | D63: 2.01 | E63: 01 | F63: Penyusunan dan Pembahasan Program Pembentukan Peraturan Daerah | G63: Jumlah Dokumen Hasil Penyusunan dan Pembahasan Program Pembentukan Peraturan Daerah | H63: Jumlah Dokumen Hasil Penyusunan dan Pembahasan Program Pembentukan Peraturan Daerah | I63: 2 | J63: Dokumen | K63: =[1]KAJIAN!$V7 -> 0 | L63: =K63/$I63 -> 0 | M63: =[1]KAJIAN!$W7 -> 1 | N63: =M63/$I63 -> 0.5 | O63: =[1]KAJIAN!$X7 -> 0 | P63: =O63/$I63 -> 0 | Q63: =[1]KAJIAN!$Y7 -> 0 | R63: =Q63/$I63 -> 0 | S63: =[1]KAJIAN!$Z7 -> 0 | T63: =S63/$I63 -> 0 | U63: =[1]KAJIAN!$AA7 -> 0 | V63: =U63/$I63 -> 0 | W63: =[1]KAJIAN!$AB7 -> 0 | X63: =W63/$I63 -> 0 | Y63: =[1]KAJIAN!$AC7 -> 0 | Z63: =Y63/$I63 -> 0 | AA63: =[1]KAJIAN!$AD7 -> 0 | AB63: =AA63/$I63 -> 0 | AC63: =[1]KAJIAN!$AE7 -> 0 | AD63: =AC63/$I63 -> 0 | AE63: =[1]KAJIAN!$AF7 -> 0 | AF63: =AE63/$I63 -> 0 | AG63: =[1]KAJIAN!$AG7 -> 0 | AH63: =AG63/$I63 -> 0 | AI63: =SUM(AG63,AE63,AC63,AA63,Y63,W63,U63,S63,Q63,O63,M63,K63) -> 1 | AJ63: =AI63/I63 -> 0.5 | AK63: KEPUTUSAN PERUBAHAN PROPEMPERDA 2026 yang dipakai | AM63: =SUM(K63,M63,O63) -> 1 | AN63: =SUM(Q63,S63,U63) -> 0 | AO63: =SUM(W63,Y63,AA63) -> 0 | AP63: =SUM(AC63,AE63,AG63) -> 0
A64: 4 | B64: 02 | C64: 2 | D64: 2.01 | E64: 02 | F64: Pembahasan Rancangan Perda | G64: Jumlah Dokumen Hasil Pembahasan Rancangan Peraturan Daerah | H64: Jumlah Dokumen Hasil Pembahasan Rancangan Peraturan Daerah | I64: 8 | J64: Dokumen | K64: =[1]KAJIAN!$V8 -> 0 | L64: =K64/$I64 -> 0 | M64: =[1]KAJIAN!$W8 -> 0 | N64: =M64/$I64 -> 0 | O64: =[1]KAJIAN!$X8 -> 0 | P64: =O64/$I64 -> 0 | Q64: =[1]KAJIAN!$Y8 -> 9 | R64: =Q64/$I64 -> 1.125 | S64: =[1]KAJIAN!$Z8 -> 6 | T64: =S64/$I64 -> 0.75 | U64: =[1]KAJIAN!$AA8 -> 0 | V64: =U64/$I64 -> 0 | W64: =[1]KAJIAN!$AB8 -> 0 | X64: =W64/$I64 -> 0 | Y64: =[1]KAJIAN!$AC8 -> 0 | Z64: =Y64/$I64 -> 0 | AA64: =[1]KAJIAN!$AD8 -> 0 | AB64: =AA64/$I64 -> 0 | AC64: =[1]KAJIAN!$AE8 -> 0 | AD64: =AC64/$I64 -> 0 | AE64: =[1]KAJIAN!$AF8 -> 0 | AF64: =AE64/$I64 -> 0 | AG64: =[1]KAJIAN!$AG8 -> 0 | AH64: =AG64/$I64 -> 0 | AI64: =SUM(AG64,AE64,AC64,AA64,Y64,W64,U64,S64,Q64,O64,M64,K64) -> 15 | AJ64: =AI64/I64 -> 1.875 | AM64: =SUM(K64,M64,O64) -> 0 | AN64: =SUM(Q64,S64,U64) -> 15 | AO64: =SUM(W64,Y64,AA64) -> 0 | AP64: =SUM(AC64,AE64,AG64) -> 0
A65: 4 | B65: 02 | C65: 2 | D65: 2.01 | E65: 03 | F65: Penyelenggaraan Kajian Perundang-Undangan | G65: Jumlah Dokumen Kajian Perundang-Undangan | H65: Jumlah Dokumen Kajian Perundang-Undangan | I65: 1 | J65: Dokumen | K65: =[1]KAJIAN!$V9 -> 0 | L65: =K65/$I65 -> 0 | M65: =[1]KAJIAN!$W9 -> 0 | N65: =M65/$I65 -> 0 | O65: =[1]KAJIAN!$X9 -> 0 | P65: =O65/$I65 -> 0 | Q65: =[1]KAJIAN!$Y9 -> 0 | R65: =Q65/$I65 -> 0 | S65: =[1]KAJIAN!$Z9 -> 0 | T65: =S65/$I65 -> 0 | U65: =[1]KAJIAN!$AA9 -> 0 | V65: =U65/$I65 -> 0 | W65: =[1]KAJIAN!$AB9 -> 0 | X65: =W65/$I65 -> 0 | Y65: =[1]KAJIAN!$AC9 -> 0 | Z65: =Y65/$I65 -> 0 | AA65: =[1]KAJIAN!$AD9 -> 0 | AB65: =AA65/$I65 -> 0 | AC65: =[1]KAJIAN!$AE9 -> 0 | AD65: =AC65/$I65 -> 0 | AE65: =[1]KAJIAN!$AF9 -> 0 | AF65: =AE65/$I65 -> 0 | AG65: =[1]KAJIAN!$AG9 -> 0 | AH65: =AG65/$I65 -> 0 | AI65: =SUM(AG65,AE65,AC65,AA65,Y65,W65,U65,S65,Q65,O65,M65,K65) -> 0 | AJ65: =AI65/I65 -> 0 | AM65: =SUM(K65,M65,O65) -> 0 | AN65: =SUM(Q65,S65,U65) -> 0 | AO65: =SUM(W65,Y65,AA65) -> 0 | AP65: =SUM(AC65,AE65,AG65) -> 0
A66: 4 | B66: 02 | C66: 2 | D66: 2.01 | E66: 04 | F66: Fasilitasi Penyusunan Penjelasan/Keterangan dan/atau Naskah Akademik | G66: Jumlah Dokumen Hasil Penyusunan Penjelasan atau Keterangan dan/atau Naskah Akademik yang Difasilitasi | H66: Jumlah Dokumen Hasil Penyusunan Penjelasan atau Keterangan dan/atau Naskah Akademik yang Difasilitasi | I66: 4 | J66: Dokumen | K66: =[1]KAJIAN!$V10 -> 0 | L66: =K66/$I66 -> 0 | M66: =[1]KAJIAN!$W10 -> 0 | N66: =M66/$I66 -> 0 | O66: =[1]KAJIAN!$X10 -> 0 | P66: =O66/$I66 -> 0 | Q66: =[1]KAJIAN!$Y10 -> 0 | R66: =Q66/$I66 -> 0 | S66: =[1]KAJIAN!$Z10 -> 1 | T66: =S66/$I66 -> 0.25 | U66: =[1]KAJIAN!$AA10 -> 0 | V66: =U66/$I66 -> 0 | W66: =[1]KAJIAN!$AB10 -> 0 | X66: =W66/$I66 -> 0 | Y66: =[1]KAJIAN!$AC10 -> 0 | Z66: =Y66/$I66 -> 0 | AA66: =[1]KAJIAN!$AD10 -> 0 | AB66: =AA66/$I66 -> 0 | AC66: =[1]KAJIAN!$AE10 -> 0 | AD66: =AC66/$I66 -> 0 | AE66: =[1]KAJIAN!$AF10 -> 0 | AF66: =AE66/$I66 -> 0 | AG66: =[1]KAJIAN!$AG10 -> 0 | AH66: =AG66/$I66 -> 0 | AI66: =SUM(AG66,AE66,AC66,AA66,Y66,W66,U66,S66,Q66,O66,M66,K66) -> 1 | AJ66: =AI66/I66 -> 0.25 | AM66: =SUM(K66,M66,O66) -> 0 | AN66: =SUM(Q66,S66,U66) -> 1 | AO66: =SUM(W66,Y66,AA66) -> 0 | AP66: =SUM(AC66,AE66,AG66) -> 0
A67: 4 | B67: 02 | C67: 2 | D67: 2.01 | E67: 06 | F67: Sosialisasi Peraturan Daerah yang Dilakukan Bersama oleh DPRD dan Pemerintah Daerah | G67: Jumlah Orang yang Mengikuti Sosialisasi Peraturan Daerah yang Dilakukan Bersama oleh DPRD dan Pemerintah Daerah | H67: Jumlah Orang yang Mengikuti Sosialisasi Peraturan Daerah yang Dilakukan Bersama oleh DPRD dan Pemerintah Daerah | I67: 32400 | J67: Orang | K67: =[1]HUMAS!$V$9 -> 0 | L67: =K67/$I67 -> 0 | M67: 0 | N67: =M67/$I67 -> 0 | O67: =[1]HUMAS!$X$9 -> 10800 | P67: =O67/$I67 -> 0.33333333 | Q67: =[1]HUMAS!$Y$9 -> 0 | R67: =Q67/$I67 -> 0 | S67: =[1]HUMAS!$Z$9 -> 4900 | T67: =S67/$I67 -> 0.15123457 | U67: =[1]HUMAS!$AA$9 -> 0 | V67: =U67/$I67 -> 0 | W67: =[1]HUMAS!$AB$9 -> 0 | X67: =W67/$I67 -> 0 | Y67: =[1]HUMAS!$AC$9 -> 0 | Z67: =Y67/$I67 -> 0 | AA67: =[1]HUMAS!$AD$9 -> 0 | AB67: =AA67/$I67 -> 0 | AC67: =[1]HUMAS!$AE$9 -> 0 | AD67: =AC67/$I67 -> 0 | AE67: =[1]HUMAS!$AF$9 -> 0 | AF67: =AE67/$I67 -> 0 | AG67: =[1]HUMAS!$AG$9 -> 0 | AH67: =AG67/$I67 -> 0 | AI67: =SUM(AG67,AE67,AC67,AA67,Y67,W67,U67,S67,Q67,O67,M67,K67) -> 15700 | AJ67: =AI67/I67 -> 0.4845679 | AM67: =SUM(K67,M67,O67) -> 10800 | AN67: =SUM(Q67,S67,U67) -> 4900 | AO67: =SUM(W67,Y67,AA67) -> 0 | AP67: =SUM(AC67,AE67,AG67) -> 0
A68: Indikator Program | G68: Persentase fasilitasi pelaksanaan tugas dan fungsi penganggaran DPRD | H68: Persentase fasilitasi pelaksanaan tugas dan fungsi penganggaran DPRD | I68: 100 | J68: % | AI68: =SUM(AG68,AE68,AC68,AA68,Y68,W68,U68,S68,Q68,O68,M68,K68) -> 0 | AJ68: =AI68/I68 -> 0 | AM68: =SUM(K68,M68,O68) -> 0 | AN68: =SUM(Q68,S68,U68) -> 0 | AO68: =SUM(W68,Y68,AA68) -> 0 | AP68: =SUM(AC68,AE68,AG68) -> 0
A69: Meningkatnya Kualitas Penganggaran | G69: Jumlah kegiatan peningkatan Kualitas Penganggaran | H69: Jumlah kegiatan peningkatan Kualitas Penganggaran | I69: =SUM(I70) -> 22 | J69: Kegiatan | K69: =SUM(K70) -> 1 | L69: =K69/$I70 -> 0.045454545 | M69: =SUM(M70) -> 0 | N69: =M69/$I70 -> 0 | O69: =SUM(O70) -> 0 | P69: =O69/$I70 -> 0 | Q69: =SUM(Q70) -> 0 | R69: =Q69/$I70 -> 0 | S69: =SUM(S70) -> 0 | T69: =S69/$I70 -> 0 | U69: =SUM(U70) -> 0 | V69: =U69/$I70 -> 0 | W69: =SUM(W70) -> 0 | X69: =W69/$I70 -> 0 | Y69: =SUM(Y70) -> 0 | Z69: =Y69/$I70 -> 0 | AA69: =SUM(AA70) -> 0 | AB69: =AA69/$I70 -> 0 | AC69: =SUM(AC70) -> 0 | AD69: =AC69/$I70 -> 0 | AE69: =SUM(AE70) -> 0 | AF69: =AE69/$I70 -> 0 | AG69: =SUM(AG70) -> 0 | AH69: =AG69/$I70 -> 0 | AI69: =SUM(AG69,AE69,AC69,AA69,Y69,W69,U69,S69,Q69,O69,M69,K69) -> 1 | AJ69: =AI69/I69 -> 0.045454545 | AM69: =SUM(K69,M69,O69) -> 1 | AN69: =SUM(Q69,S69,U69) -> 0 | AO69: =SUM(W69,Y69,AA69) -> 0 | AP69: =SUM(AC69,AE69,AG69) -> 0
A70: 4 | B70: 02 | C70: 2 | D70: 2.02 | F70: Pembahasan Kebijakan Anggaran | G70: Jumlah laporan hasil kegiatan pembahasan kebijakan anggaran yang difasilitasi | H70: Jumlah laporan hasil kegiatan pembahasan kebijakan anggaran yang difasilitasi | I70: =SUM(I71:I76) -> 22 | J70: Dokumen | K70: =SUM(K71:K76) -> 1 | L70: =K70/$I70 -> 0.045454545 | M70: =SUM(M71:M76) -> 0 | N70: =M70/$I70 -> 0 | O70: =SUM(O71:O76) -> 0 | P70: =O70/$I70 -> 0 | Q70: =SUM(Q71:Q76) -> 0 | R70: =Q70/$I70 -> 0 | S70: =SUM(S71:S76) -> 0 | T70: =S70/$I70 -> 0 | U70: =SUM(U71:U76) -> 0 | V70: =U70/$I70 -> 0 | W70: =SUM(W71:W76) -> 0 | X70: =W70/$I70 -> 0 | Y70: =SUM(Y71:Y76) -> 0 | Z70: =Y70/$I70 -> 0 | AA70: =SUM(AA71:AA76) -> 0 | AB70: =AA70/$I70 -> 0 | AC70: =SUM(AC71:AC76) -> 0 | AD70: =AC70/$I70 -> 0 | AE70: =SUM(AE71:AE76) -> 0 | AF70: =AE70/$I70 -> 0 | AG70: =SUM(AG71:AG76) -> 0 | AH70: =AG70/$I70 -> 0 | AI70: =SUM(AG70,AE70,AC70,AA70,Y70,W70,U70,S70,Q70,O70,M70,K70) -> 1 | AJ70: =AI70/I70 -> 0.045454545 | AM70: =SUM(K70,M70,O70) -> 1 | AN70: =SUM(Q70,S70,U70) -> 0 | AO70: =SUM(W70,Y70,AA70) -> 0 | AP70: =SUM(AC70,AE70,AG70) -> 0
A71: 4 | B71: 02 | C71: 2 | D71: 2.02 | E71: 01 | F71: Pembahasan KUA dan PPAS | G71: Jumlah Dokumen Hasil Pembahasan KUA dan PPAS | H71: Jumlah Dokumen Hasil Pembahasan KUA dan PPAS | I71: 4 | J71: Dokumen | K71: =[1]GARWAS!$V7 -> 0 | L71: =K71/$I71 -> 0 | M71: =[1]GARWAS!$W7 -> 0 | N71: =M71/$I71 -> 0 | O71: =[1]GARWAS!$X7 -> 0 | P71: =O71/$I71 -> 0 | Q71: =[1]GARWAS!$Y7 -> 0 | R71: =Q71/$I71 -> 0 | S71: =[1]GARWAS!$Z7 -> 0 | T71: =S71/$I71 -> 0 | U71: =[1]GARWAS!$AA7 -> 0 | V71: =U71/$I71 -> 0 | W71: =[1]GARWAS!$AB7 -> 0 | X71: =W71/$I71 -> 0 | Y71: =[1]GARWAS!$AC7 -> 0 | Z71: =Y71/$I71 -> 0 | AA71: =[1]GARWAS!$AD7 -> 0 | AB71: =AA71/$I71 -> 0 | AC71: =[1]GARWAS!$AE7 -> 0 | AD71: =AC71/$I71 -> 0 | AE71: =[1]GARWAS!$AF7 -> 0 | AF71: =AE71/$I71 -> 0 | AG71: =[1]GARWAS!$AG7 -> 0 | AH71: =AG71/$I71 -> 0 | AI71: =SUM(AG71,AE71,AC71,AA71,Y71,W71,U71,S71,Q71,O71,M71,K71) -> 0 | AJ71: =AI71/I71 -> 0 | AM71: =SUM(K71,M71,O71) -> 0 | AN71: =SUM(Q71,S71,U71) -> 0 | AO71: =SUM(W71,Y71,AA71) -> 0 | AP71: =SUM(AC71,AE71,AG71) -> 0
A72: 4 | B72: 02 | C72: 2 | D72: 2.02 | E72: 02 | F72: Pembahasan Perubahan KUA dan Perubahan PPAS | G72: Jumlah Dokumen Hasil Pembahasan Perubahan KUA dan Perubahan PPAS | H72: Jumlah Dokumen Hasil Pembahasan Perubahan KUA dan Perubahan PPAS | I72: 4 | J72: Dokumen | K72: =[1]GARWAS!$V8 -> 0 | L72: =K72/$I72 -> 0 | M72: =[1]GARWAS!$W8 -> 0 | N72: =M72/$I72 -> 0 | O72: =[1]GARWAS!$X8 -> 0 | P72: =O72/$I72 -> 0 | Q72: =[1]GARWAS!$Y8 -> 0 | R72: =Q72/$I72 -> 0 | S72: =[1]GARWAS!$Z8 -> 0 | T72: =S72/$I72 -> 0 | U72: =[1]GARWAS!$AA8 -> 0 | V72: =U72/$I72 -> 0 | W72: =[1]GARWAS!$AB8 -> 0 | X72: =W72/$I72 -> 0 | Y72: =[1]GARWAS!$AC8 -> 0 | Z72: =Y72/$I72 -> 0 | AA72: =[1]GARWAS!$AD8 -> 0 | AB72: =AA72/$I72 -> 0 | AC72: =[1]GARWAS!$AE8 -> 0 | AD72: =AC72/$I72 -> 0 | AE72: =[1]GARWAS!$AF8 -> 0 | AF72: =AE72/$I72 -> 0 | AG72: =[1]GARWAS!$AG8 -> 0 | AH72: =AG72/$I72 -> 0 | AI72: =SUM(AG72,AE72,AC72,AA72,Y72,W72,U72,S72,Q72,O72,M72,K72) -> 0 | AJ72: =AI72/I72 -> 0 | AM72: =SUM(K72,M72,O72) -> 0 | AN72: =SUM(Q72,S72,U72) -> 0 | AO72: =SUM(W72,Y72,AA72) -> 0 | AP72: =SUM(AC72,AE72,AG72) -> 0
A73: 4 | B73: 02 | C73: 2 | D73: 2.02 | E73: 03 | F73: Pembahasan APBD | G73: Jumlah Dokumen Hasil Pembahasan APBD | H73: Jumlah Dokumen Hasil Pembahasan APBD | I73: 4 | J73: Dokumen | K73: =[1]GARWAS!$V9 -> 0 | L73: =K73/$I73 -> 0 | M73: =[1]GARWAS!$W9 -> 0 | N73: =M73/$I73 -> 0 | O73: =[1]GARWAS!$X9 -> 0 | P73: =O73/$I73 -> 0 | Q73: =[1]GARWAS!$Y9 -> 0 | R73: =Q73/$I73 -> 0 | S73: =[1]GARWAS!$Z9 -> 0 | T73: =S73/$I73 -> 0 | U73: =[1]GARWAS!$AA9 -> 0 | V73: =U73/$I73 -> 0 | W73: =[1]GARWAS!$AB9 -> 0 | X73: =W73/$I73 -> 0 | Y73: =[1]GARWAS!$AC9 -> 0 | Z73: =Y73/$I73 -> 0 | AA73: =[1]GARWAS!$AD9 -> 0 | AB73: =AA73/$I73 -> 0 | AC73: =[1]GARWAS!$AE9 -> 0 | AD73: =AC73/$I73 -> 0 | AE73: =[1]GARWAS!$AF9 -> 0 | AF73: =AE73/$I73 -> 0 | AG73: =[1]GARWAS!$AG9 -> 0 | AH73: =AG73/$I73 -> 0 | AI73: =SUM(AG73,AE73,AC73,AA73,Y73,W73,U73,S73,Q73,O73,M73,K73) -> 0 | AJ73: =AI73/I73 -> 0 | AM73: =SUM(K73,M73,O73) -> 0 | AN73: =SUM(Q73,S73,U73) -> 0 | AO73: =SUM(W73,Y73,AA73) -> 0 | AP73: =SUM(AC73,AE73,AG73) -> 0
A74: 4 | B74: 02 | C74: 2 | D74: 2.02 | E74: 04 | F74: Pembahasan APBD Perubahan | G74: Jumlah Dokumen Hasil Pembahasan APBD Perubahan | H74: Jumlah Dokumen Hasil Pembahasan APBD Perubahan | I74: 4 | J74: Dokumen | K74: =[1]GARWAS!$V10 -> 0 | L74: =K74/$I74 -> 0 | M74: =[1]GARWAS!$W10 -> 0 | N74: =M74/$I74 -> 0 | O74: =[1]GARWAS!$X10 -> 0 | P74: =O74/$I74 -> 0 | Q74: =[1]GARWAS!$Y10 -> 0 | R74: =Q74/$I74 -> 0 | S74: =[1]GARWAS!$Z10 -> 0 | T74: =S74/$I74 -> 0 | U74: =[1]GARWAS!$AA10 -> 0 | V74: =U74/$I74 -> 0 | W74: =[1]GARWAS!$AB10 -> 0 | X74: =W74/$I74 -> 0 | Y74: =[1]GARWAS!$AC10 -> 0 | Z74: =Y74/$I74 -> 0 | AA74: =[1]GARWAS!$AD10 -> 0 | AB74: =AA74/$I74 -> 0 | AC74: =[1]GARWAS!$AE10 -> 0 | AD74: =AC74/$I74 -> 0 | AE74: =[1]GARWAS!$AF10 -> 0 | AF74: =AE74/$I74 -> 0 | AG74: =[1]GARWAS!$AG10 -> 0 | AH74: =AG74/$I74 -> 0 | AI74: =SUM(AG74,AE74,AC74,AA74,Y74,W74,U74,S74,Q74,O74,M74,K74) -> 0 | AJ74: =AI74/I74 -> 0 | AM74: =SUM(K74,M74,O74) -> 0 | AN74: =SUM(Q74,S74,U74) -> 0 | AO74: =SUM(W74,Y74,AA74) -> 0 | AP74: =SUM(AC74,AE74,AG74) -> 0
A75: 4 | B75: 02 | C75: 2 | D75: 2.02 | E75: 05 | F75: Pembahasan Laporan Semester | G75: Jumlah Dokumen Hasil Pembahasan Laporan Realisasi Pelaksanaan APBD Per Semester | H75: Jumlah Dokumen Hasil Pembahasan Laporan Realisasi Pelaksanaan APBD Per Semester | I75: 2 | J75: Dokumen | K75: =[1]GARWAS!$V11 -> 1 | L75: =K75/$I75 -> 0.5 | M75: =[1]GARWAS!$W11 -> 0 | N75: =M75/$I75 -> 0 | O75: =[1]GARWAS!$X11 -> 0 | P75: =O75/$I75 -> 0 | Q75: =[1]GARWAS!$Y11 -> 0 | R75: =Q75/$I75 -> 0 | S75: =[1]GARWAS!$Z11 -> 0 | T75: =S75/$I75 -> 0 | U75: =[1]GARWAS!$AA11 -> 0 | V75: =U75/$I75 -> 0 | W75: =[1]GARWAS!$AB11 -> 0 | X75: =W75/$I75 -> 0 | Y75: =[1]GARWAS!$AC11 -> 0 | Z75: =Y75/$I75 -> 0 | AA75: =[1]GARWAS!$AD11 -> 0 | AB75: =AA75/$I75 -> 0 | AC75: =[1]GARWAS!$AE11 -> 0 | AD75: =AC75/$I75 -> 0 | AE75: =[1]GARWAS!$AF11 -> 0 | AF75: =AE75/$I75 -> 0 | AG75: =[1]GARWAS!$AG11 -> 0 | AH75: =AG75/$I75 -> 0 | AI75: =SUM(AG75,AE75,AC75,AA75,Y75,W75,U75,S75,Q75,O75,M75,K75) -> 1 | AJ75: =AI75/I75 -> 0.5 | AM75: =SUM(K75,M75,O75) -> 1 | AN75: =SUM(Q75,S75,U75) -> 0 | AO75: =SUM(W75,Y75,AA75) -> 0 | AP75: =SUM(AC75,AE75,AG75) -> 0
A76: 4 | B76: 02 | C76: 2 | D76: 2.02 | E76: 06 | F76: Pembahasan Pertanggungjawaban APBD | G76: Jumlah Dokumen Hasil Pembahasan Pertanggungjawaban APBD | H76: Jumlah Dokumen Hasil Pembahasan Pertanggungjawaban APBD | I76: 4 | J76: Dokumen | K76: =[1]GARWAS!$V12 -> 0 | L76: =K76/$I76 -> 0 | M76: =[1]GARWAS!$W12 -> 0 | N76: =M76/$I76 -> 0 | O76: =[1]GARWAS!$X12 -> 0 | P76: =O76/$I76 -> 0 | Q76: =[1]GARWAS!$Y12 -> 0 | R76: =Q76/$I76 -> 0 | S76: =[1]GARWAS!$Z12 -> 0 | T76: =S76/$I76 -> 0 | U76: =[1]GARWAS!$AA12 -> 0 | V76: =U76/$I76 -> 0 | W76: =[1]GARWAS!$AB12 -> 0 | X76: =W76/$I76 -> 0 | Y76: =[1]GARWAS!$AC12 -> 0 | Z76: =Y76/$I76 -> 0 | AA76: =[1]GARWAS!$AD12 -> 0 | AB76: =AA76/$I76 -> 0 | AC76: =[1]GARWAS!$AE12 -> 0 | AD76: =AC76/$I76 -> 0 | AE76: =[1]GARWAS!$AF12 -> 0 | AF76: =AE76/$I76 -> 0 | AG76: =[1]GARWAS!$AG12 -> 0 | AH76: =AG76/$I76 -> 0 | AI76: =SUM(AG76,AE76,AC76,AA76,Y76,W76,U76,S76,Q76,O76,M76,K76) -> 0 | AJ76: =AI76/I76 -> 0 | AM76: =SUM(K76,M76,O76) -> 0 | AN76: =SUM(Q76,S76,U76) -> 0 | AO76: =SUM(W76,Y76,AA76) -> 0 | AP76: =SUM(AC76,AE76,AG76) -> 0
A77: Meningkatnya Kualitas Pengawasan | G77: Jumlah kegiatan peningkatan Kualitas Pengawasan | H77: Jumlah kegiatan peningkatan Kualitas Pengawasan | I77: =SUM(I78,I86,I89) -> 213 | J77: Kegiatan | K77: =SUM(K78,K86,K89) -> 17 | L77: =K77/$I77 -> 0.079812207 | M77: =SUM(M78,M86,M89) -> 18 | N77: =M77/$I77 -> 0.084507042 | O77: =SUM(O78,O86,O89) -> 19 | P77: =O77/$I77 -> 0.089201878 | Q77: =SUM(Q78,Q86,Q89) -> 23 | R77: =Q77/$I77 -> 0.10798122 | S77: =SUM(S78,S86,S89) -> 16 | T77: =S77/$I77 -> 0.075117371 | U77: =SUM(U78,U86,U89) -> 0 | V77: =U77/$I77 -> 0 | W77: =SUM(W78,W86,W89) -> 0 | X77: =W77/$I77 -> 0 | Y77: =SUM(Y78,Y86,Y89) -> 0 | Z77: =Y77/$I77 -> 0 | AA77: =SUM(AA78,AA86,AA89) -> 0 | AB77: =AA77/$I77 -> 0 | AC77: =SUM(AC78,AC86,AC89) -> 0 | AD77: =AC77/$I77 -> 0 | AE77: =SUM(AE78,AE86,AE89) -> 0 | AF77: =AE77/$I77 -> 0 | AG77: =SUM(AG78,AG86,AG89) -> 0 | AH77: =AG77/$I77 -> 0 | AI77: =SUM(AG77,AE77,AC77,AA77,Y77,W77,U77,S77,Q77,O77,M77,K77) -> 93 | AJ77: =AI77/I77 -> 0.43661972 | AM77: =SUM(K77,M77,O77) -> 54 | AN77: =SUM(Q77,S77,U77) -> 39 | AO77: =SUM(W77,Y77,AA77) -> 0 | AP77: =SUM(AC77,AE77,AG77) -> 0
A78: 4 | B78: 02 | C78: 2 | D78: 2.03 | F78: Pengawasan Penyelenggaraan Pemerintahan | G78: Jumlah laporan hasil kegiatan pengawasan penyelenggaraan pemerintahan yang difasilitasi | H78: Jumlah laporan hasil kegiatan pengawasan penyelenggaraan pemerintahan yang difasilitasi | I78: =SUM(I79:I85) -> 204 | J78: Laporan | K78: =SUM(K79:K85) -> 17 | L78: =K78/$I78 -> 0.083333333 | M78: =SUM(M79:M85) -> 16 | N78: =M78/$I78 -> 0.078431373 | O78: =SUM(O79:O85) -> 18 | P78: =O78/$I78 -> 0.088235294 | Q78: =SUM(Q79:Q85) -> 22 | R78: =Q78/$I78 -> 0.10784314 | S78: =SUM(S79:S85) -> 16 | T78: =S78/$I78 -> 0.078431373 | U78: =SUM(U79:U85) -> 0 | V78: =U78/$I78 -> 0 | W78: =SUM(W79:W85) -> 0 | X78: =W78/$I78 -> 0 | Y78: =SUM(Y79:Y85) -> 0 | Z78: =Y78/$I78 -> 0 | AA78: =SUM(AA79:AA85) -> 0 | AB78: =AA78/$I78 -> 0 | AC78: =SUM(AC79:AC85) -> 0 | AD78: =AC78/$I78 -> 0 | AE78: =SUM(AE79:AE85) -> 0 | AF78: =AE78/$I78 -> 0 | AG78: =SUM(AG79:AG85) -> 0 | AH78: =AG78/$I78 -> 0 | AI78: =SUM(AG78,AE78,AC78,AA78,Y78,W78,U78,S78,Q78,O78,M78,K78) -> 89 | AJ78: =AI78/I78 -> 0.43627451 | AM78: =SUM(K78,M78,O78) -> 51 | AN78: =SUM(Q78,S78,U78) -> 38 | AO78: =SUM(W78,Y78,AA78) -> 0 | AP78: =SUM(AC78,AE78,AG78) -> 0
A79: 4 | B79: 02 | C79: 2 | D79: 2.03 | E79: 01 | F79: Pengawasan Urusan Pemerintahanan Bidang Pemerintahanan dan Hukum | G79: Jumlah Laporan Hasil Pengawasan Urusan Pemerintahan Bidang Pemerintahan dan Hukum | H79: Jumlah Laporan Hasil Pengawasan Urusan Pemerintahan Bidang Pemerintahan dan Hukum | I79: 48 | J79: Laporan | K79: =[1]GARWAS!$V13 -> 4 | L79: =K79/$I79 -> 0.083333333 | M79: =[1]GARWAS!$W13 -> 4 | N79: =M79/$I79 -> 0.083333333 | O79: =[1]GARWAS!$X13 -> 4 | P79: =O79/$I79 -> 0.083333333 | Q79: =[1]GARWAS!$Y13 -> 4 | R79: =Q79/$I79 -> 0.083333333 | S79: =[1]GARWAS!$Z13 -> 4 | T79: =S79/$I79 -> 0.083333333 | U79: =[1]GARWAS!$AA13 -> 0 | V79: =U79/$I79 -> 0 | W79: =[1]GARWAS!$AB13 -> 0 | X79: =W79/$I79 -> 0 | Y79: =[1]GARWAS!$AC13 -> 0 | Z79: =Y79/$I79 -> 0 | AA79: =[1]GARWAS!$AD13 -> 0 | AB79: =AA79/$I79 -> 0 | AC79: =[1]GARWAS!$AE13 -> 0 | AD79: =AC79/$I79 -> 0 | AE79: =[1]GARWAS!$AF13 -> 0 | AF79: =AE79/$I79 -> 0 | AG79: =[1]GARWAS!$AG13 -> 0 | AH79: =AG79/$I79 -> 0 | AI79: =SUM(AG79,AE79,AC79,AA79,Y79,W79,U79,S79,Q79,O79,M79,K79) -> 20 | AJ79: =AI79/I79 -> 0.41666667 | AM79: =SUM(K79,M79,O79) -> 12 | AN79: =SUM(Q79,S79,U79) -> 8 | AO79: =SUM(W79,Y79,AA79) -> 0 | AP79: =SUM(AC79,AE79,AG79) -> 0
A80: 4 | B80: 02 | C80: 2 | D80: 2.03 | E80: 02 | F80: Pengawasan Urusanan Pemerintahan Bidang Infrastruktur | G80: Jumlah Laporan Hasil Pengawasan Urusan Pemerintahan Bidang Infrastruktur | H80: Jumlah Laporan Hasil Pengawasan Urusan Pemerintahan Bidang Infrastruktur | I80: 48 | J80: Laporan | K80: =[1]GARWAS!$V14 -> 4 | L80: =K80/$I80 -> 0.083333333 | M80: =[1]GARWAS!$W14 -> 4 | N80: =M80/$I80 -> 0.083333333 | O80: =[1]GARWAS!$X14 -> 5 | P80: =O80/$I80 -> 0.10416667 | Q80: =[1]GARWAS!$Y14 -> 4 | R80: =Q80/$I80 -> 0.083333333 | S80: =[1]GARWAS!$Z14 -> 3 | T80: =S80/$I80 -> 0.0625 | U80: =[1]GARWAS!$AA14 -> 0 | V80: =U80/$I80 -> 0 | W80: =[1]GARWAS!$AB14 -> 0 | X80: =W80/$I80 -> 0 | Y80: =[1]GARWAS!$AC14 -> 0 | Z80: =Y80/$I80 -> 0 | AA80: =[1]GARWAS!$AD14 -> 0 | AB80: =AA80/$I80 -> 0 | AC80: =[1]GARWAS!$AE14 -> 0 | AD80: =AC80/$I80 -> 0 | AE80: =[1]GARWAS!$AF14 -> 0 | AF80: =AE80/$I80 -> 0 | AG80: =[1]GARWAS!$AG14 -> 0 | AH80: =AG80/$I80 -> 0 | AI80: =SUM(AG80,AE80,AC80,AA80,Y80,W80,U80,S80,Q80,O80,M80,K80) -> 20 | AJ80: =AI80/I80 -> 0.41666667 | AM80: =SUM(K80,M80,O80) -> 13 | AN80: =SUM(Q80,S80,U80) -> 7 | AO80: =SUM(W80,Y80,AA80) -> 0 | AP80: =SUM(AC80,AE80,AG80) -> 0
A81: 4 | B81: 02 | C81: 2 | D81: 2.03 | E81: 03 | F81: Pengawasan Urusan Pemerintahan Bidang Kesejahteraan Rakyat | G81: Jumlah Laporan Pengawasan Urusan Pemerintahan Bidang Kesejahteraan Rakyat | H81: Jumlah Laporan Pengawasan Urusan Pemerintahan Bidang Kesejahteraan Rakyat | I81: 48 | J81: Laporan | K81: =[1]GARWAS!$V15 -> 4 | L81: =K81/$I81 -> 0.083333333 | M81: =[1]GARWAS!$W15 -> 4 | N81: =M81/$I81 -> 0.083333333 | O81: =[1]GARWAS!$X15 -> 4 | P81: =O81/$I81 -> 0.083333333 | Q81: =[1]GARWAS!$Y15 -> 4 | R81: =Q81/$I81 -> 0.083333333 | S81: =[1]GARWAS!$Z15 -> 5 | T81: =S81/$I81 -> 0.10416667 | U81: =[1]GARWAS!$AA15 -> 0 | V81: =U81/$I81 -> 0 | W81: =[1]GARWAS!$AB15 -> 0 | X81: =W81/$I81 -> 0 | Y81: =[1]GARWAS!$AC15 -> 0 | Z81: =Y81/$I81 -> 0 | AA81: =[1]GARWAS!$AD15 -> 0 | AB81: =AA81/$I81 -> 0 | AC81: =[1]GARWAS!$AE15 -> 0 | AD81: =AC81/$I81 -> 0 | AE81: =[1]GARWAS!$AF15 -> 0 | AF81: =AE81/$I81 -> 0 | AG81: =[1]GARWAS!$AG15 -> 0 | AH81: =AG81/$I81 -> 0 | AI81: =SUM(AG81,AE81,AC81,AA81,Y81,W81,U81,S81,Q81,O81,M81,K81) -> 21 | AJ81: =AI81/I81 -> 0.4375 | AM81: =SUM(K81,M81,O81) -> 12 | AN81: =SUM(Q81,S81,U81) -> 9 | AO81: =SUM(W81,Y81,AA81) -> 0 | AP81: =SUM(AC81,AE81,AG81) -> 0
A82: 4 | B82: 02 | C82: 2 | D82: 2.03 | E82: 04 | F82: Pengawasan Urusan Pemerintahan Bidang Perekonomian | G82: Jumlah Laporan Hasil Pengawasan Urusan Pemerintahan Bidang Perekonomian | H82: Jumlah Laporan Hasil Pengawasan Urusan Pemerintahan Bidang Perekonomian | I82: 48 | J82: Laporan | K82: =[1]GARWAS!$V16 -> 4 | L82: =K82/$I82 -> 0.083333333 | M82: =[1]GARWAS!$W16 -> 4 | N82: =M82/$I82 -> 0.083333333 | O82: =[1]GARWAS!$X16 -> 4 | P82: =O82/$I82 -> 0.083333333 | Q82: =[1]GARWAS!$Y16 -> 4 | R82: =Q82/$I82 -> 0.083333333 | S82: =[1]GARWAS!$Z16 -> 4 | T82: =S82/$I82 -> 0.083333333 | U82: =[1]GARWAS!$AA16 -> 0 | V82: =U82/$I82 -> 0 | W82: =[1]GARWAS!$AB16 -> 0 | X82: =W82/$I82 -> 0 | Y82: =[1]GARWAS!$AC16 -> 0 | Z82: =Y82/$I82 -> 0 | AA82: =[1]GARWAS!$AD16 -> 0 | AB82: =AA82/$I82 -> 0 | AC82: =[1]GARWAS!$AE16 -> 0 | AD82: =AC82/$I82 -> 0 | AE82: =[1]GARWAS!$AF16 -> 0 | AF82: =AE82/$I82 -> 0 | AG82: =[1]GARWAS!$AG16 -> 0 | AH82: =AG82/$I82 -> 0 | AI82: =SUM(AG82,AE82,AC82,AA82,Y82,W82,U82,S82,Q82,O82,M82,K82) -> 20 | AJ82: =AI82/I82 -> 0.41666667 | AM82: =SUM(K82,M82,O82) -> 12 | AN82: =SUM(Q82,S82,U82) -> 8 | AO82: =SUM(W82,Y82,AA82) -> 0 | AP82: =SUM(AC82,AE82,AG82) -> 0
A83: 4 | B83: 02 | C83: 2 | D83: 2.03 | E83: 06 | F83: Pengawasan Tindak Lanjut Hasil Pemeriksaan Laporan Keuangan oleh Badan Pemeriksa Keuangan | G83: Jumlah Dokumen Hasil Pengawasan Tindak Lanjut Hasil Pemeriksaan Laporan Keuangan oleh Badan Pemeriksa Keuangan | H83: Jumlah Dokumen Hasil Pengawasan Tindak Lanjut Hasil Pemeriksaan Laporan Keuangan oleh Badan Pemeriksa Keuangan | I83: 2 | J83: Dokumen | K83: =[1]GARWAS!$V17 -> 0 | L83: =K83/$I83 -> 0 | M83: =[1]GARWAS!$W17 -> 0 | N83: =M83/$I83 -> 0 | O83: =[1]GARWAS!$X17 -> 0 | P83: =O83/$I83 -> 0 | Q83: =[1]GARWAS!$Y17 -> 0 | R83: =Q83/$I83 -> 0 | S83: =[1]GARWAS!$Z17 -> 0 | T83: =S83/$I83 -> 0 | U83: =[1]GARWAS!$AA17 -> 0 | V83: =U83/$I83 -> 0 | W83: =[1]GARWAS!$AB17 -> 0 | X83: =W83/$I83 -> 0 | Y83: =[1]GARWAS!$AC17 -> 0 | Z83: =Y83/$I83 -> 0 | AA83: =[1]GARWAS!$AD17 -> 0 | AB83: =AA83/$I83 -> 0 | AC83: =[1]GARWAS!$AE17 -> 0 | AD83: =AC83/$I83 -> 0 | AE83: =[1]GARWAS!$AF17 -> 0 | AF83: =AE83/$I83 -> 0 | AG83: =[1]GARWAS!$AG17 -> 0 | AH83: =AG83/$I83 -> 0 | AI83: =SUM(AG83,AE83,AC83,AA83,Y83,W83,U83,S83,Q83,O83,M83,K83) -> 0 | AJ83: =AI83/I83 -> 0 | AM83: =SUM(K83,M83,O83) -> 0 | AN83: =SUM(Q83,S83,U83) -> 0 | AO83: =SUM(W83,Y83,AA83) -> 0 | AP83: =SUM(AC83,AE83,AG83) -> 0
A84: 4 | B84: 02 | C84: 2 | D84: 2.03 | E84: 07 | F84: Pengawasan Penggunaan Anggaran | G84: Jumlah Dokumen Hasil Pengawasan Penggunaan Anggaran | H84: Jumlah Dokumen Hasil Pengawasan Penggunaan Anggaran | I84: 6 | J84: Dokumen | K84: =[1]GARWAS!$V18 -> 1 | L84: =K84/$I84 -> 0.16666667 | M84: =[1]GARWAS!$W18 -> 0 | N84: =M84/$I84 -> 0 | O84: =[1]GARWAS!$X18 -> 0 | P84: =O84/$I84 -> 0 | Q84: =[1]GARWAS!$Y18 -> 1 | R84: =Q84/$I84 -> 0.16666667 | S84: =[1]GARWAS!$Z18 -> 0 | T84: =S84/$I84 -> 0 | U84: =[1]GARWAS!$AA18 -> 0 | V84: =U84/$I84 -> 0 | W84: =[1]GARWAS!$AB18 -> 0 | X84: =W84/$I84 -> 0 | Y84: =[1]GARWAS!$AC18 -> 0 | Z84: =Y84/$I84 -> 0 | AA84: =[1]GARWAS!$AD18 -> 0 | AB84: =AA84/$I84 -> 0 | AC84: =[1]GARWAS!$AE18 -> 0 | AD84: =AC84/$I84 -> 0 | AE84: =[1]GARWAS!$AF18 -> 0 | AF84: =AE84/$I84 -> 0 | AG84: =[1]GARWAS!$AG18 -> 0 | AH84: =AG84/$I84 -> 0 | AI84: =SUM(AG84,AE84,AC84,AA84,Y84,W84,U84,S84,Q84,O84,M84,K84) -> 2 | AJ84: =AI84/I84 -> 0.33333333 | AM84: =SUM(K84,M84,O84) -> 1 | AN84: =SUM(Q84,S84,U84) -> 1 | AO84: =SUM(W84,Y84,AA84) -> 0 | AP84: =SUM(AC84,AE84,AG84) -> 0
A85: 4 | B85: 02 | C85: 2 | D85: 2.03 | E85: 08 | F85: Pembahasan Laporan Keterangan Pertanggungjawaban Kepala Daerah | G85: Jumlah Rekomendasi Hasil Pembahasan Laporan Keterangan Pertanggungjawaban Kepala Daerah | H85: Jumlah Rekomendasi Hasil Pembahasan Laporan Keterangan Pertanggungjawaban Kepala Daerah | I85: 4 | J85: Dokumen | K85: =[1]GARWAS!$V19 -> 0 | L85: =K85/$I85 -> 0 | M85: =[1]GARWAS!$W19 -> 0 | N85: =M85/$I85 -> 0 | O85: =[1]GARWAS!$X19 -> 1 | P85: =O85/$I85 -> 0.25 | Q85: =[1]GARWAS!$Y19 -> 5 | R85: =Q85/$I85 -> 1.25 | S85: =[1]GARWAS!$Z19 -> 0 | T85: =S85/$I85 -> 0 | U85: =[1]GARWAS!$AA19 -> 0 | V85: =U85/$I85 -> 0 | W85: =[1]GARWAS!$AB19 -> 0 | X85: =W85/$I85 -> 0 | Y85: =[1]GARWAS!$AC19 -> 0 | Z85: =Y85/$I85 -> 0 | AA85: =[1]GARWAS!$AD19 -> 0 | AB85: =AA85/$I85 -> 0 | AC85: =[1]GARWAS!$AE19 -> 0 | AD85: =AC85/$I85 -> 0 | AE85: =[1]GARWAS!$AF19 -> 0 | AF85: =AE85/$I85 -> 0 | AG85: =[1]GARWAS!$AG19 -> 0 | AH85: =AG85/$I85 -> 0 | AI85: =SUM(AG85,AE85,AC85,AA85,Y85,W85,U85,S85,Q85,O85,M85,K85) -> 6 | AJ85: =AI85/I85 -> 1.5 | AM85: =SUM(K85,M85,O85) -> 1 | AN85: =SUM(Q85,S85,U85) -> 5 | AO85: =SUM(W85,Y85,AA85) -> 0 | AP85: =SUM(AC85,AE85,AG85) -> 0
A86: 4 | B86: 02 | C86: 2 | D86: 2.05 | F86: Penyerapan dan Penghimpunan Aspirasi Masyarakat | G86: Jumlah dokumen hasil kegiatan penyerapan dan penghimpunan aspirasi masyarakat yang difasilitasi | H86: Jumlah dokumen hasil kegiatan penyerapan dan penghimpunan aspirasi masyarakat yang difasilitasi | I86: =SUM(I87:I88) -> 5 | J86: Dokumen | K86: =SUM(K87:K88) -> 0 | L86: =K86/$I86 -> 0 | M86: =SUM(M87:M88) -> 2 | N86: =M86/$I86 -> 0.4 | O86: =SUM(O87:O88) -> 1 | P86: =O86/$I86 -> 0.2 | Q86: =SUM(Q87:Q88) -> 0 | R86: =Q86/$I86 -> 0 | S86: =SUM(S87:S88) -> 0 | T86: =S86/$I86 -> 0 | U86: =SUM(U87:U88) -> 0 | V86: =U86/$I86 -> 0 | W86: =SUM(W87:W88) -> 0 | X86: =W86/$I86 -> 0 | Y86: =SUM(Y87:Y88) -> 0 | Z86: =Y86/$I86 -> 0 | AA86: =SUM(AA87:AA88) -> 0 | AB86: =AA86/$I86 -> 0 | AC86: =SUM(AC87:AC88) -> 0 | AD86: =AC86/$I86 -> 0 | AE86: =SUM(AE87:AE88) -> 0 | AF86: =AE86/$I86 -> 0 | AG86: =SUM(AG87:AG88) -> 0 | AH86: =AG86/$I86 -> 0 | AI86: =SUM(AG86,AE86,AC86,AA86,Y86,W86,U86,S86,Q86,O86,M86,K86) -> 3 | AJ86: =AI86/I86 -> 0.6 | AM86: =SUM(K86,M86,O86) -> 3 | AN86: =SUM(Q86,S86,U86) -> 0 | AO86: =SUM(W86,Y86,AA86) -> 0 | AP86: =SUM(AC86,AE86,AG86) -> 0
A87: 4 | B87: 02 | C87: 2 | D87: 2.05 | E87: 02 | F87: Penyusunan Pokok-Pokok Pikiran DPRD | G87: Jumlah Dokumen Pokok-Pokok Pikiran DPRD yang Disusun | H87: Jumlah Dokumen Pokok-Pokok Pikiran DPRD yang Disusun | I87: 2 | J87: Dokumen | K87: ='[1]KERJASAMA&ASPIRASI'!$V$7 -> 0 | L87: =K87/$I87 -> 0 | M87: ='[1]KERJASAMA&ASPIRASI'!$W$7 -> 1 | N87: =M87/$I87 -> 0.5 | O87: ='[1]KERJASAMA&ASPIRASI'!$X$7 -> 1 | P87: =O87/$I87 -> 0.5 | Q87: ='[1]KERJASAMA&ASPIRASI'!$Y$7 -> 0 | R87: =Q87/$I87 -> 0 | S87: ='[1]KERJASAMA&ASPIRASI'!$Z$7 -> 0 | T87: =S87/$I87 -> 0 | U87: ='[1]KERJASAMA&ASPIRASI'!$AA$7 -> 0 | V87: =U87/$I87 -> 0 | W87: ='[1]KERJASAMA&ASPIRASI'!$AB$7 -> 0 | X87: =W87/$I87 -> 0 | Y87: ='[1]KERJASAMA&ASPIRASI'!$AC$7 -> 0 | Z87: =Y87/$I87 -> 0 | AA87: ='[1]KERJASAMA&ASPIRASI'!$AD$7 -> 0 | AB87: =AA87/$I87 -> 0 | AC87: ='[1]KERJASAMA&ASPIRASI'!$AE$7 -> 0 | AD87: =AC87/$I87 -> 0 | AE87: ='[1]KERJASAMA&ASPIRASI'!$AF$7 -> 0 | AF87: =AE87/$I87 -> 0 | AG87: ='[1]KERJASAMA&ASPIRASI'!$AG$7 -> 0 | AH87: =AG87/$I87 -> 0 | AI87: =SUM(AG87,AE87,AC87,AA87,Y87,W87,U87,S87,Q87,O87,M87,K87) -> 2 | AJ87: =AI87/I87 -> 1 | AM87: =SUM(K87,M87,O87) -> 2 | AN87: =SUM(Q87,S87,U87) -> 0 | AO87: =SUM(W87,Y87,AA87) -> 0 | AP87: =SUM(AC87,AE87,AG87) -> 0
A88: 4 | B88: 02 | C88: 2 | D88: 2.05 | E88: 03 | F88: Pelaksanaan Reses | G88: Jumah Dokumen Hasil Pelaksanaan Reses | H88: Jumah Dokumen Hasil Pelaksanaan Reses | I88: 3 | J88: Dokumen | K88: ='[1]KERJASAMA&ASPIRASI'!$V$8 -> 0 | L88: =K88/$I88 -> 0 | M88: ='[1]KERJASAMA&ASPIRASI'!$W$8 -> 1 | N88: =M88/$I88 -> 0.33333333 | O88: ='[1]KERJASAMA&ASPIRASI'!$X$8 -> 0 | P88: =O88/$I88 -> 0 | Q88: ='[1]KERJASAMA&ASPIRASI'!$Y$8 -> 0 | R88: =Q88/$I88 -> 0 | S88: ='[1]KERJASAMA&ASPIRASI'!$Z$8 -> 0 | T88: =S88/$I88 -> 0 | U88: ='[1]KERJASAMA&ASPIRASI'!$AA$8 -> 0 | V88: =U88/$I88 -> 0 | W88: ='[1]KERJASAMA&ASPIRASI'!$AB$8 -> 0 | X88: =W88/$I88 -> 0 | Y88: ='[1]KERJASAMA&ASPIRASI'!$AC$8 -> 0 | Z88: =Y88/$I88 -> 0 | AA88: ='[1]KERJASAMA&ASPIRASI'!$AD$8 -> 0 | AB88: =AA88/$I88 -> 0 | AC88: ='[1]KERJASAMA&ASPIRASI'!$AE$8 -> 0 | AD88: =AC88/$I88 -> 0 | AE88: ='[1]KERJASAMA&ASPIRASI'!$AF$8 -> 0 | AF88: =AE88/$I88 -> 0 | AG88: ='[1]KERJASAMA&ASPIRASI'!$AG$8 -> 0 | AH88: =AG88/$I88 -> 0 | AI88: =SUM(AG88,AE88,AC88,AA88,Y88,W88,U88,S88,Q88,O88,M88,K88) -> 1 | AJ88: =AI88/I88 -> 0.33333333 | AM88: =SUM(K88,M88,O88) -> 1 | AN88: =SUM(Q88,S88,U88) -> 0 | AO88: =SUM(W88,Y88,AA88) -> 0 | AP88: =SUM(AC88,AE88,AG88) -> 0
A89: 4 | B89: 02 | C89: 2 | D89: 2.06 | F89: Pelaksanaan dan Pengawasan Kode Etik DPRD | G89: Jumlah laporan hasil kegiatan pelaksanaan dan pengawasan kode etik DPRD yang difasilitasi | H89: Jumlah laporan hasil kegiatan pelaksanaan dan pengawasan kode etik DPRD yang difasilitasi | I89: =SUM(I90) -> 4 | J89: Laporan | K89: =SUM(K90) -> 0 | L89: =K89/$I89 -> 0 | M89: =SUM(M90) -> 0 | N89: =M89/$I89 -> 0 | O89: =SUM(O90) -> 0 | P89: =O89/$I89 -> 0 | Q89: =SUM(Q90) -> 1 | R89: =Q89/$I89 -> 0.25 | S89: =SUM(S90) -> 0 | T89: =S89/$I89 -> 0 | U89: =SUM(U90) -> 0 | V89: =U89/$I89 -> 0 | W89: =SUM(W90) -> 0 | X89: =W89/$I89 -> 0 | Y89: =SUM(Y90) -> 0 | Z89: =Y89/$I89 -> 0 | AA89: =SUM(AA90) -> 0 | AB89: =AA89/$I89 -> 0 | AC89: =SUM(AC90) -> 0 | AD89: =AC89/$I89 -> 0 | AE89: =SUM(AE90) -> 0 | AF89: =AE89/$I89 -> 0 | AG89: =SUM(AG90) -> 0 | AH89: =AG89/$I89 -> 0 | AI89: =SUM(AG89,AE89,AC89,AA89,Y89,W89,U89,S89,Q89,O89,M89,K89) -> 1 | AJ89: =AI89/I89 -> 0.25 | AM89: =SUM(K89,M89,O89) -> 0 | AN89: =SUM(Q89,S89,U89) -> 1 | AO89: =SUM(W89,Y89,AA89) -> 0 | AP89: =SUM(AC89,AE89,AG89) -> 0
A90: 4 | B90: 02 | C90: 2 | D90: 2.06 | E90: 02 | F90: Pengawasan Kode Etik DPRD | G90: Jumlah Laporan Hasil Pengawasan Kode Etik DPRD | H90: Jumlah Laporan Hasil Pengawasan Kode Etik DPRD | I90: 4 | J90: Laporan | K90: =[1]GARWAS!$V20 -> 0 | L90: =K90/$I90 -> 0 | M90: =[1]GARWAS!$W20 -> 0 | N90: =M90/$I90 -> 0 | O90: =[1]GARWAS!$X20 -> 0 | P90: =O90/$I90 -> 0 | Q90: =[1]GARWAS!$Y20 -> 1 | R90: =Q90/$I90 -> 0.25 | S90: =[1]GARWAS!$Z20 -> 0 | T90: =S90/$I90 -> 0 | U90: =[1]GARWAS!$AA20 -> 0 | V90: =U90/$I90 -> 0 | W90: =[1]GARWAS!$AB20 -> 0 | X90: =W90/$I90 -> 0 | Y90: =[1]GARWAS!$AC20 -> 0 | Z90: =Y90/$I90 -> 0 | AA90: =[1]GARWAS!$AD20 -> 0 | AB90: =AA90/$I90 -> 0 | AC90: =[1]GARWAS!$AE20 -> 0 | AD90: =AC90/$I90 -> 0 | AE90: =[1]GARWAS!$AF20 -> 0 | AF90: =AE90/$I90 -> 0 | AG90: =[1]GARWAS!$AG20 -> 0 | AH90: =AG90/$I90 -> 0 | AI90: =SUM(AG90,AE90,AC90,AA90,Y90,W90,U90,S90,Q90,O90,M90,K90) -> 1 | AJ90: =AI90/I90 -> 0.25 | AM90: =SUM(K90,M90,O90) -> 0 | AN90: =SUM(Q90,S90,U90) -> 1 | AO90: =SUM(W90,Y90,AA90) -> 0 | AP90: =SUM(AC90,AE90,AG90) -> 0
AM91: =SUM(K91,M91,O91) -> 0 | AN91: =SUM(Q91,S91,U91) -> 0 | AO91: =SUM(W91,Y91,AA91) -> 0 | AP91: =SUM(AC91,AE91,AG91) -> 0
A92: Terselenggaranya Fasilitasi Pelaksanaan Tugas DPRD | G92: Jumlah Kegiatan Fasilitasi Pelaksanaan Tugas DPRD | H92: Jumlah Kegiatan Fasilitasi Pelaksanaan Tugas DPRD | I92: =SUM(I94) -> 605 | J92: Kegiatan | K92: =SUM(K94) -> 32 | L92: =K92/$I92 -> 0.052892562 | M92: =SUM(M94) -> 49 | N92: =M92/$I92 -> 0.080991736 | O92: =SUM(O94) -> 58 | P92: =O92/$I92 -> 0.095867769 | Q92: =SUM(Q94) -> 60 | R92: =Q92/$I92 -> 0.099173554 | S92: =SUM(S94) -> 52 | T92: =S92/$I92 -> 0.085950413 | U92: =SUM(U94) -> 0 | V92: =U92/$I92 -> 0 | W92: =SUM(W94) -> 0 | X92: =W92/$I92 -> 0 | Y92: =SUM(Y94) -> 0 | Z92: =Y92/$I92 -> 0 | AA92: =SUM(AA94) -> 0 | AB92: =AA92/$I92 -> 0 | AC92: =SUM(AC94) -> 0 | AD92: =AC92/$I92 -> 0 | AE92: =SUM(AE94) -> 0 | AF92: =AE92/$I92 -> 0 | AG92: =SUM(AG94) -> 0 | AH92: =AG92/$I92 -> 0 | AI92: =SUM(K92,M92,O92,Q92,S92,U92,W92,Y92,AA92,AC92,AE92,AG92) -> 251 | AJ92: =AI92/I92 -> 0.41487603 | AM92: =SUM(K92,M92,O92) -> 139 | AN92: =SUM(Q92,S92,U92) -> 112 | AO92: =SUM(W92,Y92,AA92) -> 0 | AP92: =SUM(AC92,AE92,AG92) -> 0
AM93: =SUM(K93,M93,O93) -> 0 | AN93: =SUM(Q93,S93,U93) -> 0 | AO93: =SUM(W93,Y93,AA93) -> 0 | AP93: =SUM(AC93,AE93,AG93) -> 0
A94: Terlaksananya Fasilitasi Terhadap Pelaksanaan Tugas DPRD | G94: Jumlah kegiatan Fasilitasi Pelaksanaan Tugas DPRD | H94: Jumlah kegiatan Fasilitasi Pelaksanaan Tugas DPRD | I94: =SUM(I95,I103) -> 605 | J94: Kegiatan | K94: =SUM(K95,K103) -> 32 | L94: =K94/$I94 -> 0.052892562 | M94: =SUM(M95,M103) -> 49 | N94: =M94/$I94 -> 0.080991736 | O94: =SUM(O95,O103) -> 58 | P94: =O94/$I94 -> 0.095867769 | Q94: =SUM(Q95,Q103) -> 60 | R94: =Q94/$I94 -> 0.099173554 | S94: =SUM(S95,S103) -> 52 | T94: =S94/$I94 -> 0.085950413 | U94: =SUM(U95,U103) -> 0 | V94: =U94/$I94 -> 0 | W94: =SUM(W95,W103) -> 0 | X94: =W94/$I94 -> 0 | Y94: =SUM(Y95,Y103) -> 0 | Z94: =Y94/$I94 -> 0 | AA94: =SUM(AA95,AA103) -> 0 | AB94: =AA94/$I94 -> 0 | AC94: =SUM(AC95,AC103) -> 0 | AD94: =AC94/$I94 -> 0 | AE94: =SUM(AE95,AE103) -> 0 | AF94: =AE94/$I94 -> 0 | AG94: =SUM(AG95,AG103) -> 0 | AH94: =AG94/$I94 -> 0 | AI94: =SUM(AG94,AE94,AC94,AA94,Y94,W94,U94,S94,Q94,O94,M94,K94) -> 251 | AJ94: =AI94/I94 -> 0.41487603 | AM94: =SUM(K94,M94,O94) -> 139 | AN94: =SUM(Q94,S94,U94) -> 112 | AO94: =SUM(W94,Y94,AA94) -> 0 | AP94: =SUM(AC94,AE94,AG94) -> 0
A95: 4 | B95: 02 | C95: 2 | D95: 2.04 | F95: Peningkatan Kapasitas DPRD | G95: Jumlah dokumen hasil kegiatan Peningkatan Kapasitas DPRD | H95: Jumlah dokumen hasil kegiatan Peningkatan Kapasitas DPRD | I95: =SUM(I96:I98,I100:I102) -> 462 | J95: Dokumen | K95: =SUM(K96:K98,K100:K102) -> 23 | L95: =K95/$I95 -> 0.04978355 | M95: =SUM(M96:M98,M100:M102) -> 37 | N95: =M95/$I95 -> 0.08008658 | O95: =SUM(O96:O98,O100:O102) -> 42 | P95: =O95/$I95 -> 0.090909091 | Q95: =SUM(Q96:Q98,Q100:Q102) -> 45 | R95: =Q95/$I95 -> 0.097402597 | S95: =SUM(S96:S98,S100:S102) -> 37 | T95: =S95/$I95 -> 0.08008658 | U95: =SUM(U96:U98,U100:U102) -> 0 | V95: =U95/$I95 -> 0 | W95: =SUM(W96:W98,W100:W102) -> 0 | X95: =W95/$I95 -> 0 | Y95: =SUM(Y96:Y98,Y100:Y102) -> 0 | Z95: =Y95/$I95 -> 0 | AA95: =SUM(AA96:AA98,AA100:AA102) -> 0 | AB95: =AA95/$I95 -> 0 | AC95: =SUM(AC96:AC98,AC100:AC102) -> 0 | AD95: =AC95/$I95 -> 0 | AE95: =SUM(AE96:AE98,AE100:AE102) -> 0 | AF95: =AE95/$I95 -> 0 | AG95: =SUM(AG96:AG98,AG100:AG102) -> 0 | AH95: =AG95/$I95 -> 0 | AI95: =SUM(AG95,AE95,AC95,AA95,Y95,W95,U95,S95,Q95,O95,M95,K95) -> 184 | AJ95: =AI95/I95 -> 0.3982684 | AM95: =SUM(K95,M95,O95) -> 102 | AN95: =SUM(Q95,S95,U95) -> 82 | AO95: =SUM(W95,Y95,AA95) -> 0 | AP95: =SUM(AC95,AE95,AG95) -> 0
A96: 4 | B96: 02 | C96: 2 | D96: 2.04 | E96: 01 | F96: Orientasi DPRD | G96: Jumlah Dokumen Hasil Penyelenggaraan Orientasi DPRD | H96: Jumlah Dokumen Hasil Penyelenggaraan Orientasi DPRD | I96: 2 | J96: Dokumen | K96: =[1]KAJIAN!$V11 -> 0 | L96: =K96/$I96 -> 0 | M96: =[1]KAJIAN!$W11 -> 0 | N96: =M96/$I96 -> 0 | O96: =[1]KAJIAN!$X11 -> 0 | P96: =O96/$I96 -> 0 | Q96: =[1]KAJIAN!$Y11 -> 0 | R96: =Q96/$I96 -> 0 | S96: =[1]KAJIAN!$Z11 -> 0 | T96: =S96/$I96 -> 0 | U96: =[1]KAJIAN!$AA11 -> 0 | V96: =U96/$I96 -> 0 | W96: =[1]KAJIAN!$AB11 -> 0 | X96: =W96/$I96 -> 0 | Y96: =[1]KAJIAN!$AC11 -> 0 | Z96: =Y96/$I96 -> 0 | AA96: =[1]KAJIAN!$AD11 -> 0 | AB96: =AA96/$I96 -> 0 | AC96: =[1]KAJIAN!$AE11 -> 0 | AD96: =AC96/$I96 -> 0 | AE96: =[1]KAJIAN!$AF11 -> 0 | AF96: =AE96/$I96 -> 0 | AG96: =[1]KAJIAN!$AG11 -> 0 | AH96: =AG96/$I96 -> 0 | AI96: =SUM(AG96,AE96,AC96,AA96,Y96,W96,U96,S96,Q96,O96,M96,K96) -> 0 | AJ96: =AI96/I96 -> 0 | AM96: =SUM(K96,M96,O96) -> 0 | AN96: =SUM(Q96,S96,U96) -> 0 | AO96: =SUM(W96,Y96,AA96) -> 0 | AP96: =SUM(AC96,AE96,AG96) -> 0
A97: 4 | B97: 02 | C97: 2 | D97: 2.04 | E97: 02 | F97: Pendalaman Tugas DPRD | G97: Jumlah Dokumen Hasil Pendalaman Tugas DPRD | H97: Jumlah Dokumen Hasil Pendalaman Tugas DPRD | I97: 6 | J97: Dokumen | K97: =[1]KAJIAN!$V12 -> 1 | L97: =K97/$I97 -> 0.16666667 | M97: =[1]KAJIAN!$W12 -> 0 | N97: =M97/$I97 -> 0 | O97: =[1]KAJIAN!$X12 -> 0 | P97: =O97/$I97 -> 0 | Q97: =[1]KAJIAN!$Y12 -> 1 | R97: =Q97/$I97 -> 0.16666667 | S97: =[1]KAJIAN!$Z12 -> 0 | T97: =S97/$I97 -> 0 | U97: =[1]KAJIAN!$AA12 -> 0 | V97: =U97/$I97 -> 0 | W97: =[1]KAJIAN!$AB12 -> 0 | X97: =W97/$I97 -> 0 | Y97: =[1]KAJIAN!$AC12 -> 0 | Z97: =Y97/$I97 -> 0 | AA97: =[1]KAJIAN!$AD12 -> 0 | AB97: =AA97/$I97 -> 0 | AC97: =[1]KAJIAN!$AE12 -> 0 | AD97: =AC97/$I97 -> 0 | AE97: =[1]KAJIAN!$AF12 -> 0 | AF97: =AE97/$I97 -> 0 | AG97: =[1]KAJIAN!$AG12 -> 0 | AH97: =AG97/$I97 -> 0 | AI97: =SUM(AG97,AE97,AC97,AA97,Y97,W97,U97,S97,Q97,O97,M97,K97) -> 2 | AJ97: =AI97/I97 -> 0.33333333 | AK97: Perdin Bimtek PDI P 2026 | AM97: =SUM(K97,M97,O97) -> 1 | AN97: =SUM(Q97,S97,U97) -> 1 | AO97: =SUM(W97,Y97,AA97) -> 0 | AP97: =SUM(AC97,AE97,AG97) -> 0
A98: 4 | B98: 02 | C98: 2 | D98: 2.04 | E98: 04 | F98: Penyediaan Kelompok Pakar dan Tim Ahli | G98: Jumlah Orang dalam Kelompok Pakar dan Tim Ahli | H98: Jumlah Orang dalam Kelompok Pakar dan Tim Ahli | I98: 9 | J98: Orang | K98: =[1]KAJIAN!$V13 -> 0 | L98: =K98/$I98 -> 0 | M98: =[1]KAJIAN!$W13 -> 0 | N98: =M98/$I98 -> 0 | O98: =[1]KAJIAN!$X13 -> 0 | P98: =O98/$I98 -> 0 | Q98: =[1]KAJIAN!$Y13 -> 1 | R98: =Q98/$I98 -> 0.11111111 | S98: =[1]KAJIAN!$Z13 -> 0 | T98: =S98/$I98 -> 0 | U98: =[1]KAJIAN!$AA13 -> 0 | V98: =U98/$I98 -> 0 | W98: =[1]KAJIAN!$AB13 -> 0 | X98: =W98/$I98 -> 0 | Y98: =[1]KAJIAN!$AC13 -> 0 | Z98: =Y98/$I98 -> 0 | AA98: =[1]KAJIAN!$AD13 -> 0 | AB98: =AA98/$I98 -> 0 | AC98: =[1]KAJIAN!$AE13 -> 0 | AD98: =AC98/$I98 -> 0 | AE98: =[1]KAJIAN!$AF13 -> 0 | AF98: =AE98/$I98 -> 0 | AG98: =[1]KAJIAN!$AG13 -> 0 | AH98: =AG98/$I98 -> 0 | AI98: =SUM(AG98,AE98,AC98,AA98,Y98,W98,U98,S98,Q98,O98,M98,K98) -> 1 | AJ98: =AI98/I98 -> 0.11111111 | AM98: =SUM(K98,M98,O98) -> 0 | AN98: =SUM(Q98,S98,U98) -> 1 | AO98: =SUM(W98,Y98,AA98) -> 0 | AP98: =SUM(AC98,AE98,AG98) -> 0
A99: 4 | B99: 02 | C99: 2 | D99: 2.04 | E99: 05 | F99: Penyediaan Tenaga Ahli Fraksi | G99: Jumlah Tenaga Ahli Fraksi | H99: Jumlah Tenaga Ahli Fraksi | I99: 6 | J99: Orang | K99: =[1]KAJIAN!$V14 -> 6 | L99: =K99/$I99 -> 1 | M99: =[1]KAJIAN!$W14 -> 6 | N99: =M99/$I99 -> 1 | O99: =[1]KAJIAN!$X14 -> 6 | P99: =O99/$I99 -> 1 | Q99: =[1]KAJIAN!$Y14 -> 6 | R99: =Q99/$I99 -> 1 | S99: =[1]KAJIAN!$Z14 -> 6 | T99: =S99/$I99 -> 1 | U99: =[1]KAJIAN!$AA14 -> 0 | V99: =U99/$I99 -> 0 | W99: =[1]KAJIAN!$AB14 -> 0 | X99: =W99/$I99 -> 0 | Y99: =[1]KAJIAN!$AC14 -> 0 | Z99: =Y99/$I99 -> 0 | AA99: =[1]KAJIAN!$AD14 -> 0 | AB99: =AA99/$I99 -> 0 | AC99: =[1]KAJIAN!$AE14 -> 0 | AD99: =AC99/$I99 -> 0 | AE99: =[1]KAJIAN!$AF14 -> 0 | AF99: =AE99/$I99 -> 0 | AG99: =[1]KAJIAN!$AG14 -> 0 | AH99: =AG99/$I99 -> 0 | AI99: 6 | AJ99: =AI99/I99 -> 1 | AK99: SK Tenaga Ahli Fraksi | AM99: =SUM(K99,M99,O99) -> 18 | AN99: =SUM(Q99,S99,U99) -> 12 | AO99: =SUM(W99,Y99,AA99) -> 0 | AP99: =SUM(AC99,AE99,AG99) -> 0
B100: 02 | C100: 2 | D100: 2.04 | E100: 06 | F100: Penyelenggaraan Hubungan Masyarakat | G100: Jumlah Dokumen Hasil Penyelenggaraan Hubungan Masyarakat | H100: Jumlah Dokumen Hasil Penyelenggaraan Hubungan Masyarakat | I100: 24 | J100: Dokumen | K100: =[1]HUMAS!$V$8 -> 2 | L100: =K100/$I100 -> 0.083333333 | M100: =[1]HUMAS!$W$8 -> 2 | N100: =M100/$I100 -> 0.083333333 | O100: =[1]HUMAS!$X$8 -> 2 | P100: =O100/$I100 -> 0.083333333 | Q100: =[1]HUMAS!$Y$8 -> 2 | R100: =Q100/$I100 -> 0.083333333 | S100: =[1]HUMAS!$Z$8 -> 2 | T100: =S100/$I100 -> 0.083333333 | U100: =[1]HUMAS!$AA$8 -> 0 | V100: =U100/$I100 -> 0 | W100: =[1]HUMAS!$AB$8 -> 0 | X100: =W100/$I100 -> 0 | Y100: =[1]HUMAS!$AC$8 -> 0 | Z100: =Y100/$I100 -> 0 | AA100: =[1]HUMAS!$AD$8 -> 0 | AB100: =AA100/$I100 -> 0 | AC100: =[1]HUMAS!$AE$8 -> 0 | AD100: =AC100/$I100 -> 0 | AE100: =[1]HUMAS!$AF$8 -> 0 | AF100: =AE100/$I100 -> 0 | AG100: =[1]HUMAS!$AG$8 -> 0 | AH100: =AG100/$I100 -> 0 | AI100: =SUM(AG100,AE100,AC100,AA100,Y100,W100,U100,S100,Q100,O100,M100,K100) -> 10 | AJ100: =AI100/I100 -> 0.41666667 | AM100: =SUM(K100,M100,O100) -> 6 | AN100: =SUM(Q100,S100,U100) -> 4 | AO100: =SUM(W100,Y100,AA100) -> 0 | AP100: =SUM(AC100,AE100,AG100) -> 0
A101: 4 | B101: 02 | C101: 2 | D101: 2.04 | E101: 07 | F101: Penyusunan Program Kerja DPRD | G101: Jumlah Dokumen Rencana Kerja DPRD | H101: Jumlah Dokumen Rencana Kerja DPRD | I101: 1 | J101: Dokumen | K101: =[1]PERSIDANGAN!$V$7 -> 0 | L101: =K101/$I101 -> 0 | M101: =[1]PERSIDANGAN!$W$7 -> 0 | N101: =M101/$I101 -> 0 | O101: =[1]PERSIDANGAN!$X$7 -> 0 | P101: =O101/$I101 -> 0 | Q101: =[1]PERSIDANGAN!$Y$7 -> 1 | R101: =Q101/$I101 -> 1 | S101: =[1]PERSIDANGAN!$Z$7 -> 0 | T101: =S101/$I101 -> 0 | U101: =[1]PERSIDANGAN!$AA$7 -> 0 | V101: =U101/$I101 -> 0 | W101: =[1]PERSIDANGAN!$AB$7 -> 0 | X101: =W101/$I101 -> 0 | Y101: =[1]PERSIDANGAN!$AC$7 -> 0 | Z101: =Y101/$I101 -> 0 | AA101: =[1]PERSIDANGAN!$AD$7 -> 0 | AB101: =AA101/$I101 -> 0 | AC101: =[1]PERSIDANGAN!$AE$7 -> 0 | AD101: =AC101/$I101 -> 0 | AE101: =[1]PERSIDANGAN!$AF$7 -> 0 | AF101: =AE101/$I101 -> 0 | AG101: =[1]PERSIDANGAN!$AG$7 -> 0 | AH101: =AG101/$I101 -> 0 | AI101: =SUM(AG101,AE101,AC101,AA101,Y101,W101,U101,S101,Q101,O101,M101,K101) -> 1 | AJ101: =AI101/I101 -> 1 | AM101: =SUM(K101,M101,O101) -> 0 | AN101: =SUM(Q101,S101,U101) -> 1 | AO101: =SUM(W101,Y101,AA101) -> 0 | AP101: =SUM(AC101,AE101,AG101) -> 0
A102: 4 | B102: 02 | C102: 2 | D102: 2.04 | E102: 08 | F102: Publikasi dan Dokumentasi DPRD | G102: Jumlah Dokumen Penyebarluasan Produk Hukum Daerah, Publikasi dan Dokumentasi DPRD | H102: Jumlah Dokumen Penyebarluasan Produk Hukum Daerah, Publikasi dan Dokumentasi DPRD | I102: 420 | J102: Dokumen | K102: =[1]HUMAS!$V$7 -> 20 | L102: =K102/$I102 -> 0.047619048 | M102: =[1]HUMAS!$W$7 -> 35 | N102: =M102/$I102 -> 0.083333333 | O102: =[1]HUMAS!$X$7 -> 40 | P102: =O102/$I102 -> 0.095238095 | Q102: =[1]HUMAS!$Y$7 -> 40 | R102: =Q102/$I102 -> 0.095238095 | S102: =[1]HUMAS!$Z$7 -> 35 | T102: =S102/$I102 -> 0.083333333 | U102: =[1]HUMAS!$AA$7 -> 0 | V102: =U102/$I102 -> 0 | W102: =[1]HUMAS!$AB$7 -> 0 | X102: =W102/$I102 -> 0 | Y102: =[1]HUMAS!$AC$7 -> 0 | Z102: =Y102/$I102 -> 0 | AA102: =[1]HUMAS!$AD$7 -> 0 | AB102: =AA102/$I102 -> 0 | AC102: =[1]HUMAS!$AE$7 -> 0 | AD102: =AC102/$I102 -> 0 | AE102: =[1]HUMAS!$AF$7 -> 0 | AF102: =AE102/$I102 -> 0 | AG102: =[1]HUMAS!$AG$7 -> 0 | AH102: =AG102/$I102 -> 0 | AI102: =SUM(AG102,AE102,AC102,AA102,Y102,W102,U102,S102,Q102,O102,M102,K102) -> 170 | AJ102: =AI102/I102 -> 0.4047619 | AM102: =SUM(K102,M102,O102) -> 95 | AN102: =SUM(Q102,S102,U102) -> 75 | AO102: =SUM(W102,Y102,AA102) -> 0 | AP102: =SUM(AC102,AE102,AG102) -> 0
...

Sheet Grafik
S2: Indikator | T2: Jan | U2: Feb | V2: Mar | W2: Apr | X2: Mei | Y2: Jun | Z2: Jul | AA2: Agst | AB2: Sept | AC2: Okt | AD2: Nop | AE2: Des
S3: Indeks Pelayanan Publik | T3: ='Realisasi Sasaran'!N10 -> 4.24 | U3: =IF('Realisasi Sasaran'!O10>0,'Realisasi Sasaran'!O10,0) -> 4.24 | V3: =IF('Realisasi Sasaran'!P10>0,'Realisasi Sasaran'!P10,0) -> 4.24 | W3: =IF('Realisasi Sasaran'!Q10>0,'Realisasi Sasaran'!Q10,0) -> 4.24 | X3: =IF('Realisasi Sasaran'!R10>0,'Realisasi Sasaran'!R10,0) -> 4.24 | Y3: =IF('Realisasi Sasaran'!S10>0,'Realisasi Sasaran'!S10,0) -> 0 | Z3: =IF('Realisasi Sasaran'!T10>0,'Realisasi Sasaran'!T10,0) -> 0 | AA3: =IF('Realisasi Sasaran'!U10>0,'Realisasi Sasaran'!U10,0) -> 0 | AB3: =IF('Realisasi Sasaran'!V10>0,'Realisasi Sasaran'!V10,0) -> 0 | ... AE3: =IF('Realisasi Sasaran'!Y10>0,'Realisasi Sasaran'!Y10,0) -> 0 | AF3: ='Realisasi Sasaran'!Z10/4.25 -> 0.99764706 | AG3: 1
S4: Persentase penyelenggaraan pelayanan administrasi kesekretariatan dan keuangan | T4: ='Realisasi Sasaran'!N11 -> 0.087398374 | U4: =IF('Realisasi Sasaran'!O11>0,T4+'Realisasi Sasaran'!O11,0) -> 0.17581301 | V4: =IF('Realisasi Sasaran'!P11>0,U4+'Realisasi Sasaran'!P11,0) -> 0.27642276 | W4: =IF('Realisasi Sasaran'!Q11>0,V4+'Realisasi Sasaran'!Q11,0) -> 0.38617886 | X4: =IF('Realisasi Sasaran'!R11>0,W4+'Realisasi Sasaran'!R11,0) -> 0.46544715 | Y4: =IF('Realisasi Sasaran'!S11>0,X4+'Realisasi Sasaran'!S11,0) -> 0 | Z4: =IF('Realisasi Sasaran'!T11>0,Y4+'Realisasi Sasaran'!T11,0) -> 0 | AA4: =IF('Realisasi Sasaran'!U11>0,Z4+'Realisasi Sasaran'!U11,0) -> 0 | AB4: =IF('Realisasi Sasaran'!V11>0,AA4+'Realisasi Sasaran'!V11,0) -> 0 | ... AE4: =IF('Realisasi Sasaran'!Y11>0,AD4+'Realisasi Sasaran'!Y11,0) -> 0 | AF4: =AG3-AF3 -> 0.0023529412
S5: Persentase Fasilitasi Pelaksanaan Fungsi DPRD | T5: ='Realisasi Sasaran'!N12 -> 0.031358885 | U5: =IF('Realisasi Sasaran'!O12>0,T5+'Realisasi Sasaran'!O12,0) -> 0.06445993 | V5: =IF('Realisasi Sasaran'!P12>0,U5+'Realisasi Sasaran'!P12,0) -> 0.19163763 | W5: =IF('Realisasi Sasaran'!Q12>0,V5+'Realisasi Sasaran'!Q12,0) -> 0.24738676 | X5: =IF('Realisasi Sasaran'!R12>0,W5+'Realisasi Sasaran'!R12,0) -> 0.3815331 | Y5: =IF('Realisasi Sasaran'!S12>0,X5+'Realisasi Sasaran'!S12,0) -> 0 | Z5: =IF('Realisasi Sasaran'!T12>0,Y5+'Realisasi Sasaran'!T12,0) -> 0 | AA5: =IF('Realisasi Sasaran'!U12>0,Z5+'Realisasi Sasaran'!U12,0) -> 0 | AB5: =IF('Realisasi Sasaran'!V12>0,AA5+'Realisasi Sasaran'!V12,0) -> 0 | ... AE5: =IF('Realisasi Sasaran'!Y12>0,AD5+'Realisasi Sasaran'!Y12,0) -> 0
S6: Persentase fasilitasi pelaksanaan tugas DPRD | T6: ='Realisasi Sasaran'!N13 -> 0.052892562 | U6: =IF('Realisasi Sasaran'!O13>0,T6+'Realisasi Sasaran'!O13,0) -> 0.1338843 | V6: =IF('Realisasi Sasaran'!P13>0,U6+'Realisasi Sasaran'!P13,0) -> 0.22975207 | W6: =IF('Realisasi Sasaran'!Q13>0,V6+'Realisasi Sasaran'!Q13,0) -> 0.32892562 | X6: =IF('Realisasi Sasaran'!R13>0,W6+'Realisasi Sasaran'!R13,0) -> 0.41487603 | Y6: =IF('Realisasi Sasaran'!S13>0,X6+'Realisasi Sasaran'!S13,0) -> 0 | Z6: =IF('Realisasi Sasaran'!T13>0,Y6+'Realisasi Sasaran'!T13,0) -> 0 | AA6: =IF('Realisasi Sasaran'!U13>0,Z6+'Realisasi Sasaran'!U13,0) -> 0 | AB6: =IF('Realisasi Sasaran'!V13>0,AA6+'Realisasi Sasaran'!V13,0) -> 0 | ... AE6: =IF('Realisasi Sasaran'!Y13>0,AD6+'Realisasi Sasaran'!Y13,0) -> 0
S7: Nilai Kepuasan Anggota DPRD Atas Dukungan Pelaksanaan Tugas Sekretariat DPRD | T7: ='Realisasi Sasaran'!N14 -> 95 | U7: ='Realisasi Sasaran'!O14 -> 95 | V7: ='Realisasi Sasaran'!P14 -> 96.75 | W7: ='Realisasi Sasaran'!Q14 -> 97.86 | X7: ='Realisasi Sasaran'!R14 -> 98.14 | Y7: ='Realisasi Sasaran'!S14 -> 0 | Z7: ='Realisasi Sasaran'!T14 -> 0 | AA7: ='Realisasi Sasaran'!U14 -> 0 | ... AE7: ='Realisasi Sasaran'!Y14 -> 0
T8: =T7/$T$11 -> 0.98701299 | U8: =U7/$T$11 -> 0.98701299 | V8: =V7/$T$11 -> 1.0051948 | W8: =W7/$T$11 -> 1.0167273 | X8: =X7/$T$11 -> 1.0196364 | Y8: =Y7/$T$11 -> 0 | Z8: =Z7/$T$11 -> 0 | AA8: =AA7/$T$11 -> 0 | ... AD8: =AD7/$T$11 -> 0
S10: Nilai | T10: 2025 | U10: 2026 | V10: 2027 | W10: 2028 | X10: 2029
S11: Target | T11: 96.25 | U11: 96.5 | V11: 96.75 | W11: 96.9 | X11: 97
S12: Realisasi | T12: 96.25 | U12: ='Realisasi Sasaran'!Z14 -> 98.14 | V12: 0 | W12: 0 | X12: 0
S13: Capaian (%) | T13: =T12/T11*100 -> 100 | U13: =U12/U11*100 -> 101.69948 | V13: =V12/V11*100 -> 0 | W13: =W12/W11*100 -> 0 | X13: =X12/X11*100 -> 0

Sheet Cascading
A1: CASCADING SEKRETARIAT DPRD KABUPATEN GRESIK TAHUN 2025 - 2029
A3: Visi | C3: Pembangunan Gresik Maju yang berkelanjutan sebagai Pusat Pertumbuhan Ekonomi untuk Kesejahteraan Masyarakat
A6: Misi 4 | C6: Meningkatkan Sistem Pemerintahan yang Transparan, Akuntabel, dan Berorientasi pada Pelayanan yang Terbaik bagi Masyarakat.
A8: Tujuan 1 | C8: Terwujudnya tata kelola pemerintahan yang cerdas, inovatif, akuntable, dan melayani (smart governance)
BP9: Indeks Reformasi Birokrasi | BX9: Target 86,17 (Nilai)
A11: Sasaran 3 | C11: Meningkatkan tata kelola pemerintahan yang adaptif dan transparan melalui transformasi digital, penguatan kolaborasi lintas sektor, serta pengelolaan SDM aparatur berbasis sistem merit
A12: Indikator | BR12: Indeks Pelayanan Publik | BV12: Capaian | BW12: = | BX12: =BX18 -> 4.24 | BY12: dari | BZ12: 2.51 | CA12: (Nilai)
A16: Tujuan Renstra | C16: Terwujudnya Sinergitas Antara Pemerintah Daerah dan DPRD Dalam Penyelenggaraan Pemerintahan Daerah
A17: Indikator | C17: Indeks Pelayanan Publik Sekretariat DPRD
BV18: Capaian | BW18: = | BX18: ='Realisasi Sasaran'!Z10 -> 4.24 | BY18: dari | BZ18: 4.25 | CA18: Berdasarkan nilai PEKPPP Setwan
A20: Sasaran Renstra | C20: Meningkatnya kualitas pelayanan atas dukungan fasilitasi pelaksanaan tugas dan fungsi DPRD
A21: Indikator | BQ21: 1 | BR21: Persentase penyelenggaraan pelayanan administrasi kesekretariatan dan keuangan | BW21: = | BX21: =SUM(CB39,CJ39,CT39,DD39,DT39,ED39,EL39,ER39)/(LEFT(CD39,3)+LEFT(CL39,3)+LEFT(CV39,3)+LEFT(DF39,3)+LEFT(DV39,3)+LEFT(EF39,3)+LEFT(EN39,3)+LEFT(ET39,3)) -> 0.46544715 | BY21: dari | BZ21: 1 | CA21: =BZ21-BX21 -> 0.53455285
BQ22: 2 | BR22: Persentase Fasilitasi Pelaksanaan Fungsi DPRD | BW22: = | BX22: =SUM(I39,U39,AI39,AQ39,AU39)/(LEFT(K39,3)+LEFT(W39,3)+LEFT(AK39,3)+LEFT(AS39,2)+LEFT(AW39,2)) -> 0.3815331 | BY22: dari | BZ22: 1 | CA22: =BZ22-BX22 -> 0.6184669
BQ23: 3 | BR23: Persentase fasilitasi pelaksanaan tugas DPRD | BW23: = | BX23: =SUM(BF39,BR39)/(LEFT(BH39,3)+LEFT(BT39,3)) -> 0.41487603 | BY23: dari | BZ23: 1 | CA23: =BZ23-BX23 -> 0.58512397
BQ24: 4 | BR24: Nilai Kepuasan Anggota DPRD Atas Dukungan Pelaksanaan Tugas Sekretariat DPRD | BW24: = | BX24: ='Realisasi Sasaran'!Z14 -> 98.14 | BY24: dari | BZ24: 96.5 | CA24: Berdasarkan nilai Survey Kepuasan DPRD
A26: Program | C26: PROGRAM DUKUNGAN PELAKSANAAN TUGAS DAN FUNGSI DPRD | BZ26: PROGRAM PENUNJANG URUSAN PEMERINTAHAN DAERAH KABUPATEN/KOTA
C28: IKU | O28: IKU | AA28: IKU
A29: Indikator Program | C29: Ketepatan Penetapan Ranperda Tahun N | O29: Ketepatan Penetapan Perda APBD Tahun N | AA29: Persentase Pengawasan Penyelenggaraan Pemerintahan | BB29: Persentase Fasilitasi Pelaksanaan Tugas DPRD | BZ29: Nilai Hasil Evaluasi SAKIP Perangkat Daerah | CP29: Persentase Penyelenggaraan Administrasi Kesekretariatan | EJ29: Persentase Penyelenggaraan Administrasi Keuangan dan Kesejahteraan DPRD
G30: Capaian | H30: = | I30: =I39/LEFT(K39,3) -> 0.36873156 | J30: dari | K30: 1 | S30: Capaian | T30: = | U30: =U39/LEFT(W39,3) -> 0.045454545 | V30: dari | W30: 1 | AK30: Capaian | AL30: = | AM30: =SUM(AI39,AQ39,AU39)/(LEFT(AK39,3)+(LEFT(AS39,2)+(LEFT(AW39,2)))) -> 0.43661972 | AN30: dari | AO30: 1 | BJ30: Capaian | BK30: = | BL30: =SUM(BF39,BR39)/SUM(LEFT(BH39,3),(LEFT(BT39,3))) -> 0.41487603 | BM30: dari | BN30: 1 | CD30: Capaian | CE30: = | CF30: ='Realisasi Program'!X11 -> 86.85 | CG30: dari | CH30: 86.9 | DJ30: Capaian | DK30: = | DL30: =SUM(CT39,DD39,DT39,ED39)/(LEFT(CV39,3)+LEFT(DF39,3)+LEFT(DV39,3)+LEFT(EF39,3)) -> 0.48823529 | DM30: dari | DN30: 1 | EN30: Capaian | EO30: = | EP30: =SUM(EL39,ER39)/(LEFT(EN39,3)+LEFT(ET39,3)) -> 0.18666667 | EQ30: dari | ER30: 1
A33: KEGIATAN | C33: Pembentukan Peraturan Daerah dan Peraturan DPRD | O33: Pembahasan Kebijakan Anggaran | AA33: Pengawasan Penyelenggaraan Pemerintahan | AQ33: Pelaksanaan dan Pengawasan Kode Etik DPRD | AU33: Penyerapan dan Penghimpunan Aspirasi Masyarakat | AY33: Pembahasan Kerja Sama Daerah | BB33: Fasilitasi Tugas DPRD | BL33: Peningkatan Kapasitas DPRD | BZ33: Perencanaan, Penganggaran, dan Evaluasi Kinerja Perangkat Daerah | CF33: Administrasi Keuangan Perangkat Daerah | CP33: Administrasi Kepegawaian Perangkat Daerah | CX33: Administrasi Umum Perangkat Daerah | DN33: Pengadaan Barang Milik Daerah Penunjang Urusan Pemerintah Daerah | DR33: Penyediaan Jasa Penunjang Urusan Pemerintahan Daerah | DX33: Pemeliharaan Barang Milik Daerah Penunjang Urusan Pemerintahan Daerah | EJ33: Layanan Keuangan dan Kesejahteraan DPRD | EP33: Layanan Administrasi DPRD
A35: Indikator Kegiatan (Hasil) | C35: Persentase Jumlah pelaksanaan kegiatan pembentukan Peraturan Daerah dan Peraturan DPRD | O35: Persentase Fasilitasi kegiatan Pembahasan Kebijakan Anggaran | AA35: Persentase Fasilitasi Kegiatan Pengawasan Penyelenggaraan Pemerintahan | AQ35: Persentase Fasilitasi Kegiatan Pelaksanaan dan Pengawasan Kode Etik DPRD | AU35: Persentase Fasilitasi Kegiatan Penyerapan dan Penghimpunan Aspirasi Masyarakat | AY35: Persentase Fasilitasi Kegiatan Pembahasan Kerjasama Daerah | BB35: Persentase Fasilitasi Pelaksanaan Tugas DPRD | BL35: Persentase Fasilitasi Pelaksanaan Kegiatan Peningkatan Kapasitas DPRD | BZ35: Terpenuhinya Data Dukung Evaluasi SAKIP Perangkat Daerah | CF35: Terpenuhinya Data Dukung Pengawasan Internal Inspektorat atas Perangkat Daerah | CP35: Persentase Layanan Administrasi Kepegawaian Perangkat Daerah | CX35: Persentase Layanan Administrasi Umum Perangkat Daerah | DN35: Persentase Pelaksanaan Pengadaan Barang Milik Daerah Penunjang Urusan Pemerintah Daerah | DR35: Persentase Penyediaan Jasa Penunjang Urusan Pemerintahan Daerah | DX35: Persentase Pemeliharaan Barang Milik Daerah Penunjang Urusan Pemerintahan Daerah | EJ35: Persentase Pemenuhan Layanan Keuangan dan Kesejahteraan DPRD | EP35: Persentase Pemenuhan Layanan Administrasi DPRD
G36: Capaian | H36: = | I36: =I39/LEFT(K39,3) -> 0.36873156 | J36: dari | K36: 1 | S36: Capaian | T36: = | U36: =U39/LEFT(W39,3) -> 0.045454545 | V36: dari | W36: 1 | AG36: Capaian | AH36: = | AI36: =AI39/LEFT(AK39,3) -> 0.43627451 | AJ36: dari | AK36: 1 | AQ36: =AQ39/LEFT(AS39,2) -> 0.25 | AR36: dari | AS36: 1 | AU36: =AU39/LEFT(AW39,2) -> 0.6 | AV36: dari | AW36: 1 | AY36: 0 | AZ36: dari 0% | BD36: Capaian | BE36: = | BF36: =BF39/LEFT(BH39,3) -> 0.46853147 | BG36: dari | BH36: 1 | BP36: Capaian | BQ36: = | BR36: =BR39/LEFT(BT39,3) -> 0.3982684 | BS36: dari | BT36: 1 | BZ36: Capaian | CA36: = | CB36: =CB39/LEFT(CD39,3) -> 0.48275862 | CC36: dari | CD36: 1 | CH36: Capaian | CI36: = | CJ36: =CJ39/LEFT(CL39,3) -> 0.5 | CK36: dari | CL36: 1 | CR36: Capaian | CS36: = | CT36: =CT39/LEFT(CV39,3) -> 0.06010929 | CU36: dari | CV36: 1 | DB36: Capaian | DC36: = | DD36: =DD39/LEFT(DF39,3) -> 0.60393873 | DE36: dari | DF36: 1 | DN36: =DN39/6 -> 0 | DO36: dari | DP36: 0 | DR36: Capaian | DS36: = | DT36: =DT39/LEFT(DV39,3) -> 0.33333333 | DU36: dari | DV36: 1 | EB36: Capaian | EC36: = | ED36: =ED39/LEFT(EF39,3) -> 0.87037037 | EE36: dari | EF36: 1 | EJ36: Capaian | EK36: = | EL36: =EL39/LEFT(EN39,2) -> 0.12727273 | EM36: dari | EN36: 1 | EP36: Capaian | EQ36: = | ER36: =ER39/LEFT(ET39,2) -> 0.35 | ES36: dari | ET36: 1
A38: Indikator Kegiatan (Output/Keluaran) | C38: 1. Jumlah pelaksanaan kegiatan pembentukan Peraturan Daerah dan Peraturan DPRD yang difasilitasi 2. Jumlah masyarakat yang memahami tentang Peraturan Daerah | O38: Jumlah pelaksanaan kegiatan pembahasan kebijakan anggaran yang difasilitasi | AA38: Jumlah pelaksanaan kegiatan pengawasan penyelenggaraan pemerintahan yang difasilitasi | AQ38: Jumlah fasilitasi kegiatan pelaksanaan dan pengawasan kode etik DPRD | AU38: Jumlah pelaksanaan kegiatan penyerapan dan penghimpunan aspirasi masyarakat yang difasilitasi | AY38: Jumlah pelaksanaan kegiatan pembahasan kerjasama daerah yang difasilitasi | BB38: Jumlah pelaksanaan kegiatan fasilitasi tugas DPRD | BL38: Jumlah pelaksanaan kegiatan Peningkatan Kapasitas DPRD yang difasilitasi | BZ38: Jumlah dokumen perencanaan, penganggaran dan evaluasi kinerja perangkat daerah yang tersusun | CF38: Jumlah dokumen administrasi keuangan Perangkat Daerah yang terpenuhi | CP38: Jumlah Layanan Administrasi Kepegawaian Perangkat Daerah yang terpenuhi | CX38: Jumlah Layanan Administrasi Umum Perangkat Daerah yang terpenuhi | DN38: Jumlah Barang Milik Daerah Penunjang Urusan Pemerintah Daerah yang tersedia | DR38: Jumlah dokumen laporan hasil penyediaan jasa penunjang urusan Pemerintah Daerah | DX38: Jumlah barang milik daerah penunjang urusan Pemerintahan Daerah yang terpelihara | EJ38: Jumlah layanan keuangan dan kesejahteraan DPRD yang terpenuhi | EP38: Jumlah dokumen layanan administrasi DPRD yang terpenuhi
G39: 1. Capaian | H39: = | I39: ='Realisasi Kegiatan&SubKeg'!AI62 -> 125 | J39: dari | K39: ='Realisasi Kegiatan&SubKeg'!$I$62&" "&'Realisasi Kegiatan&SubKeg'!$J$62 -> 339 Dokumen | S39: Capaian | T39: = | U39: =SUM(O48,Q48,S48,U48,W48,Y48) -> 1 | V39: dari | W39: ='Realisasi Kegiatan&SubKeg'!$I$70&" "&'Realisasi Kegiatan&SubKeg'!$J$70 -> 22 Dokumen | AG39: Capaian | AH39: = | AI39: =SUM(AA48,AC48,AE48,AG48,AK48,AM48,AO48) -> 89 | AJ39: dari | AK39: ='Realisasi Kegiatan&SubKeg'!$I$78&" "&'Realisasi Kegiatan&SubKeg'!$J$78 -> 204 Laporan | AQ39: =SUM(AS48) -> 1 | AR39: dari | AS39: ='Realisasi Kegiatan&SubKeg'!$I$90&" "&'Realisasi Kegiatan&SubKeg'!$J$90 -> 4 Laporan | AU39: =SUM(AU48,AW48) -> 3 | AV39: dari | AW39: ='Realisasi Kegiatan&SubKeg'!$I$86&" "&'Realisasi Kegiatan&SubKeg'!$J$86 -> 5 Dokumen | AY39: =SUM(AY48) -> 0 | AZ39: Dokumen | BD39: Capaian | BE39: = | BF39: =SUM(BB48,BD48,BF48,BH48,BJ48) -> 67 | BG39: dari | BH39: ='Realisasi Kegiatan&SubKeg'!$I$103&" "&'Realisasi Kegiatan&SubKeg'!$J$103 -> 143 Dokumen | BP39: Capaian | BQ39: = | BR39: =SUM(BL48,BN48,BP48,BR48,BV48,BX48) -> 184 | BS39: dari | BT39: ='Realisasi Kegiatan&SubKeg'!$I$95&" "&'Realisasi Kegiatan&SubKeg'!$J$95 -> 462 Dokumen | BZ39: Capaian | CA39: = | CB39: =SUM(BZ48,CB48,CD48) -> 14 | CC39: dari | CD39: ='Realisasi Kegiatan&SubKeg'!$I$15&" "&'Realisasi Kegiatan&SubKeg'!$J$15 -> 29 Dokumen | CH39: Capaian | CI39: = | CJ39: =SUM(CH48,CJ48,CN48) -> 15 | CK39: dari | CL39: ='Realisasi Kegiatan&SubKeg'!$I$19&" "&'Realisasi Kegiatan&SubKeg'!$J$19 -> 30 Dokumen | CR39: Capaian | CS39: = | CT39: =SUM(CR48,CT48,CV48) -> 11 | CU39: dari | CV39: ='Realisasi Kegiatan&SubKeg'!$I$26&" "&'Realisasi Kegiatan&SubKeg'!$J$26 -> 183 Dokumen | DB39: Capaian | DC39: = | DD39: =SUM(CX48,CZ48,DB48,DD48,DF48,DH48,DJ48,DL48) -> 276 | DE39: dari | DF39: ='Realisasi Kegiatan&SubKeg'!$I$30&" "&'Realisasi Kegiatan&SubKeg'!$J$30 -> 457 Dokumen | DN39: =SUM(DN48,DP48) -> 0 | DO39: dari | DP39: 0 Dokumen | DR39: Capaian | DS39: = | DT39: =SUM(DR48,DT48) -> 34 | DU39: dari | DV39: ='Realisasi Kegiatan&SubKeg'!$I$39&" "&'Realisasi Kegiatan&SubKeg'!$J$39 -> 102 Laporan | EB39: Capaian | EC39: = | ED39: =SUM(DX48,DZ48,EB48,ED48,EF48,EH48) -> 94 | EE39: dari | EF39: ='Realisasi Kegiatan&SubKeg'!$I$43&" "&'Realisasi Kegiatan&SubKeg'!$J$43 -> 108 Unit | EJ39: Capaian | EK39: = | EL39: =SUM(EL48,EN48) -> 7 | EM39: dari | EN39: ='Realisasi Kegiatan&SubKeg'!$I$51&" "&'Realisasi Kegiatan&SubKeg'!$J$51 -> 55 Dokumen | EP39: Capaian | EQ39: = | ER39: =SUM(EP48,ET48) -> 7 | ES39: dari | ET39: ='Realisasi Kegiatan&SubKeg'!$I$55&" "&'Realisasi Kegiatan&SubKeg'!$J$55 -> 20 Dokumen
G40: 2. Capaian | H40: = | I40: =SUM(M48) -> 15700 | J40: dari | K40: ='Realisasi Kegiatan&SubKeg'!I67&" "&'Realisasi Kegiatan&SubKeg'!J67 -> 32400 Orang
A42: SUB KEGIATAN | C42: Penyusunan dan Pembahasan Program Pembentukan Peraturan Daerah | E42: Pembahasan Rancangan Perda | G42: Penyelenggaraan Kajian Perundang-Undangan | I42: Fasilitasi Penyusunan Penjelasan/Keterangan dan/atau Naskah Akademik | K42: Penyusunan Tata Tertib DPRD | M42: Sosialisasi Peraturan Daerah yang Dilakukan Bersama oleh DPRD dan Pemerintah Daerah | O42: Pembahasan KUA dan PPAS | Q42: Pembahasan Perubahan KUA dan Perubahan PPAS | S42: Pembahasan APBD | U42: Pembahasan APBD Perubahan | W42: Pembahasan Laporan Semester | Y42: Pembahasan Pertanggungjawaban APBD | AA42: Pengawasan Urusan Pemerintah Bidang Pemerintahan dan Hukum | AC42: Pengawasan Urusan Pemerintah Bidang Infrastruktur | AE42: Pengawasan Urusan Pemerintah Bidang Kesejahteraan Rakyat | AG42: Pengawasan Urusan Pemerintah Bidang Perekonomian | AI42: Pengawasan Urusan Pemerintah Bidang Sumber Daya Alam | AK42: Pengawasan Tindak Lanjut Hasil Pemeriksaan Laporan Keuangan oleh Badan Pemeriksa Keuangan | AM42: Pengawasan Penggunaan Anggaran | AO42: Pembahasan Laporan Keterangan Pertanggungjawaban Kepala Daerah | AQ42: Penyusunan Kode Etik DPRD | AS42: Pengawasan Kode Etik DPRD | AU42: Penyusunan Pokok-Pokok Pikiran DPRD | AW42: Pelaksanaan Reses | AY42: Fasilitasi, Verifikasi, dan Koordinasi Persetujuan Kerjasama Daerah | BB42: Koordinasi dan Konsultasi Pelaksanaan Tugas DPRD | BD42: Penyusunan Laporan Kinerja DPRD | BF42: Fasilitasi Pelaksanaan Tugas Badan Musyawarah | BH42: Fasilitasi Tugas Pimpinan DPRD | BJ42: Fasilitasi Pelaksanaan Tugas Panitia Khusus | BL42: Orientasi DPRD | BN42: Pendalaman Tugas DPRD | BP42: Publikasi dan Dokumentasi Dewan | BR42: Penyediaan Kelompok Pakar dan Tim Ahli | BT42: Penyediaan Tenaga Ahli Fraksi | BV42: Penyelenggaraan Hubungan Masyarakat | BX42: Penyusunan Program Kerja DPRD | BZ42: Penyusunan Dokumen Perencanaan Perangkat Daerah | CB42: Koordinasi dan Penyusunan Laporan Capaian Kinerja dan Ikhtisar Realisasi Kinerja SKPD | CD42: Evaluasi Kinerja Perangkat Daerah | CF42: Penyediaan Gaji dan Tunjangan ASN | CH42: Pelaksanaan Penatausahaan dan Pengujian/Verifikasi Keuangan SKPD | CJ42: Koordinasi dan Penyusunan Laporan Keuangan Akhir Tahun SKPD | CL42: Koordinasi dan Penyusunan Laporan Keuangan Bulanan/Triwulanan/Semesteran SKPD | CN42: Penyusunan Pelaporan dan Analisis Prognosis Realisasi Anggaran | CP42: Pengadaan Pakaian Dinas beserta Atribut Kelengkapannya | CR42: Pendataan dan Pengolahan Administrasi Kepegawaian | CT42: Pendidikan dan Pelatihan Pegawai Berdasarkan Tugas dan Fungsi | CV42: Bimbingan Teknis Implementasi Peraturan Perundang-Undangan | CX42: Penyediaan Komponen Instalasi Listrik/Penerangan Bangunan Kantor | CZ42: Penyediaan Peralatan dan Perlengkapan Kantor | DB42: Penyediaan Peralatan Rumah Tangga | DD42: Penyediaan Bahan Logistik Kantor | DF42: Penyediaan Barang Cetakan dan Penggandaan | DH42: Fasilitasi Kunjungan Tamu | DJ42: Penyelenggaraan Rapat Koordinasi dan Konsultasi SKPD | DL42: Dukungan Pelaksanaan Sistem Pemerintahan Berbasis Elektronik pada SKPD | DN42: Pengadaan Mebel | DP42: Pengadaan Peralatan dan Mesin Lainnya | DR42: Penyediaan Jasa Surat Menyurat | DT42: Penyediaan Jasa Komunikasi, Sumber Daya Air dan Listrik | DV42: Penyediaan Jasa Pelayanan Umum Kantor | DX42: Penyediaan Jasa Pemeliharaan, Biaya Pemeliharaan dan Pajak Kendaraan Perorangan Dinas atau Kendaraan Dinas Jabatan | DZ42: Penyediaan Jasa Pemeliharaan, Biaya Pemeliharaan, Pajak, dan Perizinan Kendaraan Dinas Operasional atau Lapangan | EB42: Pemeliharaan Mebel | ED42: Pemeliharaan Peralatan dan Mesin Lainnya | EF42: Pemeliharaan/Rehabilitasi Gedung Kantor dan Bangunan Lainnya | EH42: Pemeliharaan/Rehabilitasi Sarana dan Prasarana Gedung Kantor atau Bangunan Lainnya | EJ42: Penyelenggaraan Administrasi Keuangan DPRD | EL42: Penyediaan Pakaian Dinas dan Atribut DPRD | EN42: Pelaksanaan Medical Check Up DPRD | EP42: Penyelenggaraan Administrasi Keanggotaan DPRD | ER42: Fasilitasi Fraksi DPRD | ET42: Fasilitasi Rapat Koordinasi dan Konsultasi DPRD
A44: Indikator Sub Kegiatan (Output/Keluaran) | C44: Jumlah Dokumen Hasil Penyusunan dan Pembahasan Program Pembentukan Peraturan Daerah | E44: Jumlah Dokumen Hasil Pembahasan Rancangan Peraturan Daerah | G44: Jumlah Dokumen Kajian Perundang-Undangan | I44: Jumlah Dokumen Hasil Penyusunan Penjelasan atau Keterangan dan/atau Naskah Akademik yang Difasilitasi | K44: Jumlah Dokumen Tata Tertib DPRD yang Disusun | M44: Jumlah Orang yang Mengikuti Sosialisasi Peraturan Daerah yang Dilakukan Bersama oleh DPRD dan Pemerintah Daerah | O44: Jumlah Dokumen Hasil Pembahasan KUA dan PPAS | Q44: Jumlah Dokumen Hasil Pembahasan Perubahan KUA dan Perubahan PPAS | S44: Jumlah Dokumen Hasil Pembahasan APBD | U44: Jumlah Dokumen Hasil Pembahasan APBD Perubahan | W44: Jumlah Dokumen Hasil Pembahasan Laporan Realisasi Pelaksanaan APBD Per Semester | Y44: Jumlah Dokumen Hasil Pembahasan Pertanggungjawaban APBD | AA44: Jumlah Laporan Hasil Pengawasan Urusan Pemerintahan Bidang Pemerintahan dan Hukum | AC44: Jumlah Laporan Hasil Pengawasan Urusan Pemerintahan Bidang Infrastruktur | AE44: Jumlah Laporan Pengawasan Urusan Pemerintahan Bidang Kesejahteraan Rakyat | AG44: Jumlah Laporan Hasil Pengawasan Urusan Pemerintahan Bidang Perekonomian | AI44: Jumlah Laporan Hasil Pengawasan Urusan Pemerintahan Bidang Sumber Daya Alam | AK44: Jumlah Dokumen Hasil Pengawasan Tindak Lanjut Hasil Pemeriksaan Laporan Keuangan oleh Badan Pemeriksa Keuangan | AM44: Jumlah Dokumen Hasil Pengawasan Penggunaan Anggaran | AO44: Jumlah Rekomendasi Hasil Pembahasan Laporan Keterangan Pertanggungjawaban Kepala Daerah | AQ44: Jumlah Laporan Hasil Penyusunan Kode Etik DPRD | AS44: Jumlah Laporan Hasil Pengawasan Kode Etik DPRD | AU44: Jumlah Dokumen Pokok-Pokok Pikiran DPRD yang Disusun | AW44: Jumah Dokumen Hasil Pelaksanaan Reses | AY44: Jumlah Dokumen Rekomendasi Hasil Fasilitasi, Verifikasi, dan Koordinasi Persetujuan Kerjasama Daerah | BB44: Jumlah Dokumen Hasil Koordinasi dan Konsultasi Pelaksanaan Tugas DPRD | BD44: Jumlah Laporan Fraksi, Alat Kelengkapan dan Kinerja DPRD yang Disusun | BF44: Jumlah Dokumen Hasil Fasilitasi Pelaksanaan Tugas Badan Musyawarah | BH44: Jumlah Dokumen Hasil Fasilitasi Tugas Pimpinan DPRD | BJ44: Jumlah Dokumen Hasil Fasilitasi Pelaksanaan Tugas Panitia Khusus | BL44: Jumlah Dokumen Hasil Penyelenggaraan Orientasi DPRD | BN44: Jumlah Dokumen Hasil Pendalaman Tugas DPRD | BP44: Jumlah Dokumen Penyebarluasan Produk Hukum Daerah, Publikasi dan Dokumentasi Dewan | BR44: Jumlah Kelompok Pakar dan Tim Ahli yang tersedia | BT44: Jumlah Tenaga Ahli Fraksi | BV44: Jumlah Dokumen Hasil Penyelenggaraan Hubungan Masyarakat | BX44: Jumlah Dokumen Rencana Kerja DPRD | BZ44: Jumlah Dokumen Perencanaan Perangkat Daerah | CB44: Jumlah Laporan Capaian Kinerja dan Ikhtisar Realisasi Kinerja SKPD dan Laporan Hasil Koordinasi Penyusunan Laporan Capaian Kinerja dan Ikhtisar Realisasi Kinerja SKPD | CD44: Jumlah Laporan Evaluasi Kinerja Perangkat Daerah | CF44: Jumlah Orang yang Menerima Gaji dan Tunjangan ASN | CH44: Jumlah Dokumen Penatausahaan dan Pengujian/Verifikasi Keuangan SKPD | CJ44: Jumlah Laporan Keuangan Akhir Tahun SKPD dan Laporan Hasil Koordinasi Penyusunan Laporan Keuangan Akhir Tahun SKPD | CL44: Jumlah Laporan Keuangan Bulanan/ Triwulanan/ Semesteran SKPD dan Laporan Koordinasi Penyusunan Laporan Keuangan Bulanan/Triwulanan/Semesteran SKPD | CN44: Jumlah Dokumen Pelaporan dan Analisis Prognosis Realisasi Anggaran | CP44: Jumlah Paket Pakaian Dinas beserta Atribut Kelengkapan | CR44: Jumlah Dokumen Pendataan dan Pengolahan Administrasi Kepegawaian | CT44: Jumlah Pegawai Berdasarkan Tugas dan Fungsi yang Mengikuti Pendidikan dan Pelatihan | CV44: Jumlah Orang yang Mengikuti Bimbingan Teknis Implementasi Peraturan Perundang-Undangan | CX44: Jumlah Paket Komponen Instalasi Listrik/Penerangan Bangunan Kantor yang Disediakan | CZ44: Jumlah Paket Peralatan dan Perlengkapan Kantor yang Disediakan | DB44: Jumlah Paket Peralatan Rumah Tangga yang Disediakan | DD44: Jumlah Paket Bahan Logistik Kantor yang Disediakan | DF44: Jumlah Paket Barang Cetakan dan Penggandaan yang Disediakan | DH44: Jumlah Laporan Fasilitasi Kunjungan Tamu | DJ44: Jumlah Laporan Penyelenggaraan Rapat Koordinasi dan Konsultasi SKPD | DL44: Jumlah Dokumen Dukungan Pelaksanaan Sistem Pemerintahan Berbasis Elektronik pada SKPD | DN44: Jumlah Paket Mebel yang Disediakan | DP44: Jumlah Unit Peralatan dan Mesin Lainnya yang Disediakan | DR44: Jumlah Laporan Penyediaan Jasa Surat Menyurat | DT44: Jumlah Laporan Penyediaan Jasa Komunikasi, Sumber Daya Air dan Listrik yang Disediakan | DV44: Jumlah Laporan Penyediaan Jasa Pelayanan Umum Kantor yang Disediakan | DX44: Jumlah Kendaraan Perorangan Dinas atau Kendaraan Dinas Jabatan yang Dipelihara dan dibayarkan Pajaknya | DZ44: Jumlah Kendaraan Dinas Operasional atau Lapangan yang Dipelihara dan dibayarkan Pajak dan Perizinannya | EB44: Jumlah Mebel yang Dipelihara | ED44: Jumlah Peralatan dan Mesin Lainnya yang Dipelihara | EF44: Jumlah Gedung Kantor dan Bangunan Lainnya yang Dipelihara/Direhabilitasi | EH44: Jumlah Sarana dan Prasarana Gedung Kantor atau Bangunan Lainnya yang Dipelihara/Direhabilitasi | EJ44: Jumlah Anggota DPRD yang Menerima Hak Keuangan DPRD | EL44: Jumlah Paket Pakaian Dinas dan Atribut DPRD yang Disediakan | EN44: Jumlah Orang yang Mengikuti Medical Check Up DPRD | EP44: Jumlah Dokumen Hasil Penyelenggaraan Administrasi Keanggotaan DPRD | ER44: Jumlah Laporan Hasil Fasilitasi Fraksi DPRD | ET44: Jumlah Laporan Hasil Fasilitasi Rapat Koordinasi dan Konsultasi DPRD
A46: Target | C46: ='Realisasi Kegiatan&SubKeg'!$I63&" "&'Realisasi Kegiatan&SubKeg'!$J63 -> 2 Dokumen | E46: ='Realisasi Kegiatan&SubKeg'!$I64&" "&'Realisasi Kegiatan&SubKeg'!$J64 -> 8 Dokumen | G46: ='Realisasi Kegiatan&SubKeg'!$I65&" "&'Realisasi Kegiatan&SubKeg'!$J65 -> 1 Dokumen | I46: ='Realisasi Kegiatan&SubKeg'!$I66&" "&'Realisasi Kegiatan&SubKeg'!$J66 -> 4 Dokumen | K46: 0 | M46: ='Realisasi Kegiatan&SubKeg'!$I67&" "&'Realisasi Kegiatan&SubKeg'!$J67 -> 32400 Orang | O46: ='Realisasi Kegiatan&SubKeg'!$I71&" "&'Realisasi Kegiatan&SubKeg'!$J71 -> 4 Dokumen | Q46: ='Realisasi Kegiatan&SubKeg'!$I72&" "&'Realisasi Kegiatan&SubKeg'!$J72 -> 4 Dokumen | S46: ='Realisasi Kegiatan&SubKeg'!$I73&" "&'Realisasi Kegiatan&SubKeg'!$J73 -> 4 Dokumen | U46: ='Realisasi Kegiatan&SubKeg'!$I74&" "&'Realisasi Kegiatan&SubKeg'!$J74 -> 4 Dokumen | W46: ='Realisasi Kegiatan&SubKeg'!$I75&" "&'Realisasi Kegiatan&SubKeg'!$J75 -> 2 Dokumen | Y46: ='Realisasi Kegiatan&SubKeg'!$I76&" "&'Realisasi Kegiatan&SubKeg'!$J76 -> 4 Dokumen | AA46: ='Realisasi Kegiatan&SubKeg'!$I79&" "&'Realisasi Kegiatan&SubKeg'!$J79 -> 48 Laporan | AC46: ='Realisasi Kegiatan&SubKeg'!$I80&" "&'Realisasi Kegiatan&SubKeg'!$J80 -> 48 Laporan | AE46: ='Realisasi Kegiatan&SubKeg'!$I1&" "&'Realisasi Kegiatan&SubKeg'!$J81 -> Laporan | AG46: ='Realisasi Kegiatan&SubKeg'!$I82&" "&'Realisasi Kegiatan&SubKeg'!$J82 -> 48 Laporan | AI46: 0 Laporan | AK46: ='Realisasi Kegiatan&SubKeg'!$I83&" "&'Realisasi Kegiatan&SubKeg'!$J83 -> 2 Dokumen | AM46: ='Realisasi Kegiatan&SubKeg'!$I84&" "&'Realisasi Kegiatan&SubKeg'!$J84 -> 6 Dokumen | AO46: ='Realisasi Kegiatan&SubKeg'!$I85&" "&'Realisasi Kegiatan&SubKeg'!$J85 -> 4 Dokumen | AQ46: 0 Laporan | AS46: ='Realisasi Kegiatan&SubKeg'!$I90&" "&'Realisasi Kegiatan&SubKeg'!$J90 -> 4 Laporan | AU46: ='Realisasi Kegiatan&SubKeg'!$I97&" "&'Realisasi Kegiatan&SubKeg'!$J97 -> 6 Dokumen | AW46: ='Realisasi Kegiatan&SubKeg'!$I88&" "&'Realisasi Kegiatan&SubKeg'!$J88 -> 3 Dokumen | AY46: 0 Dokumen | BB46: ='Realisasi Kegiatan&SubKeg'!$I104&" "&'Realisasi Kegiatan&SubKeg'!$J104 -> 16 Dokumen | BD46: ='Realisasi Kegiatan&SubKeg'!$I105&" "&'Realisasi Kegiatan&SubKeg'!$J105 -> 5 Laporan | BF46: ='Realisasi Kegiatan&SubKeg'!$I106&" "&'Realisasi Kegiatan&SubKeg'!$J106 -> 12 Dokumen | BH46: ='Realisasi Kegiatan&SubKeg'!$I107&" "&'Realisasi Kegiatan&SubKeg'!$J107 -> 108 Dokumen | BJ46: ='Realisasi Kegiatan&SubKeg'!$I108&" "&'Realisasi Kegiatan&SubKeg'!$J108 -> 2 Dokumen | BL46: ='Realisasi Kegiatan&SubKeg'!$I96&" "&'Realisasi Kegiatan&SubKeg'!$J96 -> 2 Dokumen | BN46: ='Realisasi Kegiatan&SubKeg'!$I97&" "&'Realisasi Kegiatan&SubKeg'!$J97 -> 6 Dokumen | BP46: ='Realisasi Kegiatan&SubKeg'!$I102&" "&'Realisasi Kegiatan&SubKeg'!$J102 -> 420 Dokumen | BR46: ='Realisasi Kegiatan&SubKeg'!$I98&" "&'Realisasi Kegiatan&SubKeg'!$J98 -> 9 Orang | BT46: ='Realisasi Kegiatan&SubKeg'!$I99&" "&'Realisasi Kegiatan&SubKeg'!$J99 -> 6 Orang | BV46: ='Realisasi Kegiatan&SubKeg'!$I100&" "&'Realisasi Kegiatan&SubKeg'!$J100 -> 24 Dokumen | BX46: ='Realisasi Kegiatan&SubKeg'!$I101&" "&'Realisasi Kegiatan&SubKeg'!$J101 -> 1 Dokumen | BZ46: ='Realisasi Kegiatan&SubKeg'!$I16&" "&'Realisasi Kegiatan&SubKeg'!$J16 -> 8 Dokumen | CB46: ='Realisasi Kegiatan&SubKeg'!$I17&" "&'Realisasi Kegiatan&SubKeg'!$J17 -> 17 Laporan | CD46: ='Realisasi Kegiatan&SubKeg'!$I18&" "&'Realisasi Kegiatan&SubKeg'!$J18 -> 4 Laporan | CF46: ='Realisasi Kegiatan&SubKeg'!$I20&" "&'Realisasi Kegiatan&SubKeg'!$J20 -> 30 Orang/bulan | CH46: ='Realisasi Kegiatan&SubKeg'!$I21&" "&'Realisasi Kegiatan&SubKeg'!$J21 -> 24 Dokumen | CJ46: ='Realisasi Kegiatan&SubKeg'!$I22&" "&'Realisasi Kegiatan&SubKeg'!$J22 -> 5 Laporan | CL46: ='Realisasi Kegiatan&SubKeg'!$I23&" "&'Realisasi Kegiatan&SubKeg'!$J23 -> 9 Laporan | CN46: ='Realisasi Kegiatan&SubKeg'!$I24&" "&'Realisasi Kegiatan&SubKeg'!$J24 -> 1 Dokumen | CP46: 0 Paket | CR46: ='Realisasi Kegiatan&SubKeg'!$I27&" "&'Realisasi Kegiatan&SubKeg'!$J27 -> 17 Dokumen | CT46: ='Realisasi Kegiatan&SubKeg'!$I28&" "&'Realisasi Kegiatan&SubKeg'!$J28 -> 151 Orang | CV46: ='Realisasi Kegiatan&SubKeg'!$I29&" "&'Realisasi Kegiatan&SubKeg'!$J29 -> 15 Orang | CX46: ='Realisasi Kegiatan&SubKeg'!$I31&" "&'Realisasi Kegiatan&SubKeg'!$J31 -> 1 Paket | CZ46: ='Realisasi Kegiatan&SubKeg'!$I32&" "&'Realisasi Kegiatan&SubKeg'!$J32 -> 3 Paket | DB46: ='Realisasi Kegiatan&SubKeg'!$I33&" "&'Realisasi Kegiatan&SubKeg'!$J33 -> 2 Paket | DD46: ='Realisasi Kegiatan&SubKeg'!$I34&" "&'Realisasi Kegiatan&SubKeg'!$J34 -> 60 Paket | DF46: ='Realisasi Kegiatan&SubKeg'!$I35&" "&'Realisasi Kegiatan&SubKeg'!$J35 -> 7 Paket | DH46: ='Realisasi Kegiatan&SubKeg'!$I36&" "&'Realisasi Kegiatan&SubKeg'!$J36 -> 360 Laporan | DJ46: ='Realisasi Kegiatan&SubKeg'!$I37&" "&'Realisasi Kegiatan&SubKeg'!$J37 -> 20 Laporan | DL46: ='Realisasi Kegiatan&SubKeg'!$I38&" "&'Realisasi Kegiatan&SubKeg'!$J38 -> 4 Dokumen | DN46: 0 Unit | DP46: 0 Unit | DR46: ='Realisasi Kegiatan&SubKeg'!$I40&" "&'Realisasi Kegiatan&SubKeg'!$J40 -> 90 Laporan | DT46: ='Realisasi Kegiatan&SubKeg'!$I41&" "&'Realisasi Kegiatan&SubKeg'!$J41 -> 12 Laporan | DV46: ='Realisasi Kegiatan&SubKeg'!$I42&" "&'Realisasi Kegiatan&SubKeg'!$J42 -> 39 Laporan | DX46: ='Realisasi Kegiatan&SubKeg'!$I44&" "&'Realisasi Kegiatan&SubKeg'!$J44 -> 4 Unit | DZ46: ='Realisasi Kegiatan&SubKeg'!$I45&" "&'Realisasi Kegiatan&SubKeg'!$J45 -> 18 Unit | EB46: ='Realisasi Kegiatan&SubKeg'!$I46&" "&'Realisasi Kegiatan&SubKeg'!$J46 -> 25 Unit | ED46: ='Realisasi Kegiatan&SubKeg'!$I47&" "&'Realisasi Kegiatan&SubKeg'!$J47 -> 55 Unit | EF46: ='Realisasi Kegiatan&SubKeg'!$I48&" "&'Realisasi Kegiatan&SubKeg'!$J48 -> 2 Unit | EH46: ='Realisasi Kegiatan&SubKeg'!$I49&" "&'Realisasi Kegiatan&SubKeg'!$J49 -> 4 Unit | EJ46: ='Realisasi Kegiatan&SubKeg'!$I52&" "&'Realisasi Kegiatan&SubKeg'!$J52 -> 50 Orang/Bulan | EL46: ='Realisasi Kegiatan&SubKeg'!$I53&" "&'Realisasi Kegiatan&SubKeg'!$J53 -> 5 Paket | EN46: ='Realisasi Kegiatan&SubKeg'!$I54&" "&'Realisasi Kegiatan&SubKeg'!$J54 -> 50 Orang | EP46: ='Realisasi Kegiatan&SubKeg'!$I56&" "&'Realisasi Kegiatan&SubKeg'!$J56 -> 10 Dokumen | ER46: 0 Laporan | ET46: ='Realisasi Kegiatan&SubKeg'!$I58&" "&'Realisasi Kegiatan&SubKeg'!$J58 -> 10 Laporan
A48: Realisasi | C48: ='Realisasi Kegiatan&SubKeg'!AI63 -> 1 | E48: ='Realisasi Kegiatan&SubKeg'!AI64 -> 15 | G48: ='Realisasi Kegiatan&SubKeg'!AI65 -> 0 | I48: ='Realisasi Kegiatan&SubKeg'!AI66 -> 1 | K48: 0 | M48: ='Realisasi Kegiatan&SubKeg'!AI67 -> 15700 | O48: ='Realisasi Kegiatan&SubKeg'!$AI$71 -> 0 | Q48: ='Realisasi Kegiatan&SubKeg'!$AI$72 -> 0 | S48: ='Realisasi Kegiatan&SubKeg'!$AI$73 -> 0 | U48: ='Realisasi Kegiatan&SubKeg'!$AI$74 -> 0 | W48: ='Realisasi Kegiatan&SubKeg'!$AI$75 -> 1 | Y48: ='Realisasi Kegiatan&SubKeg'!$AI$76 -> 0 | AA48: ='Realisasi Kegiatan&SubKeg'!$AI$79 -> 20 | AC48: ='Realisasi Kegiatan&SubKeg'!$AI$80 -> 20 | AE48: ='Realisasi Kegiatan&SubKeg'!$AI$81 -> 21 | AG48: ='Realisasi Kegiatan&SubKeg'!$AI$82 -> 20 | AI48: 0 | AK48: ='Realisasi Kegiatan&SubKeg'!$AI$83 -> 0 | AM48: ='Realisasi Kegiatan&SubKeg'!$AI$84 -> 2 | AO48: ='Realisasi Kegiatan&SubKeg'!$AI$85 -> 6 | AQ48: 0 | AS48: ='Realisasi Kegiatan&SubKeg'!$AI$90 -> 1 | AU48: ='Realisasi Kegiatan&SubKeg'!$AI$97 -> 2 | AW48: ='Realisasi Kegiatan&SubKeg'!$AI$88 -> 1 | AY48: 0 | BB48: ='Realisasi Kegiatan&SubKeg'!$AI104 -> 16 | BD48: ='Realisasi Kegiatan&SubKeg'!$AI105 -> 5 | BF48: ='Realisasi Kegiatan&SubKeg'!$AI106 -> 6 | BH48: ='Realisasi Kegiatan&SubKeg'!$AI107 -> 39 | BJ48: ='Realisasi Kegiatan&SubKeg'!$AI108 -> 1 | BL48: ='Realisasi Kegiatan&SubKeg'!$AI96 -> 0 | BN48: ='Realisasi Kegiatan&SubKeg'!$AI97 -> 2 | BP48: ='Realisasi Kegiatan&SubKeg'!$AI102 -> 170 | BR48: ='Realisasi Kegiatan&SubKeg'!$AI98 -> 1 | BT48: ='Realisasi Kegiatan&SubKeg'!$AI99 -> 6 | BV48: ='Realisasi Kegiatan&SubKeg'!$AI100 -> 10 | BX48: ='Realisasi Kegiatan&SubKeg'!$AI101 -> 1 | BZ48: ='Realisasi Kegiatan&SubKeg'!$AI16 -> 3 | CB48: ='Realisasi Kegiatan&SubKeg'!$AI17 -> 8 | CD48: ='Realisasi Kegiatan&SubKeg'!$AI18 -> 3 | CF48: ='Realisasi Kegiatan&SubKeg'!$AI20 -> 46 | CH48: ='Realisasi Kegiatan&SubKeg'!$AI21 -> 10 | CJ48: ='Realisasi Kegiatan&SubKeg'!$AI22 -> 5 | CL48: ='Realisasi Kegiatan&SubKeg'!$AI23 -> 9 | CN48: ='Realisasi Kegiatan&SubKeg'!$AI24 -> 0 | CP48: 0 | CR48: ='Realisasi Kegiatan&SubKeg'!$AI27 -> 10 | CT48: ='Realisasi Kegiatan&SubKeg'!$AI28 -> 1 | CV48: ='Realisasi Kegiatan&SubKeg'!$AI29 -> 0 | CX48: ='Realisasi Kegiatan&SubKeg'!$AI31 -> 0 | CZ48: ='Realisasi Kegiatan&SubKeg'!$AI32 -> 3 | DB48: ='Realisasi Kegiatan&SubKeg'!$AI33 -> 2 | DD48: ='Realisasi Kegiatan&SubKeg'!$AI34 -> 23 | DF48: ='Realisasi Kegiatan&SubKeg'!$AI35 -> 4 | DH48: ='Realisasi Kegiatan&SubKeg'!$AI36 -> 234 | DJ48: ='Realisasi Kegiatan&SubKeg'!$AI37 -> 7 | DL48: ='Realisasi Kegiatan&SubKeg'!$AI38 -> 3 | DN48: 0 | DP48: 0 | DR48: ='Realisasi Kegiatan&SubKeg'!$AI40 -> 29 | DT48: ='Realisasi Kegiatan&SubKeg'!$AI41 -> 5 | DV48: ='Realisasi Kegiatan&SubKeg'!$AI42 -> 39 | DX48: ='Realisasi Kegiatan&SubKeg'!$AI44 -> 4 | DZ48: ='Realisasi Kegiatan&SubKeg'!$AI45 -> 16 | EB48: ='Realisasi Kegiatan&SubKeg'!$AI46 -> 10 | ED48: ='Realisasi Kegiatan&SubKeg'!$AI47 -> 62 | EF48: ='Realisasi Kegiatan&SubKeg'!$AI48 -> 1 | EH48: ='Realisasi Kegiatan&SubKeg'!$AI49 -> 1 | EJ48: ='Realisasi Kegiatan&SubKeg'!$AI52 -> 50 | EL48: ='Realisasi Kegiatan&SubKeg'!$AI53 -> 0 | EN48: ='Realisasi Kegiatan&SubKeg'!$AI54 -> 7 | EP48: ='Realisasi Kegiatan&SubKeg'!$AI56 -> 2 | ER48: ='Realisasi Kegiatan&SubKeg'!$AI57 -> 0 | ET48: ='Realisasi Kegiatan&SubKeg'!$AI58 -> 5
A50: Data Dukung | C50: Laporan pelaksanaan kegiatan | E50: Laporan pelaksanaan kegiatan | G50: Laporan pelaksanaan kegiatan | I50: Laporan pelaksanaan kegiatan | K50: Laporan pelaksanaan kegiatan | M50: Laporan pelaksanaan kegiatan | O50: Laporan pelaksanaan kegiatan | Q50: Laporan pelaksanaan kegiatan | S50: Laporan pelaksanaan kegiatan
C51: SK Propemperda | E51: Rankhir Ranperda | G51: Hasil Kajian | I51: Naskah Akademik | K51: Dokumen Tatib | M51: Daftar hadir peserta sosperda | O51: KUA, PPAS | Q51: KUPA, PPAS Perubahan | S51: APBD
