Workbook

Sheet Realisasi Sasaran
A1: MONITORING DAN EVALUASI TERHADAP CAPAIAN KINERJA SASARAN PERANGKAT DAERAH
A3: Kabupaten/Kota | F3: : Gresik
A4: Perangkat Daerah | F4: : Sekretariat DPRD
A5: Periode Renja PD | F5: : 2026
A6: Periode RKA PD | F6: =F5 -> : 2026
A8: Kode | F8: Tujuan / Sasaran | G8: Indikator | H8: FORMULASI | J8: JUMLAH KEGIATAN | L8: Target | N8: Realisasi | Z8: Capaian
J9: Target | K9: Realisasi | L9: Kinerja | M9: Satuan | N9: Jan | O9: Feb | P9: Mar | Q9: Apr | R9: Mei | S9: Jun | T9: Jul | U9: Agst | V9: Sept | W9: Okt | X9: Nop | Y9: Des | Z9: Jumlah | AA9: %
F10: Terwujudnya Sinergitas Antara Pemerintah Daerah dan DPRD Dalam Penyelenggaraan Pemerintahan Daerah | G10: Indeks Pelayanan Publik | H10: Nilai indeks pelayanan publik Sekretariat DPRD | L10: 4.25 | M10: Nilai | N10: 4.24 | O10: 4.24 | P10: 4.24 | Q10: 4.24 | R10: 4.24 | Z10: =LOOKUP(2,1/(N10:Y10<>0),(N10:Y10)) -> 4.24 | AA10: =Z10/L10 -> 0.99764706
A11: 4 | B11: 02 | F11: Meningkatnya kualitas pelayanan atas dukungan fasilitasi pelaksanaan tugas dan fungsi DPRD | G11: Persentase penyelenggaraan pelayanan administrasi kesekretariatan dan keuangan | H11: Jumlah pelayanan administrasi kesekretariatan dan keuangan yang diselenggarakan dibagi Jumlah pelayanan administrasi kesekretariatan dan keuangan sesuai Renja dikali 100% | J11: ='Realisasi Kegiatan&SubKeg'!I13 -> 984 | K11: ='Realisasi Kegiatan&SubKeg'!AI13 -> 458 | L11: 100 | M11: Persen | N11: ='Realisasi Kegiatan&SubKeg'!L13 -> 0.087398374 | O11: ='Realisasi Kegiatan&SubKeg'!N13 -> 0.088414634 | P11: ='Realisasi Kegiatan&SubKeg'!P13 -> 0.10060976 | Q11: ='Realisasi Kegiatan&SubKeg'!R13 -> 0.1097561 | R11: ='Realisasi Kegiatan&SubKeg'!T13 -> 0.079268293 | S11: ='Realisasi Kegiatan&SubKeg'!V13 -> 0 | T11: ='Realisasi Kegiatan&SubKeg'!X13 -> 0 | U11: ='Realisasi Kegiatan&SubKeg'!Z13 -> 0 | V11: ='Realisasi Kegiatan&SubKeg'!AB13 -> 0 | W11: ='Realisasi Kegiatan&SubKeg'!AD13 -> 0 | X11: ='Realisasi Kegiatan&SubKeg'!AF13 -> 0 | Y11: ='Realisasi Kegiatan&SubKeg'!AH13 -> 0 | Z11: =SUM(N11:Y11) -> 0.46544715 | AA11: =Z11/L11*100 -> 0.46544715
G12: Persentase Fasilitasi Pelaksanaan Fungsi DPRD | H12: Jumlah fasilitasi kegiatan DPRD sesuai fungsinya yang dipenuhi dibagi jumlah kegiatan DPRD sesuai fungsinya berdasarkan renja DPRD dikali 100% | J12: ='Realisasi Kegiatan&SubKeg'!I60 -> 574 | K12: ='Realisasi Kegiatan&SubKeg'!AI60 -> 219 | L12: 100 | M12: Persen | N12: ='Realisasi Kegiatan&SubKeg'!L60 -> 0.031358885 | O12: ='Realisasi Kegiatan&SubKeg'!N60 -> 0.033101045 | P12: ='Realisasi Kegiatan&SubKeg'!P60 -> 0.1271777 | Q12: ='Realisasi Kegiatan&SubKeg'!R60 -> 0.055749129 | R12: ='Realisasi Kegiatan&SubKeg'!T60 -> 0.13414634 | S12: ='Realisasi Kegiatan&SubKeg'!V60 -> 0 | T12: ='Realisasi Kegiatan&SubKeg'!X60 -> 0 | U12: ='Realisasi Kegiatan&SubKeg'!Z60 -> 0 | V12: ='Realisasi Kegiatan&SubKeg'!AB60 -> 0 | W12: ='Realisasi Kegiatan&SubKeg'!AD60 -> 0 | X12: ='Realisasi Kegiatan&SubKeg'!AF60 -> 0 | Y12: ='Realisasi Kegiatan&SubKeg'!AH60 -> 0 | Z12: =SUM(N12:Y12) -> 0.3815331 | AA12: =Z12/L12*100 -> 0.3815331
G13: Persentase fasilitasi pelaksanaan tugas DPRD | H13: Jumlah fasilitasi kegiatan DPRD sesuai tugasnya yang dipenuhi dibagi jumlah kegiatan DPRD sesuai tugasnya berdasarkan renja DPRD dikali 100% | J13: ='Realisasi Kegiatan&SubKeg'!I92 -> 605 | K13: ='Realisasi Kegiatan&SubKeg'!AI92 -> 251 | L13: 100 | M13: Persen | N13: ='Realisasi Kegiatan&SubKeg'!L92 -> 0.052892562 | O13: ='Realisasi Kegiatan&SubKeg'!N92 -> 0.080991736 | P13: ='Realisasi Kegiatan&SubKeg'!P92 -> 0.095867769 | Q13: ='Realisasi Kegiatan&SubKeg'!R92 -> 0.099173554 | R13: ='Realisasi Kegiatan&SubKeg'!T92 -> 0.085950413 | S13: ='Realisasi Kegiatan&SubKeg'!V92 -> 0 | T13: ='Realisasi Kegiatan&SubKeg'!X92 -> 0 | U13: ='Realisasi Kegiatan&SubKeg'!Z92 -> 0 | V13: ='Realisasi Kegiatan&SubKeg'!AB92 -> 0 | W13: ='Realisasi Kegiatan&SubKeg'!AD92 -> 0 | X13: ='Realisasi Kegiatan&SubKeg'!AF92 -> 0 | Y13: ='Realisasi Kegiatan&SubKeg'!AH92 -> 0 | Z13: =SUM(N13:Y13) -> 0.41487603 | AA13: =Z13/L13*100 -> 0.41487603
G14: Nilai Kepuasan Anggota DPRD Atas Dukungan Pelaksanaan Tugas Sekretariat DPRD | H14: Nilai hasil survey indeks kepuasan masyarakat (Anggota DPRD) | L14: 96.5 | M14: Nilai | N14: 95 | O14: 95 | P14: 96.75 | Q14: 97.86 | R14: 98.14 | Z14: =LOOKUP(2,1/(N14:Y14<>0),(N14:Y14)) -> 98.14 | AA14: =Z14/L14 -> 1.0169948
V17: Gresik, 5 Juni 2026
V18: SEKRETARIS DPRD
V19: KABUPATEN GRESIK
V23: Ir. MOKHAMMAD NAJIKH, M.M.
V24: Pembina Utama Muda
V25: NIP. 196804121992031011

Sheet Realisasi Program
A1: MONITORING DAN EVALUASI TERHADAP CAPAIAN KINERJA PROGRAM PERANGKAT DAERAH
A3: Kabupaten/Kota | F3: : Gresik
A4: Perangkat Daerah | F4: : Sekretariat DPRD
A5: Periode Renja PD | F5: : 2026
A6: Periode RKA PD | F6: =F5 -> : 2026
A8: Kode | F8: Urusan/Bidang Urusan Pemerintahan Daerah dan Program/Kegiatan/Sub Kegiatan | G8: Indikator Kinerja | H8: FORMULASI | J8: Target | L8: Realisasi | X8: Capaian
J9: Target | K9: Satuan | L9: Jan | M9: Feb | N9: Mar | O9: Apr | P9: Mei | Q9: Jun | R9: Jul | S9: Agst | T9: Sept | U9: Okt | V9: Nop | W9: Des | X9: Jumlah | Y9: %
A10: 4 | B10: 02 | C10: 1 | F10: PROGRAM PENUNJANG URUSAN PEMERINTAHAN DAERAH KABUPATEN/KOTA
A11: Terselenggaranya layanan administrasi kesekretariatan dan keuangan DPRD | G11: Nilai Hasil Evaluasi SAKIP Perangkat Daerah | H11: Nilai Sakip dari Inspektorat Kabupaten | I11: Nilai Sakip dari Inspektorat Kabupaten | J11: 86.9 | K11: Nilai | L11: 86.85 | M11: 86.85 | N11: 86.85 | O11: 86.85 | X11: =LOOKUP(2,1/(L11:W11<>0),(L11:W11)) -> 86.85 | Y11: =X11/$J11 -> 0.99942463
G12: Persentase Penyelenggaraan Administrasi Kesekretariatan | H12: Jumlah layanan administrasi kesekretariatan yang diselenggarakan dibagi jumlah layanan administrasi kesekretariatan dikali 100% | J12: 100 | K12: Persen | L12: ='Realisasi Kegiatan&SubKeg'!L25 -> 0.088235294 | M12: ='Realisasi Kegiatan&SubKeg'!N25 -> 0.096470588 | N12: ='Realisasi Kegiatan&SubKeg'!P25 -> 0.10470588 | O12: ='Realisasi Kegiatan&SubKeg'!R25 -> 0.11529412 | P12: 0 | Q12: 0 | R12: 0 | S12: ='Realisasi Kegiatan&SubKeg'!Z25 -> 0 | T12: ='Realisasi Kegiatan&SubKeg'!AB25 -> 0 | U12: ='Realisasi Kegiatan&SubKeg'!AD25 -> 0 | V12: ='Realisasi Kegiatan&SubKeg'!AF25 -> 0 | W12: ='Realisasi Kegiatan&SubKeg'!AH25 -> 0 | X12: =SUM(W12,V12,U12,T12,S12,R12,Q12,P12,O12,N12,M12,L12) -> 0.40470588 | Y12: =X12/$J12*100 -> 0.40470588 | AA12: =SUM(L12:N12) -> 0.28941176 | AB12: =SUM(O12:Q12) -> 0.11529412 | AC12: =SUM(R12:T12) -> 0 | AD12: =SUM(U12:W12) -> 0
G13: Persentase Penyelenggaraan Administrasi Keuangan dan Kesejahteraan DPRD | H13: Jumlah layanan administrasi Keuangan dan Kesejahteraan DPRD yang diselenggarakan dibagi jumlah layanan administrasi Keuangan dan Kesejahteraan DPRD dikali 100% | J13: 100 | K13: Persen | L13: ='Realisasi Kegiatan&SubKeg'!L50 -> 0 | M13: ='Realisasi Kegiatan&SubKeg'!N50 -> 0.026666667 | N13: ='Realisasi Kegiatan&SubKeg'!P50 -> 0.026666667 | O13: ='Realisasi Kegiatan&SubKeg'!R50 -> 0.08 | P13: ='Realisasi Kegiatan&SubKeg'!T50 -> 0.053333333 | Q13: ='Realisasi Kegiatan&SubKeg'!V50 -> 0 | R13: ='Realisasi Kegiatan&SubKeg'!X50 -> 0 | S13: ='Realisasi Kegiatan&SubKeg'!Z50 -> 0 | T13: ='Realisasi Kegiatan&SubKeg'!AB50 -> 0 | U13: ='Realisasi Kegiatan&SubKeg'!AD50 -> 0 | V13: ='Realisasi Kegiatan&SubKeg'!AF50 -> 0 | W13: ='Realisasi Kegiatan&SubKeg'!AH50 -> 0 | X13: =SUM(W13,V13,U13,T13,S13,R13,Q13,P13,O13,N13,M13,L13) -> 0.18666667 | Y13: =X13/$J13*100 -> 0.18666667 | AA13: =SUM(L13:N13) -> 0.053333333 | AB13: =SUM(O13:Q13) -> 0.13333333 | AC13: =SUM(R13:T13) -> 0 | AD13: =SUM(U13:W13) -> 0
A14: 4 | B14: 02 | C14: 2 | F14: PROGRAM DUKUNGAN PELAKSANAAN TUGAS DAN FUNGSI DPRD | AA14: =SUM(L14:N14) -> 0 | AB14: =SUM(O14:Q14) -> 0 | AC14: =SUM(R14:T14) -> 0 | AD14: =SUM(U14:W14) -> 0
A15: Meningkatnya Kualitas Persidangan dan Kajian Peratuan Perundang-Undangan | G15: Ketepatan Penetapan Ranperda Tahun N | H15: Jumlah fasilitasi pembahasan Ranperda Tahun N yang tepat waktu dibagi jumlah pembahasan Ranperda Tahun N berdasarkan Renja DPRD dikali 100% | J15: 100 | K15: Persen | L15: ='Realisasi Kegiatan&SubKeg'!L61 -> 0 | M15: ='Realisasi Kegiatan&SubKeg'!N61 -> 0.0029498525 | N15: ='Realisasi Kegiatan&SubKeg'!P61 -> 0.15929204 | O15: ='Realisasi Kegiatan&SubKeg'!R61 -> 0.026548673 | P15: ='Realisasi Kegiatan&SubKeg'!T61 -> 0.179941 | Q15: ='Realisasi Kegiatan&SubKeg'!V61 -> 0 | R15: ='Realisasi Kegiatan&SubKeg'!X61 -> 0 | S15: ='Realisasi Kegiatan&SubKeg'!Z61 -> 0 | T15: ='Realisasi Kegiatan&SubKeg'!AB61 -> 0 | U15: ='Realisasi Kegiatan&SubKeg'!AD61 -> 0 | V15: ='Realisasi Kegiatan&SubKeg'!AF61 -> 0 | W15: ='Realisasi Kegiatan&SubKeg'!AH61 -> 0 | X15: =SUM(L15:W15) -> 0.36873156 | Y15: =X15/$J15*100 -> 0.36873156 | AA15: =SUM(L15:N15) -> 0.16224189 | AB15: =SUM(O15:Q15) -> 0.20648968 | AC15: =SUM(R15:T15) -> 0 | AD15: =SUM(U15:W15) -> 0
A16: Indikator Program | G16: Persentase fasilitasi pelaksanaan tugas dan fungsi penganggaran DPRD | H16: Persentase fasilitasi pelaksanaan tugas dan fungsi penganggaran DPRD | J16: 100 | K16: Persen | X16: =SUM(W16,V16,U16,T16,S16,R16,Q16,P16,O16,N16,M16,L16) -> 0 | Y16: =X16/$J16*100 -> 0 | AA16: =SUM(L16:N16) -> 0 | AB16: =SUM(O16:Q16) -> 0 | AC16: =SUM(R16:T16) -> 0 | AD16: =SUM(U16:W16) -> 0
A17: Meningkatnya Kualitas Penganggaran dan Pengawasan | G17: Ketepatan Penetapan Perda APBD Tahun N | H17: Jumlah fasilitasi pembahasan Perda APBD Tahun N yang tepat waktu dibagi jumlah pembahasan Perda APBD Tahun N berdasarkan Renja DPRD dikali 100% | J17: 100 | K17: Persen | L17: ='Realisasi Kegiatan&SubKeg'!L69 -> 0.045454545 | M17: ='Realisasi Kegiatan&SubKeg'!N69 -> 0 | N17: ='Realisasi Kegiatan&SubKeg'!P69 -> 0 | O17: ='Realisasi Kegiatan&SubKeg'!R69 -> 0 | P17: ='Realisasi Kegiatan&SubKeg'!T69 -> 0 | Q17: ='Realisasi Kegiatan&SubKeg'!V69 -> 0 | R17: ='Realisasi Kegiatan&SubKeg'!X69 -> 0 | S17: ='Realisasi Kegiatan&SubKeg'!Z69 -> 0 | T17: ='Realisasi Kegiatan&SubKeg'!AB69 -> 0 | U17: ='Realisasi Kegiatan&SubKeg'!AD69 -> 0 | V17: ='Realisasi Kegiatan&SubKeg'!AF69 -> 0 | W17: ='Realisasi Kegiatan&SubKeg'!AH69 -> 0 | X17: =SUM(L17:W17) -> 0.045454545 | Y17: =X17/$J17*100 -> 0.045454545 | AA17: =SUM(L17:N17) -> 0.045454545 | AB17: =SUM(O17:Q17) -> 0 | AC17: =SUM(R17:T17) -> 0 | AD17: =SUM(U17:W17) -> 0
G18: Persentase Pengawasan Penyelenggaraan Pemerintahan | H18: Jumlah fasilitasi kegiatan pengawasan penyelenggaraan pemerintahan dibagi jumlah kegiatan pengawasan berdasarkan Renja DPRD dikali 100% | J18: 100 | K18: Persen | L18: ='Realisasi Kegiatan&SubKeg'!L77 -> 0.079812207 | M18: ='Realisasi Kegiatan&SubKeg'!N77 -> 0.084507042 | N18: ='Realisasi Kegiatan&SubKeg'!P77 -> 0.089201878 | O18: ='Realisasi Kegiatan&SubKeg'!R77 -> 0.10798122 | P18: ='Realisasi Kegiatan&SubKeg'!T77 -> 0.075117371 | Q18: ='Realisasi Kegiatan&SubKeg'!V77 -> 0 | R18: ='Realisasi Kegiatan&SubKeg'!X77 -> 0 | S18: ='Realisasi Kegiatan&SubKeg'!Z77 -> 0 | T18: ='Realisasi Kegiatan&SubKeg'!AB77 -> 0 | U18: ='Realisasi Kegiatan&SubKeg'!AD77 -> 0 | V18: ='Realisasi Kegiatan&SubKeg'!AF77 -> 0 | W18: ='Realisasi Kegiatan&SubKeg'!AH77 -> 0 | X18: =SUM(L18:W18) -> 0.43661972 | Y18: =X18/$J18*100 -> 0.43661972 | AA18: =SUM(L18:N18) -> 0.25352113 | AB18: =SUM(O18:Q18) -> 0.18309859 | AC18: =SUM(R18:T18) -> 0 | AD18: =SUM(U18:W18) -> 0
A19: Terfasilitasinya Pelaksanaan Tugas DPRD | G19: Persentase Dukungan Fasilitasi Terhadap Pelaksanaan Tugas DPRD | H19: Jumlah kegiatan pelaksanaan tugas DPRD yang difasilitasi dibagi jumlah pelaksanaan tugas DPRD Berdasarkan Renja DPRD dikali 100% | J19: 100 | K19: Persen | L19: ='Realisasi Kegiatan&SubKeg'!L94 -> 0.052892562 | M19: ='Realisasi Kegiatan&SubKeg'!N94 -> 0.080991736 | N19: ='Realisasi Kegiatan&SubKeg'!P94 -> 0.095867769 | O19: ='Realisasi Kegiatan&SubKeg'!R94 -> 0.099173554 | P19: ='Realisasi Kegiatan&SubKeg'!T94 -> 0.085950413 | Q19: ='Realisasi Kegiatan&SubKeg'!V94 -> 0 | R19: ='Realisasi Kegiatan&SubKeg'!X94 -> 0 | S19: ='Realisasi Kegiatan&SubKeg'!Z94 -> 0 | T19: ='Realisasi Kegiatan&SubKeg'!AB94 -> 0 | U19: ='Realisasi Kegiatan&SubKeg'!AD94 -> 0 | V19: ='Realisasi Kegiatan&SubKeg'!AF94 -> 0 | W19: ='Realisasi Kegiatan&SubKeg'!AH94 -> 0 | X19: =SUM(L19:W19) -> 0.41487603 | Y19: =X19/$J19*100 -> 0.41487603 | AA19: =SUM(L19:N19) -> 0.22975207 | AB19: =SUM(O19:Q19) -> 0.18512397 | AC19: =SUM(R19:T19) -> 0 | AD19: =SUM(U19:W19) -> 0
I21: Column1
T22: ='Realisasi Sasaran'!V17 -> Gresik, 5 Juni 2026
T23: ='Realisasi Sasaran'!V18 -> SEKRETARIS DPRD
T24: ='Realisasi Sasaran'!V19 -> KABUPATEN GRESIK
T28: ='Realisasi Sasaran'!V23 -> Ir. MOKHAMMAD NAJIKH, M.M.
T29: ='Realisasi Sasaran'!V24 -> Pembina Utama Muda
T30: ='Realisasi Sasaran'!V25 -> NIP. 196804121992031011

Sheet Realisasi Kegiatan&SubKeg
A1: REALISASI KINERJA KEGIATAN PERANGKAT DAERAH
A3: Kabupaten/Kota | F3: : Gresik
A4: Perangkat Daerah | F4: : Sekretariat DPRD
A5: Periode Renja PD | F5: : 2026
A6: Periode RKA PD | F6: =F5 -> : 2026
A8: Kode | F8: Urusan/Bidang Urusan Pemerintahan Daerah dan Program/Kegiatan/Sub Kegiatan | G8: Indikator | H8: FORMULASI | I8: Target | K8: Realisasi | AI8: Capaian | AK8: Bukti Dukung
I9: Kinerja | J9: Satuan | K9: Jan | M9: Feb | O9: Mar | Q9: Apr | S9: Mei | U9: Jun | W9: Jul | Y9: Agst | AA9: Sept | AC9: Okt | AE9: Nop | AG9: Des | AI9: Jumlah | AJ9: % | AM9: TW I | AN9: TW II | AO9: TW III | AP9: TW IV
K10: K | L10: % | M10: K | N10: % | O10: K | P10: % | Q10: K | R10: % | S10: K | T10: % | U10: K | V10: % | W10: K | X10: % | Y10: K | Z10: % | AA10: K | AB10: % | AC10: K | AD10: % | AE10: K | AF10: % | AG10: K | AH10: % | AI10: K | AJ10: %
B11: 02 | F11: SEKRETARIAT DPRD | I11: =SUM(I12,I59) -> 2163 | J11: Kegiatan | K11: =SUM(K12,K59) -> 136 | L11: =K11/$I11 -> 0.062875636 | M11: =SUM(M12,M59) -> 155 | N11: =M11/$I11 -> 0.071659732 | O11: =SUM(O12,O59) -> 230 | P11: =O11/$I11 -> 0.1063338 | Q11: =SUM(Q12,Q59) -> 200 | R11: =Q11/$I11 -> 0.09246417 | S11: =SUM(S12,S59) -> 207 | T11: =S11/$I11 -> 0.095700416 | U11: =SUM(U12,U59) -> 0 | V11: =U11/$I11 -> 0 | W11: =SUM(W12,W59) -> 0 | X11: =W11/$I11 -> 0 | Y11: =SUM(Y12,Y59) -> 0 | Z11: =Y11/$I11 -> 0 | AA11: =SUM(AA12,AA59) -> 0 | AB11: =AA11/$I11 -> 0 | AC11: =SUM(AC12,AC59) -> 0 | AD11: =AC11/$I11 -> 0 | AE11: =SUM(AE12,AE59) -> 0 | AF11: =AE11/$I11 -> 0 | AG11: =SUM(AG12,AG59) -> 0 | AH11: =AG11/$I11 -> 0 | AI11: =SUM(K11,M11,O11,Q11,S11,U11,W11,Y11,AA11,AC11,AE11,AG11) -> 928 | AJ11: =AI11/I11 -> 0.42903375 | AM11: =SUM(K11,M11,O11) -> 521 | AN11: =SUM(Q11,S11,U11) -> 407 | AO11: =SUM(W11,Y11,AA11) -> 0 | AP11: =SUM(AC11,AE11,AG11) -> 0
A12: 4 | B12: 02 | C12: 1 | F12: PROGRAM PENUNJANG URUSAN PEMERINTAHAN DAERAH KABUPATEN/KOTA | I12: =SUM(I14,I25,I50) -> 984 | J12: Kegiatan | K12: =SUM(K14,K25,K50) -> 86 | L12: =K12/$I12 -> 0.087398374 | M12: =SUM(M14,M25,M50) -> 87 | N12: =M12/$I12 -> 0.088414634 | O12: =SUM(O14,O25,O50) -> 99 | P12: =O12/$I12 -> 0.10060976 | Q12: =SUM(Q14,Q25,Q50) -> 108 | R12: =Q12/$I12 -> 0.1097561 | S12: =SUM(S14,S25,S50) -> 78 | T12: =S12/$I12 -> 0.079268293 | U12: =SUM(U14,U25,U50) -> 0 | V12: =U12/$I12 -> 0 | W12: =SUM(W14,W25,W50) -> 0 | X12: =W12/$I12 -> 0 | Y12: =SUM(Y14,Y25,Y50) -> 0 | Z12: =Y12/$I12 -> 0 | AA12: =SUM(AA14,AA25,AA50) -> 0 | AB12: =AA12/$I12 -> 0 | AC12: =SUM(AC14,AC25,AC50) -> 0 | AD12: =AC12/$I12 -> 0 | AE12: =SUM(AE14,AE25,AE50) -> 0 | AF12: =AE12/$I12 -> 0 | AG12: =SUM(AG14,AG25,AG50) -> 0 | AH12: =AG12/$I12 -> 0 | AI12: =SUM(K12,M12,O12,Q12,S12,U12,W12,Y12,AA12,AC12,AE12,AG12) -> 458 | AJ12: =AI12/I12 -> 0.46544715 | AM12: =SUM(K12,M12,O12) -> 272 | AN12: =SUM(Q12,S12,U12) -> 186 | AO12: =SUM(W12,Y12,AA12) -> 0 | AP12: =SUM(AC12,AE12,AG12) -> 0
A13: Terselenggaranya pelayanan administrasi kesekretariatan dan keuangan | G13: Jumlah kegiatan penyelenggaraan pelayanan administrasi kesekretariatan dan keuangan | H13: Jumlah kegiatan penyelenggaraan pelayanan administrasi kesekretariatan dan keuangan | I13: =SUM(I14,I25,I50) -> 984 | J13: Kegiatan | K13: =SUM(K14,K25,K50) -> 86 | L13: =K13/$I13 -> 0.087398374 | M13: =SUM(M14,M25,M50) -> 87 | N13: =M13/$I13 -> 0.088414634 | O13: =SUM(O14,O25,O50) -> 99 | P13: =O13/$I13 -> 0.10060976 | Q13: =SUM(Q14,Q25,Q50) -> 108 | R13: =Q13/$I13 -> 0.1097561 | S13: =SUM(S14,S25,S50) -> 78 | T13: =S13/$I13 -> 0.079268293 | U13: =SUM(U14,U25,U50) -> 0 | V13: =U13/$I13 -> 0 | W13: =SUM(W14,W25,W50) -> 0 | X13: =W13/$I13 -> 0 | Y13: =SUM(Y14,Y25,Y50) -> 0 | Z13: =Y13/$I13 -> 0 | AA13: =SUM(AA14,AA25,AA50) -> 0 | AB13: =AA13/$I13 -> 0 | AC13: =SUM(AC14,AC25,AC50) -> 0 | AD13: =AC13/$I13 -> 0 | AE13: =SUM(AE14,AE25,AE50) -> 0 | AF13: =AE13/$I13 -> 0 | AG13: =SUM(AG14,AG25,AG50) -> 0 | AH13: =AG13/$I13 -> 0 | AI13: =SUM(K13,M13,O13,Q13,S13,U13,W13,Y13,AA13,AC13,AE13,AG13) -> 458 | AJ13: =AI13/I13 -> 0.46544715 | AM13: =SUM(K13,M13,O13) -> 272 | AN13: =SUM(Q13,S13,U13) -> 186 | AO13: =SUM(W13,Y13,AA13) -> 0 | AP13: =SUM(AC13,AE13,AG13) -> 0
A14: Terselenggaranya layanan administrasi keuangan | G14: Jumlah dokumen hasil penyelenggaraan layanan administrasi keuangan | H14: Jumlah dokumen hasil penyelenggaraan layanan administrasi keuangan | I14: =SUM(I15,I19) -> 59 | J14: Kegiatan | K14: =SUM(K15,K19) -> 11 | L14: =K14/$I14 -> 0.18644068 | M14: =SUM(M15,M19) -> 3 | N14: =M14/$I14 -> 0.050847458 | O14: =SUM(O15,O19) -> 8 | P14: =O14/$I14 -> 0.13559322 | Q14: =SUM(Q15,Q19) -> 4 | R14: =Q14/$I14 -> 0.06779661 | S14: =SUM(S15,S19) -> 3 | T14: =S14/$I14 -> 0.050847458 | U14: =SUM(U15,U19) -> 0 | V14: =U14/$I14 -> 0 | W14: =SUM(W15,W19) -> 0 | X14: =W14/$I14 -> 0 | Y14: =SUM(Y15,Y19) -> 0 | Z14: =Y14/$I14 -> 0 | AA14: =SUM(AA15,AA19) -> 0 | AB14: =AA14/$I14 -> 0 | AC14: =SUM(AC15,AC19) -> 0 | AD14: =AC14/$I14 -> 0 | AE14: =SUM(AE15,AE19) -> 0 | AF14: =AE14/$I14 -> 0 | AG14: =SUM(AG15,AG19) -> 0 | AH14: =AG14/$I14 -> 0 | AI14: =SUM(AG14,AE14,AC14,AA14,Y14,W14,U14,S14,Q14,O14,M14,K14) -> 29 | AJ14: =AI14/I14 -> 0.49152542 | AM14: =SUM(K14,M14,O14) -> 22 | AN14: =SUM(Q14,S14,U14) -> 7 | AO14: =SUM(W14,Y14,AA14) -> 0 | AP14: =SUM(AC14,AE14,AG14) -> 0
A15: 4 | B15: 02 | C15: 1 | D15: 2.01 | F15: Perencanaan, Penganggaran, dan Evaluasi Kinerja Perangkat Daerah | G15: Jumlah dokumen perencanaan, penganggaran dan evaluasi kinerja perangkat daerah yang tersusun | H15: Jumlah dokumen perencanaan, penganggaran dan evaluasi kinerja perangkat daerah yang tersusun | I15: =SUM(I16:I18) -> 29 | J15: Dokumen | K15: =SUM(K16:K18) -> 9 | L15: =K15/$I15 -> 0.31034483 | M15: =SUM(M16:M18) -> 1 | N15: =M15/$I15 -> 0.034482759 | O15: =SUM(O16:O18) -> 1 | P15: =O15/$I15 -> 0.034482759 | Q15: =SUM(Q16:Q18) -> 2 | R15: =Q15/$I15 -> 0.068965517 | S15: =SUM(S16:S18) -> 1 | T15: =S15/$I15 -> 0.034482759 | U15: =SUM(U16:U18) -> 0 | V15: =U15/$I15 -> 0 | W15: =SUM(W16:W18) -> 0 | X15: =W15/$I15 -> 0 | Y15: =SUM(Y16:Y18) -> 0 | Z15: =Y15/$I15 -> 0 | AA15: =SUM(AA16:AA18) -> 0 | AB15: =AA15/$I15 -> 0 | AC15: =SUM(AC16:AC18) -> 0 | AD15: =AC15/$I15 -> 0 | AE15: =SUM(AE16:AE18) -> 0 | AF15: =AE15/$I15 -> 0 | AG15: =SUM(AG16:AG18) -> 0 | AH15: =AG15/$I15 -> 0 | AI15: =SUM(AG15,AE15,AC15,AA15,Y15,W15,U15,S15,Q15,O15,M15,K15) -> 14 | AJ15: =AI15/I15 -> 0.48275862 | AM15: =SUM(K15,M15,O15) -> 11 | AN15: =SUM(Q15,S15,U15) -> 3 | AO15: =SUM(W15,Y15,AA15) -> 0 | AP15: =SUM(AC15,AE15,AG15) -> 0
A16: 4 | B16: 02 | C16: 1 | D16: 2.01 | E16: 01 | F16: Penyusunan Dokumen Perencanaan Perangkat Daerah | G16: Jumlah dokumen perencanaan Perangkat Daerah | H16: Jumlah dokumen perencanaan Perangkat Daerah | I16: 8 | J16: Dokumen | K16: =[1]KEUANGAN!V7 -> 3 | L16: =K16/$I16 -> 0.375 | M16: =[1]KEUANGAN!W7 -> 0 | N16: =M16/$I16 -> 0 | O16: =[1]KEUANGAN!X7 -> 0 | P16: =O16/$I16 -> 0 | Q16: =[1]KEUANGAN!$Y$7 -> 0 | R16: =Q16/$I16 -> 0 | S16: =[1]KEUANGAN!$Z$7 -> 0 | T16: =S16/$I16 -> 0 | U16: =[1]KEUANGAN!$AA7 -> 0 | V16: =U16/$I16 -> 0 | W16: =[1]KEUANGAN!$AB$7 -> 0 | X16: =W16/$I16 -> 0 | Y16: =[1]KEUANGAN!$AC$7 -> 0 | Z16: =Y16/$I16 -> 0 | AA16: =[1]KEUANGAN!$AD$7 -> 0 | AB16: =AA16/$I16 -> 0 | AC16: =[1]KEUANGAN!$AE$7 -> 0 | AD16: =AC16/$I16 -> 0 | AE16: =[1]KEUANGAN!$AF$7 -> 0 | AF16: =AE16/$I16 -> 0 | AG16: =[1]KEUANGAN!$AG$7 -> 0 | AH16: =AG16/$I16 -> 0 | AI16: =SUM(AG16,AE16,AC16,AA16,Y16,W16,U16,S16,Q16,O16,M16,K16) -> 3 | AJ16: =AI16/I16 -> 0.375 | AK16: Dokumen perencanaan | AM16: =SUM(K16,M16,O16) -> 3 | AN16: =SUM(Q16,S16,U16) -> 0 | AO16: =SUM(W16,Y16,AA16) -> 0 | AP16: =SUM(AC16,AE16,AG16) -> 0
A17: 4 | B17: 02 | C17: 1 | D17: 2.01 | E17: 06 | F17: Koordinasi dan Penyusunan Laporan Capaian Kinerja dan Ikhtisar Realisasi Kinerja SKPD | G17: Jumlah Laporan Capaian Kinerja dan Ikhtisar Realisasi Kinerja SKPD dan Laporan Hasil Koordinasi Penyusunan Laporan Capaian Kinerja dan Ikhtisar Realisasi Kinerja SKPD | H17: Jumlah Laporan Capaian Kinerja dan Ikhtisar Realisasi Kinerja SKPD dan Laporan Hasil Koordinasi Penyusunan Laporan Capaian Kinerja dan Ikhtisar Realisasi Kinerja SKPD | I17: 17 | J17: Laporan | K17: =[1]KEUANGAN!V8 -> 3 | L17: =K17/$I17 -> 0.17647059 | M17: =[1]KEUANGAN!W8 -> 1 | N17: =M17/$I17 -> 0.058823529 | O17: =[1]KEUANGAN!X8 -> 1 | P17: =O17/$I17 -> 0.058823529 | Q17: =[1]KEUANGAN!$Y$8 -> 2 | R17: =Q17/$I17 -> 0.11764706 | S17: =[1]KEUANGAN!Z$8 -> 1 | T17: =S17/$I17 -> 0.058823529 | U17: =[1]KEUANGAN!$AA$8 -> 0 | V17: =U17/$I17 -> 0 | W17: =[1]KEUANGAN!$AB$8 -> 0 | X17: =W17/$I17 -> 0 | Y17: =[1]KEUANGAN!$AC$8 -> 0 | Z17: =Y17/$I17 -> 0 | AA17: =[1]KEUANGAN!$AD$8 -> 0 | AB17: =AA17/$I17 -> 0 | AC17: =[1]KEUANGAN!$AE$8 -> 0 | AD17: =AC17/$I17 -> 0 | AE17: =[1]KEUANGAN!$AF$8 -> 0 | AF17: =AE17/$I17 -> 0 | AG17: =[1]KEUANGAN!$AG$8 -> 0 | AH17: =AG17/$I17 -> 0 | AI17: =SUM(AG17,AE17,AC17,AA17,Y17,W17,U17,S17,Q17,O17,M17,K17) -> 8 | AJ17: =AI17/I17 -> 0.47058824 | AK17: Laporan capaian kinerja | AM17: =SUM(K17,M17,O17) -> 5 | AN17: =SUM(Q17,S17,U17) -> 3 | AO17: =SUM(W17,Y17,AA17) -> 0 | AP17: =SUM(AC17,AE17,AG17) -> 0
A18: 4 | B18: 02 | C18: 1 | D18: 2.01 | E18: 07 | F18: Evaluasi Kinerja Perangkat Daerah | G18: Jumlah Laporan Evaluasi Kinerja Perangkat Daerah | H18: Jumlah Laporan Evaluasi Kinerja Perangkat Daerah | I18: 4 | J18: Laporan | K18: =[1]KEUANGAN!V9 -> 3 | L18: =K18/$I18 -> 0.75 | M18: =[1]KEUANGAN!W9 -> 0 | N18: =M18/$I18 -> 0 | O18: =[1]KEUANGAN!X9 -> 0 | P18: =O18/$I18 -> 0 | Q18: =[1]KEUANGAN!$Y$9 -> 0 | R18: =Q18/$I18 -> 0 | S18: =[1]KEUANGAN!$Z$9 -> 0 | T18: =S18/$I18 -> 0 | U18: =[1]KEUANGAN!$AA$9 -> 0 | V18: =U18/$I18 -> 0 | W18: =[1]KEUANGAN!$AB$9 -> 0 | X18: =W18/$I18 -> 0 | Y18: =[1]KEUANGAN!$AC$9 -> 0 | Z18: =Y18/$I18 -> 0 | AA18: =[1]KEUANGAN!$AD$9 -> 0 | AB18: =AA18/$I18 -> 0 | AC18: =[1]KEUANGAN!$AE$9 -> 0 | AD18: =AC18/$I18 -> 0 | AE18: =[1]KEUANGAN!$AF$9 -> 0 | AF18: =AE18/$I18 -> 0 | AG18: =[1]KEUANGAN!$AG$9 -> 0 | AH18: =AG18/$I18 -> 0 | AI18: =SUM(AG18,AE18,AC18,AA18,Y18,W18,U18,S18,Q18,O18,M18,K18) -> 3 | AJ18: =AI18/I18 -> 0.75 | AK18: Laporan evaluasi kinerja | AM18: =SUM(K18,M18,O18) -> 3 | AN18: =SUM(Q18,S18,U18) -> 0 | AO18: =SUM(W18,Y18,AA18) -> 0 | AP18: =SUM(AC18,AE18,AG18) -> 0
A19: 4 | B19: 02 | C19: 1 | D19: 2.02 | F19: Administrasi Keuangan Perangkat Daerah | G19: Jumlah dokumen administrasi keuangan Perangkat Daerah yang dipenuhi | H19: Jumlah dokumen administrasi keuangan Perangkat Daerah yang dipenuhi | I19: =SUM(I21:I22,I24) -> 30 | J19: Dokumen | K19: =SUM(K21:K22,K24) -> 2 | L19: =K19/$I19 -> 0.066666667 | M19: =SUM(M21:M22,M24) -> 2 | N19: =M19/$I19 -> 0.066666667 | O19: =SUM(O21:O22,O24) -> 7 | P19: =O19/$I19 -> 0.23333333 | Q19: =SUM(Q21:Q22,Q24) -> 2 | R19: =Q19/$I19 -> 0.066666667 | S19: =SUM(S21:S22,S24) -> 2 | T19: =S19/$I19 -> 0.066666667 | U19: =SUM(U21:U22,U24) -> 0 | V19: =U19/$I19 -> 0 | W19: =SUM(W21:W22,W24) -> 0 | X19: =W19/$I19 -> 0 | Y19: =SUM(Y21:Y22,Y24) -> 0 | Z19: =Y19/$I19 -> 0 | AA19: =SUM(AA21:AA22,AA24) -> 0 | AB19: =AA19/$I19 -> 0 | AC19: =SUM(AC21:AC22,AC24) -> 0 | AD19: =AC19/$I19 -> 0 | AE19: =SUM(AE21:AE22,AE24) -> 0 | AF19: =AE19/$I19 -> 0 | AG19: =SUM(AG21:AG22,AG24) -> 0 | AH19: =AG19/$I19 -> 0 | AI19: =SUM(AI21:AI22,AI24) -> 15 | AJ19: =AI19/I19 -> 0.5 | AM19: =SUM(K19,M19,O19) -> 11 | AN19: =SUM(Q19,S19,U19) -> 4 | AO19: =SUM(W19,Y19,AA19) -> 0 | AP19: =SUM(AC19,AE19,AG19) -> 0
A20: 4 | B20: 02 | C20: 1 | D20: 2.02 | E20: 01 | F20: Penyediaan Gaji dan Tunjangan ASN | G20: Jumlah Orang yang Menerima Gaji dan Tunjangan ASN | H20: Jumlah Orang yang Menerima Gaji dan Tunjangan ASN | I20: 30 | J20: Orang/bulan | K20: =[1]KEUANGAN!$V10 -> 46 | L20: =K20/$I20 -> 1.5333333 | M20: =[1]KEUANGAN!$W$10 -> 46 | N20: =M20/$I20 -> 1.5333333 | O20: =[1]KEUANGAN!$X$10 -> 46 | P20: =O20/$I20 -> 1.5333333 | Q20: =[1]KEUANGAN!$Y$10 -> 46 | R20: =Q20/$I20 -> 1.5333333 | S20: =[1]KEUANGAN!$Z$10 -> 46 | T20: =S20/$I20 -> 1.5333333 | U20: =[1]KEUANGAN!$AA$10 -> 0 | V20: =U20/$I20 -> 0 | W20: =[1]KEUANGAN!$AB$10 -> 0 | X20: =W20/$I20 -> 0 | Y20: =[1]KEUANGAN!$AC$10 -> 0 | Z20: =Y20/$I20 -> 0 | AA20: =[1]KEUANGAN!$AD$10 -> 0 | AB20: =AA20/$I20 -> 0 | AC20: =[1]KEUANGAN!$AE$10 -> 0 | AD20: =AC20/$I20 -> 0 | AE20: =[1]KEUANGAN!$AF$10 -> 0 | AF20: =AE20/$I20 -> 0 | AG20: =[1]KEUANGAN!$AG$10 -> 0 | AH20: =AG20/$I20 -> 0 | AI20: =LOOKUP(2,1/((K20:AH20<>"")*(K20:AH20>=2)),K20:AH20) -> 46 | AJ20: =AI20/I20 -> 1.5333333 | AK20: Gaji ASN | AM20: 46 | AN20: =SUM(Q20,S20,U20) -> 92 | AO20: =SUM(W20,Y20,AA20) -> 0 | AP20: =SUM(AC20,AE20,AG20) -> 0
A21: 4 | B21: 02 | C21: 1 | D21: 2.02 | E21: 03 | F21: Pelaksanaan Penatausahaan dan Pengujian/Verifikasi Keuangan SKPD | G21: Jumlah Dokumen Penatausahaan dan Pengujian/Verifikasi Keuangan SKPD | H21: Jumlah Dokumen Penatausahaan dan Pengujian/Verifikasi Keuangan SKPD | I21: 24 | J21: Dokumen | K21: =[1]KEUANGAN!$V11 -> 2 | L21: =K21/$I21 -> 0.083333333 | M21: =[1]KEUANGAN!$W$11 -> 2 | N21: =M21/$I21 -> 0.083333333 | O21: =[1]KEUANGAN!$X$11 -> 2 | P21: =O21/$I21 -> 0.083333333 | Q21: =[1]KEUANGAN!$Y$11 -> 2 | R21: =Q21/$I21 -> 0.083333333 | S21: =[1]KEUANGAN!$Z$11 -> 2 | T21: =S21/$I21 -> 0.083333333 | U21: =[1]KEUANGAN!$AA$11 -> 0 | V21: =U21/$I21 -> 0 | W21: =[1]KEUANGAN!$AB$11 -> 0 | X21: =W21/$I21 -> 0 | Y21: =[1]KEUANGAN!$AC$11 -> 0 | Z21: =Y21/$I21 -> 0 | AA21: =[1]KEUANGAN!$AD$11 -> 0 | AB21: =AA21/$I21 -> 0 | AC21: =[1]KEUANGAN!$AE$11 -> 0 | AD21: =AC21/$I21 -> 0 | AE21: =[1]KEUANGAN!$AF$11 -> 0 | AF21: =AE21/$I21 -> 0 | AG21: =[1]KEUANGAN!$AG$11 -> 0 | AH21: =AG21/$I21 -> 0 | AI21: =SUM(AG21,AE21,AC21,AA21,Y21,W21,U21,S21,Q21,O21,M21,K21) -> 10 | AJ21: =AI21/I21 -> 0.41666667 | AK21: Dokumen penatausahaan | AM21: =SUM(K21,M21,O21) -> 6 | AN21: =SUM(Q21,S21,U21) -> 4 | AO21: =SUM(W21,Y21,AA21) -> 0 | AP21: =SUM(AC21,AE21,AG21) -> 0
A22: 4 | B22: 02 | C22: 1 | D22: 2.02 | E22: 05 | F22: Koordinasi dan Penyusunan Laporan Keuangan Akhir Tahun SKPD | G22: Jumlah Laporan Keuangan Akhir Tahun SKPD dan Laporan Hasil Koordinasi Penyusunan Laporan Keuangan Akhir Tahun SKPD | H22: Jumlah Laporan Keuangan Akhir Tahun SKPD dan Laporan Hasil Koordinasi Penyusunan Laporan Keuangan Akhir Tahun SKPD | I22: 5 | J22: Laporan | K22: =[1]KEUANGAN!$V$12 -> 0 | L22: =K22/$I22 -> 0 | M22: =[1]KEUANGAN!$W$12 -> 0 | N22: =M22/$I22 -> 0 | O22: =[1]KEUANGAN!$X$12 -> 5 | P22: =O22/$I22 -> 1 | Q22: =[1]KEUANGAN!$Y$12 -> 0 | R22: =Q22/$I22 -> 0 | S22: =[1]KEUANGAN!$Z$12 -> 0 | T22: =S22/$I22 -> 0 | U22: =[1]KEUANGAN!$AA$12 -> 0 | V22: =U22/$I22 -> 0 | W22: =[1]KEUANGAN!$AB$12 -> 0 | X22: =W22/$I22 -> 0 | Y22: =[1]KEUANGAN!$AC$12 -> 0 | Z22: =Y22/$I22 -> 0 | AA22: =[1]KEUANGAN!$AD$12 -> 0 | AB22: =AA22/$I22 -> 0 | AC22: =[1]KEUANGAN!$AE$12 -> 0 | AD22: =AC22/$I22 -> 0 | AE22: =[1]KEUANGAN!$AF$12 -> 0 | AF22: =AE22/$I22 -> 0 | AG22: =[1]KEUANGAN!$AG$12 -> 0 | AH22: =AG22/$I22 -> 0 | AI22: =SUM(AG22,AE22,AC22,AA22,Y22,W22,U22,S22,Q22,O22,M22,K22) -> 5 | AJ22: =AI22/I22 -> 1 | AK22: LK akhir tahun | AM22: =SUM(K22,M22,O22) -> 5 | AN22: =SUM(Q22,S22,U22) -> 0 | AO22: =SUM(W22,Y22,AA22) -> 0 | AP22: =SUM(AC22,AE22,AG22) -> 0
A23: 4 | B23: 02 | C23: 1 | D23: 2.02 | E23: 07 | F23: Koordinasi dan Penyusunan Laporan Keuangan Bulanan/Triwulanan/Semesteran SKPD | G23: Jumlah Laporan Keuangan Bulanan/ Triwulanan/ Semesteran SKPD dan Laporan Koordinasi Penyusunan Laporan Keuangan Bulanan/Triwulanan/Semesteran SKPD | H23: Jumlah Laporan Keuangan Bulanan/ Triwulanan/ Semesteran SKPD dan Laporan Koordinasi Penyusunan Laporan Keuangan Bulanan/Triwulanan/Semesteran SKPD | I23: 9 | J23: Laporan | K23: =[1]KEUANGAN!$V$13 -> 9 | L23: =K23/$I23 -> 1 | M23: =[1]KEUANGAN!$W$13 -> 9 | N23: =M23/$I23 -> 1 | O23: =[1]KEUANGAN!$X$13 -> 9 | P23: =O23/$I23 -> 1 | Q23: =[1]KEUANGAN!$Y$13 -> 9 | R23: =Q23/$I23 -> 1 | S23: =[1]KEUANGAN!$Z$13 -> 9 | T23: =S23/$I23 -> 1 | U23: =[1]KEUANGAN!$AA$13 -> 0 | V23: =U23/$I23 -> 0 | W23: =[1]KEUANGAN!$AB$13 -> 0 | X23: =W23/$I23 -> 0 | Y23: =[1]KEUANGAN!$AC$13 -> 0 | Z23: =Y23/$I23 -> 0 | AA23: =[1]KEUANGAN!$AD$13 -> 0 | AB23: =AA23/$I23 -> 0 | AC23: =[1]KEUANGAN!$AE$13 -> 0 | AD23: =AC23/$I23 -> 0 | AE23: =[1]KEUANGAN!$AF$13 -> 0 | AF23: =AE23/$I23 -> 0 | AG23: =[1]KEUANGAN!$AG$13 -> 0 | AH23: =AG23/$I23 -> 0 | AI23: =LOOKUP(2,1/((K23:AH23<>"")*(K23:AH23>=2)),K23:AH23) -> 9 | AJ23: =AI23/I23 -> 1 | AK23: Penyusunan LK bulanan | AM23: 9 | AN23: =SUM(Q23,S23,U23) -> 18 | AO23: =SUM(W23,Y23,AA23) -> 0 | AP23: =SUM(AC23,AE23,AG23) -> 0
A24: 4 | B24: 02 | C24: 1 | D24: 2.02 | E24: 08 | F24: Penyusunan Pelaporan dan Analisis Prognosis Realisasi Anggaran | G24: Jumlah Dokumen Pelaporan dan Analisis Prognosis Realisasi Anggaran | H24: Jumlah Dokumen Pelaporan dan Analisis Prognosis Realisasi Anggaran | I24: 1 | J24: Dokumen | K24: =[1]KEUANGAN!$V$14 -> 0 | L24: =K24/$I24 -> 0 | M24: =[1]KEUANGAN!$W$14 -> 0 | N24: =M24/$I24 -> 0 | O24: =[1]KEUANGAN!$X$14 -> 0 | P24: =O24/$I24 -> 0 | Q24: =[1]KEUANGAN!$Y$14 -> 0 | R24: =Q24/$I24 -> 0 | S24: =[1]KEUANGAN!$Z$14 -> 0 | T24: =S24/$I24 -> 0 | U24: =[1]KEUANGAN!$AA$14 -> 0 | V24: =U24/$I24 -> 0 | W24: =[1]KEUANGAN!$AB$14 -> 0 | X24: =W24/$I24 -> 0 | Y24: =[1]KEUANGAN!$AC$14 -> 0 | Z24: =Y24/$I24 -> 0 | AA24: =[1]KEUANGAN!$AD$14 -> 0 | AB24: =AA24/$I24 -> 0 | AC24: =[1]KEUANGAN!$AE$14 -> 0 | AD24: =AC24/$I24 -> 0 | AE24: =[1]KEUANGAN!$AF$14 -> 0 | AF24: =AE24/$I24 -> 0 | AG24: =[1]KEUANGAN!$AG$14 -> 0 | AH24: =AG24/$I24 -> 0 | AI24: =SUM(AG24,AE24,AC24,AA24,Y24,W24,U24,S24,Q24,O24,M24,K24) -> 0 | AJ24: =AI24/I24 -> 0 | AK24: Dokumen laporan prognosis | AM24: =SUM(K24,M24,O24) -> 0 | AN24: =SUM(Q24,S24,U24) -> 0 | AO24: =SUM(W24,Y24,AA24) -> 0 | AP24: =SUM(AC24,AE24,AG24) -> 0
A25: Terselenggaranya layanan administrasi kesekretariatan | G25: Jumlah dokumen hasil penyelenggaraan layanan administrasi kesekretariatan | H25: Jumlah dokumen hasil penyelenggaraan layanan administrasi kesekretariatan | I25: =SUM(I26,I30,I39,I43) -> 850 | J25: Kegiatan | K25: =SUM(K26,K30,K39,K43) -> 75 | L25: =K25/$I25 -> 0.088235294 | M25: =SUM(M26,M30,M39,M43) -> 82 | N25: =M25/$I25 -> 0.096470588 | O25: =SUM(O26,O30,O39,O43) -> 89 | P25: =O25/$I25 -> 0.10470588 | Q25: =SUM(Q26,Q30,Q39,Q43) -> 98 | R25: =Q25/$I25 -> 0.11529412 | S25: =SUM(S26,S30,S39,S43) -> 71 | T25: =S25/$I25 -> 0.083529412 | U25: =SUM(U26,U30,U39,U43) -> 0 | V25: =U25/$I25 -> 0 | W25: =SUM(W26,W30,W39,W43) -> 0 | X25: =W25/$I25 -> 0 | Y25: =SUM(Y26,Y30,Y39,Y43) -> 0 | Z25: =Y25/$I25 -> 0 | AA25: =SUM(AA26,AA30,AA39,AA43) -> 0 | AB25: =AA25/$I25 -> 0 | AC25: =SUM(AC26,AC30,AC39,AC43) -> 0 | AD25: =AC25/$I25 -> 0 | AE25: =SUM(AE26,AE30,AE39,AE43) -> 0 | AF25: =AE25/$I25 -> 0 | AG25: =SUM(AG26,AG30,AG39,AG43) -> 0 | AH25: =AG25/$I25 -> 0 | AI25: =SUM(AG25,AE25,AC25,AA25,Y25,W25,U25,S25,Q25,O25,M25,K25) -> 415 | AJ25: =AI25/I25 -> 0.48823529 | AM25: =SUM(K25,M25,O25) -> 246 | AN25: =SUM(Q25,S25,U25) -> 169 | AO25: =SUM(W25,Y25,AA25) -> 0 | AP25: =SUM(AC25,AE25,AG25) -> 0
A26: 4 | B26: 02 | C26: 1 | D26: 2.05 | F26: Administrasi Kepegawaian Perangkat Daerah | G26: Jumlah dokumen Administrasi Kepegawaian Perangkat Daerah yang terpenuhi | H26: Jumlah dokumen Administrasi Kepegawaian Perangkat Daerah yang terpenuhi | I26: =SUM(I27:I29) -> 183 | J26: Dokumen | K26: =SUM(K27:K29) -> 4 | L26: =K26/$I26 -> 0.021857923 | M26: =SUM(M27:M29) -> 2 | N26: =M26/$I26 -> 0.010928962 | O26: =SUM(O27:O29) -> 0 | P26: =O26/$I26 -> 0 | Q26: =SUM(Q27:Q29) -> 3 | R26: =Q26/$I26 -> 0.016393443 | S26: =SUM(S27:S29) -> 2 | T26: =S26/$I26 -> 0.010928962 | U26: =SUM(U27:U29) -> 0 | V26: =U26/$I26 -> 0 | W26: =SUM(W27:W29) -> 0 | X26: =W26/$I26 -> 0 | Y26: =SUM(Y27:Y29) -> 0 | Z26: =Y26/$I26 -> 0 | AA26: =SUM(AA27:AA29) -> 0 | AB26: =AA26/$I26 -> 0 | AC26: =SUM(AC27:AC29) -> 0 | AD26: =AC26/$I26 -> 0 | AE26: =SUM(AE27:AE29) -> 0 | AF26: =AE26/$I26 -> 0 | AG26: =SUM(AG27:AG29) -> 0 | AH26: =AG26/$I26 -> 0 | AI26: =SUM(AG26,AE26,AC26,AA26,Y26,W26,U26,S26,Q26,O26,M26,K26) -> 11 | AJ26: =AI26/I26 -> 0.06010929 | AM26: =SUM(K26,M26,O26) -> 6 | AN26: =SUM(Q26,S26,U26) -> 5 | AO26: =SUM(W26,Y26,AA26) -> 0 | AP26: =SUM(AC26,AE26,AG26) -> 0
A27: 4 | B27: 02 | C27: 1 | D27: 2.05 | E27: 03 | F27: Pendataan dan Pengolahan Administrasi Kepegawaian | G27: Jumlah Dokumen Pendataan dan Pengolahan Administrasi Kepegawaian | H27: Jumlah Dokumen Pendataan dan Pengolahan Administrasi Kepegawaian | I27: 17 | J27: Dokumen | K27: =[1]TU!$V$7 -> 4 | L27: =K27/$I27 -> 0.23529412 | M27: =[1]TU!$W$7 -> 2 | N27: =M27/$I27 -> 0.11764706 | O27: =[1]TU!$X$7 -> 0 | P27: =O27/$I27 -> 0 | Q27: =[1]TU!$Y$7 -> 2 | R27: =Q27/$I27 -> 0.11764706 | S27: =[1]TU!$Z$7 -> 2 | T27: =S27/$I27 -> 0.11764706 | U27: =[1]TU!$AA$7 -> 0 | V27: =U27/$I27 -> 0 | W27: =[1]TU!$AB$7 -> 0 | X27: =W27/$I27 -> 0 | Y27: =[1]TU!$AC$7 -> 0 | Z27: =Y27/$I27 -> 0 | AA27: =[1]TU!$AD$7 -> 0 | AB27: =AA27/$I27 -> 0 | AC27: =[1]TU!$AE$7 -> 0 | AD27: =AC27/$I27 -> 0 | AE27: =[1]TU!$AF$7 -> 0 | AF27: =AE27/$I27 -> 0 | AG27: =[1]TU!$AG$7 -> 0 | AH27: =AG27/$I27 -> 0 | AI27: =SUM(AG27,AE27,AC27,AA27,Y27,W27,U27,S27,Q27,O27,M27,K27) -> 10 | AJ27: =AI27/I27 -> 0.58823529 | AK27: Dokumen adm kepegawaian | AM27: =SUM(K27,M27,O27) -> 6 | AN27: =SUM(Q27,S27,U27) -> 4 | AO27: =SUM(W27,Y27,AA27) -> 0 | AP27: =SUM(AC27,AE27,AG27) -> 0
A28: 4 | B28: 02 | C28: 1 | D28: 2.05 | E28: 09 | F28: Pendidikan dan Pelatihan Pegawai Berdasarkan Tugas dan Fungsi | G28: Jumlah Pegawai Berdasarkan Tugas dan Fungsi yang Mengikuti Pendidikan dan Pelatihan | H28: Jumlah Pegawai Berdasarkan Tugas dan Fungsi yang Mengikuti Pendidikan dan Pelatihan | I28: 151 | J28: Orang | K28: =[1]TU!$V$8 -> 0 | L28: =K28/$I28 -> 0 | M28: =[1]TU!$W$8 -> 0 | N28: =M28/$I28 -> 0 | O28: =[1]TU!$X$8 -> 0 | P28: =O28/$I28 -> 0 | Q28: =[1]TU!$Y$8 -> 1 | R28: =Q28/$I28 -> 0.0066225166 | S28: =[1]TU!$Z$8 -> 0 | T28: =S28/$I28 -> 0 | U28: =[1]TU!$AA$8 -> 0 | V28: =U28/$I28 -> 0 | W28: =[1]TU!$AB$8 -> 0 | X28: =W28/$I28 -> 0 | Y28: =[1]TU!$AC$8 -> 0 | Z28: =Y28/$I28 -> 0 | AA28: =[1]TU!$AD$8 -> 0 | AB28: =AA28/$I28 -> 0 | AC28: =[1]TU!$AE$8 -> 0 | AD28: =AC28/$I28 -> 0 | AE28: =[1]TU!$AF$8 -> 0 | AF28: =AE28/$I28 -> 0 | AG28: =[1]TU!$AG$8 -> 0 | AH28: =AG28/$I28 -> 0 | AI28: =SUM(AG28,AE28,AC28,AA28,Y28,W28,U28,S28,Q28,O28,M28,K28) -> 1 | AJ28: =AI28/I28 -> 0.0066225166 | AK28: Pegawai mengikuti diklat | AM28: =SUM(K28,M28,O28) -> 0 | AN28: =SUM(Q28,S28,U28) -> 1 | AO28: =SUM(W28,Y28,AA28) -> 0 | AP28: =SUM(AC28,AE28,AG28) -> 0
A29: 4 | B29: 02 | C29: 1 | D29: 2.05 | E29: 11 | F29: Bimbingan Teknis Implementasi Peraturan Perundang-Undangan | G29: Jumlah Orang yang Mengikuti Bimbingan Teknis Implementasi Peraturan Perundang-Undangan | H29: Jumlah Orang yang Mengikuti Bimbingan Teknis Implementasi Peraturan Perundang-Undangan | I29: 15 | J29: Orang | K29: =[1]TU!$V$9 -> 0 | L29: =K29/$I29 -> 0 | M29: =[1]TU!$W$9 -> 0 | N29: =M29/$I29 -> 0 | O29: =[1]TU!$X$9 -> 0 | P29: =O29/$I29 -> 0 | Q29: =[1]TU!$Y$9 -> 0 | R29: =Q29/$I29 -> 0 | S29: =[1]TU!$Z$9 -> 0 | T29: =S29/$I29 -> 0 | U29: =[1]TU!$AA$9 -> 0 | V29: =U29/$I29 -> 0 | W29: =[1]TU!$AB$9 -> 0 | X29: =W29/$I29 -> 0 | Y29: =[1]TU!$AC$9 -> 0 | Z29: =Y29/$I29 -> 0 | AA29: =[1]TU!$AD$9 -> 0 | AB29: =AA29/$I29 -> 0 | AC29: =[1]TU!$AE$9 -> 0 | AD29: =AC29/$I29 -> 0 | AE29: =[1]TU!$AF$9 -> 0 | AF29: =AE29/$I29 -> 0 | AG29: =[1]TU!$AG$9 -> 0 | AH29: =AG29/$I29 -> 0 | AI29: =SUM(AG29,AE29,AC29,AA29,Y29,W29,U29,S29,Q29,O29,M29,K29) -> 0 | AJ29: =AI29/I29 -> 0 | AK29: Pegawai mengikuti bimtek | AM29: =SUM(K29,M29,O29) -> 0 | AN29: =SUM(Q29,S29,U29) -> 0 | AO29: =SUM(W29,Y29,AA29) -> 0 | AP29: =SUM(AC29,AE29,AG29) -> 0
A30: 4 | B30: 02 | C30: 1 | D30: 2.06 | F30: Administrasi Umum Perangkat Daerah | G30: Jumlah administrasi umum Perangkat Daerah yang disediakan | H30: Jumlah administrasi umum Perangkat Daerah yang disediakan | I30: =SUM(I31:I38) -> 457 | J30: Dokumen | K30: =SUM(K31:K38) -> 55 | L30: =K30/$I30 -> 0.12035011 | M30: =SUM(M31:M38) -> 46 | N30: =M30/$I30 -> 0.10065646 | O30: =SUM(O31:O38) -> 62 | P30: =O30/$I30 -> 0.1356674 | Q30: =SUM(Q31:Q38) -> 64 | R30: =Q30/$I30 -> 0.14004376 | S30: =SUM(S31:S38) -> 49 | T30: =S30/$I30 -> 0.10722101 | U30: =SUM(U31:U38) -> 0 | V30: =U30/$I30 -> 0 | W30: =SUM(W31:W38) -> 0 | X30: =W30/$I30 -> 0 | Y30: =SUM(Y31:Y38) -> 0 | Z30: =Y30/$I30 -> 0 | AA30: =SUM(AA31:AA38) -> 0 | AB30: =AA30/$I30 -> 0 | AC30: =SUM(AC31:AC38) -> 0 | AD30: =AC30/$I30 -> 0 | AE30: =SUM(AE31:AE38) -> 0 | AF30: =AE30/$I30 -> 0 | AG30: =SUM(AG31:AG38) -> 0 | AH30: =AG30/$I30 -> 0 | AI30: =SUM(AG30,AE30,AC30,AA30,Y30,W30,U30,S30,Q30,O30,M30,K30) -> 276 | AJ30: =AI30/I30 -> 0.60393873 | AM30: =SUM(K30,M30,O30) -> 163 | AN30: =SUM(Q30,S30,U30) -> 113 | AO30: =SUM(W30,Y30,AA30) -> 0 | AP30: =SUM(AC30,AE30,AG30) -> 0
A31: 4 | B31: 02 | C31: 1 | D31: 2.06 | E31: 01 | F31: Penyediaan Komponen Instalasi Listrik/Penerangan Bangunan Kantor | G31: Jumlah Paket Komponen Instalasi Listrik/Penerangan Bangunan Kantor yang disediakan | H31: Jumlah Paket Komponen Instalasi Listrik/Penerangan Bangunan Kantor yang disediakan | I31: 1 | J31: Paket | K31: =[1]RT!$V$7 -> 0 | L31: =K31/$I31 -> 0 | M31: =[1]RT!$W$7 -> 0 | N31: =M31/$I31 -> 0 | O31: =[1]RT!$X$7 -> 0 | P31: =O31/$I31 -> 0 | Q31: =[1]RT!$Y$7 -> 0 | R31: =Q31/$I31 -> 0 | S31: =[1]RT!$Z$7 -> 0 | T31: =S31/$I31 -> 0 | U31: =[1]RT!$AA$7 -> 0 | V31: =U31/$I31 -> 0 | W31: =[1]RT!$AB$7 -> 0 | X31: =W31/$I31 -> 0 | Y31: =[1]RT!$AC$7 -> 0 | Z31: =Y31/$I31 -> 0 | AA31: =[1]RT!$AD$7 -> 0 | AB31: =AA31/$I31 -> 0 | AC31: =[1]RT!$AE$7 -> 0 | AD31: =AC31/$I31 -> 0 | AE31: =[1]RT!$AF$7 -> 0 | AF31: =AE31/$I31 -> 0 | AG31: =[1]RT!$AG$7 -> 0 | AH31: =AG31/$I31 -> 0 | AI31: =SUM(AG31,AE31,AC31,AA31,Y31,W31,U31,S31,Q31,O31,M31,K31) -> 0 | AJ31: =AI31/I31 -> 0 | AK31: Paket komponen instalasi listrik | AM31: =SUM(K31,M31,O31) -> 0 | AN31: =SUM(Q31,S31,U31) -> 0 | AO31: =SUM(W31,Y31,AA31) -> 0 | AP31: =SUM(AC31,AE31,AG31) -> 0
A32: 4 | B32: 02 | C32: 1 | D32: 2.06 | E32: 02 | F32: Penyediaan Peralatan dan Perlengkapan Kantor | G32: Jumlah Paket Peralatan dan Perlengkapan Kantor yang disediakan | H32: Jumlah Paket Peralatan dan Perlengkapan Kantor yang disediakan | I32: 3 | J32: Paket | K32: =[1]RT!$V$8 -> 0 | L32: =K32/$I32 -> 0 | M32: =[1]RT!$W$8 -> 1 | N32: =M32/$I32 -> 0.33333333 | O32: =[1]RT!$X$8 -> 2 | P32: =O32/$I32 -> 0.66666667 | Q32: =[1]RT!$Y$8 -> 0 | R32: =Q32/$I32 -> 0 | S32: =[1]RT!$Z$8 -> 0 | T32: =S32/$I32 -> 0 | U32: =[1]RT!$AA$8 -> 0 | V32: =U32/$I32 -> 0 | W32: =[1]RT!$AB$8 -> 0 | X32: =W32/$I32 -> 0 | Y32: =[1]RT!$AC$8 -> 0 | Z32: =Y32/$I32 -> 0 | AA32: =[1]RT!$AD$8 -> 0 | AB32: =AA32/$I32 -> 0 | AC32: =[1]RT!$AE$8 -> 0 | AD32: =AC32/$I32 -> 0 | AE32: =[1]RT!$AF$8 -> 0 | AF32: =AE32/$I32 -> 0 | AG32: =[1]RT!$AG$8 -> 0 | AH32: =AG32/$I32 -> 0 | AI32: =SUM(AG32,AE32,AC32,AA32,Y32,W32,U32,S32,Q32,O32,M32,K32) -> 3 | AJ32: =AI32/I32 -> 1 | AK32: Paket peralatan kantor | AM32: =SUM(K32,M32,O32) -> 3 | AN32: =SUM(Q32,S32,U32) -> 0 | AO32: =SUM(W32,Y32,AA32) -> 0 | AP32: =SUM(AC32,AE32,AG32) -> 0
A33: 4 | B33: 02 | C33: 1 | D33: 2.06 | E33: 03 | F33: Penyediaan Peralatan Rumah Tangga | G33: Jumlah Paket Peralatan Rumah Tangga yang disediakan | H33: Jumlah Paket Peralatan Rumah Tangga yang disediakan | I33: 2 | J33: Paket | K33: =[1]RT!$V$9 -> 1 | L33: =K33/$I33 -> 0.5 | M33: =[1]RT!$W$9 -> 0 | N33: =M33/$I33 -> 0 | O33: =[1]RT!$X$9 -> 0 | P33: =O33/$I33 -> 0 | Q33: =[1]RT!$Y$9 -> 1 | R33: =Q33/$I33 -> 0.5 | S33: =[1]RT!$Z$9 -> 0 | T33: =S33/$I33 -> 0 | U33: =[1]RT!$AA$9 -> 0 | V33: =U33/$I33 -> 0 | W33: =[1]RT!$AB$9 -> 0 | X33: =W33/$I33 -> 0 | Y33: =[1]RT!$AC$9 -> 0 | Z33: =Y33/$I33 -> 0 | AA33: =[1]RT!$AD$9 -> 0 | AB33: =AA33/$I33 -> 0 | AC33: =[1]RT!$AE$9 -> 0 | AD33: =AC33/$I33 -> 0 | AE33: =[1]RT!$AF$9 -> 0 | AF33: =AE33/$I33 -> 0 | AG33: =[1]RT!$AG$9 -> 0 | AH33: =AG33/$I33 -> 0 | AI33: =SUM(AG33,AE33,AC33,AA33,Y33,W33,U33,S33,Q33,O33,M33,K33) -> 2 | AJ33: =AI33/I33 -> 1 | AK33: Paket peralatam RT | AM33: =SUM(K33,M33,O33) -> 1 | AN33: =SUM(Q33,S33,U33) -> 1 | AO33: =SUM(W33,Y33,AA33) -> 0 | AP33: =SUM(AC33,AE33,AG33) -> 0
A34: 4 | B34: 02 | C34: 1 | D34: 2.06 | E34: 04 | F34: Penyediaan Bahan Logistik Kantor | G34: Jumlah Paket Bahan Logistik Kantor yang disediakan | H34: Jumlah Paket Bahan Logistik Kantor yang disediakan | I34: 60 | J34: Paket | K34: =[1]TU!$V$10 -> 6 | L34: =K34/$I34 -> 0.1 | M34: =[1]TU!$W$10 -> 3 | N34: =M34/$I34 -> 0.05 | O34: =[1]TU!$X$10 -> 2 | P34: =O34/$I34 -> 0.033333333 | Q34: =[1]TU!$Y$10 -> 6 | R34: =Q34/$I34 -> 0.1 | S34: =[1]TU!$Z$10 -> 6 | T34: =S34/$I34 -> 0.1 | U34: =[1]TU!$AA$10 -> 0 | V34: =U34/$I34 -> 0 | W34: =[1]TU!$AB$10 -> 0 | X34: =W34/$I34 -> 0 | Y34: =[1]TU!$AC$10 -> 0 | Z34: =Y34/$I34 -> 0 | AA34: =[1]TU!$AD$10 -> 0 | AB34: =AA34/$I34 -> 0 | AC34: =[1]TU!$AE$10 -> 0 | AD34: =AC34/$I34 -> 0 | AE34: =[1]TU!$AF$10 -> 0 | AF34: =AE34/$I34 -> 0 | AG34: =[1]TU!$AG$10 -> 0 | AH34: =AG34/$I34 -> 0 | AI34: =SUM(AG34,AE34,AC34,AA34,Y34,W34,U34,S34,Q34,O34,M34,K34) -> 23 | AJ34: =AI34/I34 -> 0.38333333 | AK34: Paket bahan logistik | AM34: =SUM(K34,M34,O34) -> 11 | AN34: =SUM(Q34,S34,U34) -> 12 | AO34: =SUM(W34,Y34,AA34) -> 0 | AP34: =SUM(AC34,AE34,AG34) -> 0
A35: 4 | B35: 02 | C35: 1 | D35: 2.06 | E35: 05 | F35: Penyediaan Barang Cetakan dan Penggandaan | G35: Jumlah Paket Barang Cetakan dan Penggandaan yang disediakan | H35: Jumlah Paket Barang Cetakan dan Penggandaan yang disediakan | I35: 7 | J35: Paket | K35: =[1]TU!$V$11 -> 3 | L35: =K35/$I35 -> 0.42857143 | M35: =[1]TU!$W$11 -> 1 | N35: =M35/$I35 -> 0.14285714 | O35: =[1]TU!$X$11 -> 0 | P35: =O35/$I35 -> 0 | Q35: =[1]TU!$Y$11 -> 0 | R35: =Q35/$I35 -> 0 | S35: =[1]TU!$Z$11 -> 0 | T35: =S35/$I35 -> 0 | U35: =[1]TU!$AA$11 -> 0 | V35: =U35/$I35 -> 0 | W35: =[1]TU!$AB$11 -> 0 | X35: =W35/$I35 -> 0 | Y35: =[1]TU!$AC$11 -> 0 | Z35: =Y35/$I35 -> 0 | AA35: =[1]TU!$AD$11 -> 0 | AB35: =AA35/$I35 -> 0 | AC35: =[1]TU!$AE$11 -> 0 | AD35: =AC35/$I35 -> 0 | AE35: =[1]TU!$AF$11 -> 0 | AF35: =AE35/$I35 -> 0 | AG35: =[1]TU!$AG$11 -> 0 | AH35: =AG35/$I35 -> 0 | AI35: =SUM(AG35,AE35,AC35,AA35,Y35,W35,U35,S35,Q35,O35,M35,K35) -> 4 | AJ35: =AI35/I35 -> 0.57142857 | AK35: Paket barang cetakan | AM35: =SUM(K35,M35,O35) -> 4 | AN35: =SUM(Q35,S35,U35) -> 0 | AO35: =SUM(W35,Y35,AA35) -> 0 | AP35: =SUM(AC35,AE35,AG35) -> 0
A36: 4 | B36: 02 | C36: 1 | D36: 2.06 | E36: 08 | F36: Fasilitasi Kunjungan Tamu | G36: Jumlah Laporan Fasilitasi Kunjungan Tamu | H36: Jumlah Laporan Fasilitasi Kunjungan Tamu | I36: 360 | J36: Laporan | K36: =[1]TU!$V$12 -> 41 | L36: =K36/$I36 -> 0.11388889 | M36: =[1]TU!$W$12 -> 40 | N36: =M36/$I36 -> 0.11111111 | O36: =[1]TU!$X$12 -> 55 | P36: =O36/$I36 -> 0.15277778 | Q36: =[1]TU!$Y$12 -> 56 | R36: =Q36/$I36 -> 0.15555556 | S36: =[1]TU!$Z$12 -> 42 | T36: =S36/$I36 -> 0.11666667 | U36: =[1]TU!$AA$12 -> 0 | V36: =U36/$I36 -> 0 | W36: =[1]TU!$AB$12 -> 0 | X36: =W36/$I36 -> 0 | Y36: =[1]TU!$AC$12 -> 0 | Z36: =Y36/$I36 -> 0 | AA36: =[1]TU!$AD$12 -> 0 | AB36: =AA36/$I36 -> 0 | AC36: =[1]TU!$AE$12 -> 0 | AD36: =AC36/$I36 -> 0 | AE36: =[1]TU!$AF$12 -> 0 | AF36: =AE36/$I36 -> 0 | AG36: =[1]TU!$AG$12 -> 0 | AH36: =AG36/$I36 -> 0 | AI36: =SUM(AG36,AE36,AC36,AA36,Y36,W36,U36,S36,Q36,O36,M36,K36) -> 234 | AJ36: =AI36/I36 -> 0.65 | AK36: Laporan kunjungan tamu | AM36: =SUM(K36,M36,O36) -> 136 | AN36: =SUM(Q36,S36,U36) -> 98 | AO36: =SUM(W36,Y36,AA36) -> 0 | AP36: =SUM(AC36,AE36,AG36) -> 0
A37: 4 | B37: 02 | C37: 1 | D37: 2.06 | E37: 09 | F37: Penyelenggaraan Rapat Koordinasi dan Konsultasi SKPD | G37: Jumlah Laporan Penyelenggaraan Rapat Koordinasi dan Konsultasi SKPD | H37: Jumlah Laporan Penyelenggaraan Rapat Koordinasi dan Konsultasi SKPD | I37: 20 | J37: Laporan | K37: =[1]TU!$V$13 -> 3 | L37: =K37/$I37 -> 0.15 | M37: =[1]TU!$W$13 -> 0 | N37: =M37/$I37 -> 0 | O37: =[1]TU!$X$13 -> 3 | P37: =O37/$I37 -> 0.15 | Q37: =[1]TU!$Y$13 -> 0 | R37: =Q37/$I37 -> 0 | S37: =[1]TU!$Z$13 -> 1 | T37: =S37/$I37 -> 0.05 | U37: =[1]TU!$AA$13 -> 0 | V37: =U37/$I37 -> 0 | W37: =[1]TU!$AB$13 -> 0 | X37: =W37/$I37 -> 0 | Y37: =[1]TU!$AC$13 -> 0 | Z37: =Y37/$I37 -> 0 | AA37: =[1]TU!$AD$13 -> 0 | AB37: =AA37/$I37 -> 0 | AC37: =[1]TU!$AF$13 -> 0 | AD37: =AC37/$I37 -> 0 | AE37: =[1]TU!$AF$13 -> 0 | AF37: =AE37/$I37 -> 0 | AG37: =[1]TU!$AG$13 -> 0 | AH37: =AG37/$I37 -> 0 | AI37: =SUM(AG37,AE37,AC37,AA37,Y37,W37,U37,S37,Q37,O37,M37,K37) -> 7 | AJ37: =AI37/I37 -> 0.35 | AK37: Laporan rapat rakor SKPD | AM37: =SUM(K37,M37,O37) -> 6 | AN37: =SUM(Q37,S37,U37) -> 1 | AO37: =SUM(W37,Y37,AA37) -> 0 | AP37: =SUM(AC37,AE37,AG37) -> 0
A38: 4 | B38: 02 | C38: 1 | D38: 2.06 | E38: 11 | F38: Dukungan Pelaksanaan Sistem Pemerintahan Berbasis Elektronik pada SKPD | G38: Jumlah Dokumen Dukungan Pelaksanaan Sistem Pemerintahan Berbasis Elektronik pada SKPD | H38: Jumlah Dokumen Dukungan Pelaksanaan Sistem Pemerintahan Berbasis Elektronik pada SKPD | I38: 4 | J38: Dokumen | K38: =[1]RT!$V$10 -> 1 | L38: =K38/$I38 -> 0.25 | M38: =[1]RT!$W$10 -> 1 | N38: =M38/$I38 -> 0.25 | O38: =[1]RT!$X$10 -> 0 | P38: =O38/$I38 -> 0 | Q38: =[1]RT!$Y$10 -> 1 | R38: =Q38/$I38 -> 0.25 | S38: =[1]RT!$Z$10 -> 0 | T38: =S38/$I38 -> 0 | U38: =[1]RT!$AA$10 -> 0 | V38: =U38/$I38 -> 0 | W38: =[1]RT!$AB$10 -> 0 | X38: =W38/$I38 -> 0 | Y38: =[1]RT!$AC$10 -> 0 | Z38: =Y38/$I38 -> 0 | AA38: =[1]RT!$AD$10 -> 0 | AB38: =AA38/$I38 -> 0 | AC38: =[1]RT!$AE$10 -> 0 | AD38: =AC38/$I38 -> 0 | AE38: =[1]RT!$AF$10 -> 0 | AF38: =AE38/$I38 -> 0 | AG38: =[1]RT!$AG$10 -> 0 | AH38: =AG38/$I38 -> 0 | AI38: =SUM(AG38,AE38,AC38,AA38,Y38,W38,U38,S38,Q38,O38,M38,K38) -> 3 | AJ38: =AI38/I38 -> 0.75 | AK38: Dokumen SPBE | AM38: =SUM(K38,M38,O38) -> 2 | AN38: =SUM(Q38,S38,U38) -> 1 | AO38: =SUM(W38,Y38,AA38) -> 0 | AP38: =SUM(AC38,AE38,AG38) -> 0
A39: 4 | B39: 02 | C39: 1 | D39: 2.08 | F39: Penyediaan Jasa penunjang Urusan Pemerintahan Daerah | G39: Jumlah laporan hasil penyediaan jasa penunjang urusan Pemerintah Daerah | H39: Jumlah laporan hasil penyediaan jasa penunjang urusan Pemerintah Daerah | I39: =SUM(I40:I41) -> 102 | J39: Laporan | K39: =SUM(K40:K41) -> 9 | L39: =K39/$I39 -> 0.088235294 | M39: =SUM(M40:M41) -> 6 | N39: =M39/$I39 -> 0.058823529 | O39: =SUM(O40:O41) -> 6 | P39: =O39/$I39 -> 0.058823529 | Q39: =SUM(Q40:Q41) -> 7 | R39: =Q39/$I39 -> 0.068627451 | S39: =SUM(S40:S41) -> 6 | T39: =S39/$I39 -> 0.058823529 | U39: =SUM(U40:U41) -> 0 | V39: =U39/$I39 -> 0 | W39: =SUM(W40:W41) -> 0 | X39: =W39/$I39 -> 0 | Y39: =SUM(Y40:Y41) -> 0 | Z39: =Y39/$I39 -> 0 | AA39: =SUM(AA40:AA41) -> 0 | AB39: =AA39/$I39 -> 0 | AC39: =SUM(AC40:AC41) -> 0 | AD39: =AC39/$I39 -> 0 | AE39: =SUM(AE40:AE41) -> 0 | AF39: =AE39/$I39 -> 0 | AG39: =SUM(AG40:AG41) -> 0 | AH39: =AG39/$I39 -> 0 | AI39: =SUM(AG39,AE39,AC39,AA39,Y39,W39,U39,S39,Q39,O39,M39,K39) -> 34 | AJ39: =AI39/I39 -> 0.33333333 | AM39: =SUM(K39,M39,O39) -> 21 | AN39: =SUM(Q39,S39,U39) -> 13 | AO39: =SUM(W39,Y39,AA39) -> 0 | AP39: =SUM(AC39,AE39,AG39) -> 0
A40: 4 | B40: 02 | C40: 1 | D40: 2.08 | E40: 01 | F40: Penyediaan Jasa Surat Menyurat | G40: Jumlah Laporan Penyediaan Jasa Surat Menyurat | H40: Jumlah Laporan Penyediaan Jasa Surat Menyurat | I40: 90 | J40: Laporan | K40: =[1]TU!$V$14 -> 8 | L40: =K40/$I40 -> 0.088888889 | M40: =[1]TU!$W$14 -> 5 | N40: =M40/$I40 -> 0.055555556 | O40: =[1]TU!$X$14 -> 5 | P40: =O40/$I40 -> 0.055555556 | Q40: =[1]TU!$Y$14 -> 6 | R40: =Q40/$I40 -> 0.066666667 | S40: =[1]TU!$Z$14 -> 5 | T40: =S40/$I40 -> 0.055555556 | U40: =[1]TU!$AA$14 -> 0 | V40: =U40/$I40 -> 0 | W40: =[1]TU!$AB$14 -> 0 | X40: =W40/$I40 -> 0 | Y40: =[1]TU!$AC$14 -> 0 | Z40: =Y40/$I40 -> 0 | AA40: =[1]TU!$AD$14 -> 0 | AB40: =AA40/$I40 -> 0 | AC40: =[1]TU!$AE$14 -> 0 | AD40: =AC40/$I40 -> 0 | AE40: =[1]TU!$AF$14 -> 0 | AF40: =AE40/$I40 -> 0 | AG40: =[1]TU!$AG$14 -> 0 | AH40: =AG40/$I40 -> 0 | AI40: =SUM(AG40,AE40,AC40,AA40,Y40,W40,U40,S40,Q40,O40,M40,K40) -> 29 | AJ40: =AI40/I40 -> 0.32222222 | AK40: Laporan jasa surat menyurat | AM40: =SUM(K40,M40,O40) -> 18 | AN40: =SUM(Q40,S40,U40) -> 11 | AO40: =SUM(W40,Y40,AA40) -> 0 | AP40: =SUM(AC40,AE40,AG40) -> 0
A41: 4 | B41: 02 | C41: 1 | D41: 2.08 | E41: 02 | F41: Penyediaan Jasa Komunikasi, Sumber Daya Air dan Listrik | G41: Jumlah Laporan Penyediaan Jasa Komunikasi, Sumber Daya Air dan Listrik yang Disediakan | H41: Jumlah Laporan Penyediaan Jasa Komunikasi, Sumber Daya Air dan Listrik yang Disediakan | I41: 12 | J41: Laporan | K41: =[1]RT!$V$11 -> 1 | L41: =K41/$I41 -> 0.083333333 | M41: =[1]RT!$W$11 -> 1 | N41: =M41/$I41 -> 0.083333333 | O41: =[1]RT!$X$11 -> 1 | P41: =O41/$I41 -> 0.083333333 | Q41: =[1]RT!$Y$11 -> 1 | R41: =Q41/$I41 -> 0.083333333 | S41: =[1]RT!$Z$11 -> 1 | T41: =S41/$I41 -> 0.083333333 | U41: =[1]RT!$AA$11 -> 0 | V41: =U41/$I41 -> 0 | W41: =[1]RT!$AB$11 -> 0 | X41: =W41/$I41 -> 0 | Y41: =[1]RT!$AC$11 -> 0 | Z41: =Y41/$I41 -> 0 | AA41: =[1]RT!$AD$11 -> 0 | AB41: =AA41/$I41 -> 0 | AC41: =[1]RT!$AE$11 -> 0 | AD41: =AC41/$I41 -> 0 | AE41: =[1]RT!$AF$11 -> 0 | AF41: =AE41/$I41 -> 0 | AG41: =[1]RT!$AG$11 -> 0 | AH41: =AG41/$I41 -> 0 | AI41: =SUM(AG41,AE41,AC41,AA41,Y41,W41,U41,S41,Q41,O41,M41,K41) -> 5 | AJ41: =AI41/I41 -> 0.41666667 | AK41: Laporan jasa komunikasi, SDA | AM41: =SUM(K41,M41,O41) -> 3 | AN41: =SUM(Q41,S41,U41) -> 2 | AO41: =SUM(W41,Y41,AA41) -> 0 | AP41: =SUM(AC41,AE41,AG41) -> 0
A42: 4 | B42: 02 | C42: 1 | D42: 2.08 | E42: 04 | F42: Penyediaan Jasa Pelayanan Umum Kantor | G42: Jumlah Laporan Penyediaan Jasa Pelayanan Umum Kantor yang Disediakan | H42: Jumlah Laporan Penyediaan Jasa Pelayanan Umum Kantor yang Disediakan | I42: 39 | J42: Laporan | K42: =[1]RT!$V$12 -> 39 | L42: =K42/$I42 -> 1 | M42: =[1]RT!$W$12 -> 0 | N42: =M42/$I42 -> 0 | O42: =[1]RT!$X$12 -> 0 | P42: =O42/$I42 -> 0 | Q42: =[1]RT!$Y$12 -> 0 | R42: =Q42/$I42 -> 0 | S42: =[1]RT!$Z$12 -> 0 | T42: =S42/$I42 -> 0 | U42: =[1]RT!$AA$12 -> 0 | V42: =U42/$I42 -> 0 | W42: =[1]RT!$AB$12 -> 0 | X42: =W42/$I42 -> 0 | Y42: =[1]RT!$AC$12 -> 0 | Z42: =Y42/$I42 -> 0 | AA42: =[1]RT!$AD$12 -> 0 | AB42: =AA42/$I42 -> 0 | AC42: =[1]RT!$AE$12 -> 0 | AD42: =AC42/$I42 -> 0 | AE42: =[1]RT!$AF$12 -> 0 | AF42: =AE42/$I42 -> 0 | AG42: =[1]RT!$AG$12 -> 0 | AH42: =AG42/$I42 -> 0 | AI42: =SUM(AG42,AE42,AC42,AA42,Y42,W42,U42,S42,Q42,O42,M42,K42) -> 39 | AJ42: =AI42/I42 -> 1 | AK42: Laporan jasa pelayanan umum | AM42: =SUM(K42,M42,O42) -> 39 | AN42: =SUM(Q42,S42,U42) -> 0 | AO42: =SUM(W42,Y42,AA42) -> 0 | AP42: =SUM(AC42,AE42,AG42) -> 0
...

Sheet Grafik
S2: Indikator | T2: Jan | U2: Feb | V2: Mar | W2: Apr | X2: Mei | Y2: Jun | Z2: Jul | AA2: Agst | AB2: Sept | AC2: Okt | AD2: Nop | AE2: Des
S3: Indeks Pelayanan Publik | T3: ='Realisasi Sasaran'!N10 -> 4.24 | U3: =IF('Realisasi Sasaran'!O10>0,'Realisasi Sasaran'!O10,0) -> 4.24 | V3: =IF('Realisasi Sasaran'!P10>0,'Realisasi Sasaran'!P10,0) -> 4.24 | W3: =IF('Realisasi Sasaran'!Q10>0,'Realisasi Sasaran'!Q10,0) -> 4.24 | X3: =IF('Realisasi Sasaran'!R10>0,'Realisasi Sasaran'!R10,0) -> 4.24 | Y3: =IF('Realisasi Sasaran'!S10>0,'Realisasi Sasaran'!S10,0) -> 0 | Z3: =IF('Realisasi Sasaran'!T10>0,'Realisasi Sasaran'!T10,0) -> 0 | AA3: =IF('Realisasi Sasaran'!U10>0,'Realisasi Sasaran'!U10,0) -> 0 | AB3: =IF('Realisasi Sasaran'!V10>0,'Realisasi Sasaran'!V10,0) -> 0 | ... AE3: =IF('Realisasi Sasaran'!Y10>0,'Realisasi Sasaran'!Y10,0) -> 0 | AF3: ='Realisasi Sasaran'!Z10/4.25 -> 0.99764706 | AG3: 1
S4: Persentase penyelenggaraan pelayanan administrasi kesekretariatan dan keuangan | T4: ='Realisasi Sasaran'!N11 -> 0.087398374 | U4: =IF('Realisasi Sasaran'!O11>0,T4+'Realisasi Sasaran'!O11,0) -> 0.17581301 | V4: =IF('Realisasi Sasaran'!P11>0,U4+'Realisasi Sasaran'!P11,0) -> 0.27642276 | W4: =IF('Realisasi Sasaran'!Q11>0,V4+'Realisasi Sasaran'!Q11,0) -> 0.38617886 | X4: =IF('Realisasi Sasaran'!R11>0,W4+'Realisasi Sasaran'!R11,0) -> 0.46544715 | Y4: =IF('Realisasi Sasaran'!S11>0,X4+'Realisasi Sasaran'!S11,0) -> 0 | Z4: =IF('Realisasi Sasaran'!T11>0,Y4+'Realisasi Sasaran'!T11,0) -> 0 | AA4: =IF('Realisasi Sasaran'!U11>0,Z4+'Realisasi Sasaran'!U11,0) -> 0 | AB4: =IF('Realisasi Sasaran'!V11>0,AA4+'Realisasi Sasaran'!V11,0) -> 0 | ... AE4: =IF('Realisasi Sasaran'!Y11>0,AD4+'Realisasi Sasaran'!Y11,0) -> 0 | AF4: =AG3-AF3 -> 0.0023529412
S5: Persentase Fasilitasi Pelaksanaan Fungsi DPRD | T5: ='Realisasi Sasaran'!N12 -> 0.031358885 | U5: =IF('Realisasi Sasaran'!O12>0,T5+'Realisasi Sasaran'!O12,0) -> 0.06445993 | V5: =IF('Realisasi Sasaran'!P12>0,U5+'Realisasi Sasaran'!P12,0) -> 0.19163763 | W5: =IF('Realisasi Sasaran'!Q12>0,V5+'Realisasi Sasaran'!Q12,0) -> 0.24738676 | X5: =IF('Realisasi Sasaran'!R12>0,W5+'Realisasi Sasaran'!R12,0) -> 0.3815331 | Y5: =IF('Realisasi Sasaran'!S12>0,X5+'Realisasi Sasaran'!S12,0) -> 0 | Z5: =IF('Realisasi Sasaran'!T12>0,Y5+'Realisasi Sasaran'!T12,0) -> 0 | AA5: =IF('Realisasi Sasaran'!U12>0,Z5+'Realisasi Sasaran'!U12,0) -> 0 | AB5: =IF('Realisasi Sasaran'!V12>0,AA5+'Realisasi Sasaran'!V12,0) -> 0 | ... AE5: =IF('Realisasi Sasaran'!Y12>0,AD5+'Realisasi Sasaran'!Y12,0) -> 0
S6: Persentase fasilitasi pelaksanaan tugas DPRD | T6: ='Realisasi Sasaran'!N13 -> 0.052892562 | U6: =IF('Realisasi Sasaran'!O13>0,T6+'Realisasi Sasaran'!O13,0) -> 0.1338843 | V6: =IF('Realisasi Sasaran'!P13>0,U6+'Realisasi Sasaran'!P13,0) -> 0.22975207 | W6: =IF('Realisasi Sasaran'!Q13>0,V6+'Realisasi Sasaran'!Q13,0) -> 0.32892562 | X6: =IF('Realisasi Sasaran'!R13>0,W6+'Realisasi Sasaran'!R13,0) -> 0.41487603 | Y6: =IF('Realisasi Sasaran'!S13>0,X6+'Realisasi Sasaran'!S13,0) -> 0 | Z6: =IF('Realisasi Sasaran'!T13>0,Y6+'Realisasi Sasaran'!T13,0) -> 0 | AA6: =IF('Realisasi Sasaran'!U13>0,Z6+'Realisasi Sasaran'!U13,0) -> 0 | AB6: =IF('Realisasi Sasaran'!V13>0,AA6+'Realisasi Sasaran'!V13,0) -> 0 | ... AE6: =IF('Realisasi Sasaran'!Y13>0,AD6+'Realisasi Sasaran'!Y13,0) -> 0
S7: Nilai Kepuasan Anggota DPRD Atas Dukungan Pelaksanaan Tugas Sekretariat DPRD | T7: ='Realisasi Sasaran'!N14 -> 95 | U7: ='Realisasi Sasaran'!O14 -> 95 | V7: ='Realisasi Sasaran'!P14 -> 96.75 | W7: ='Realisasi Sasaran'!Q14 -> 97.86 | X7: ='Realisasi Sasaran'!R14 -> 98.14 | Y7: ='Realisasi Sasaran'!S14 -> 0 | Z7: ='Realisasi Sasaran'!T14 -> 0 | AA7: ='Realisasi Sasaran'!U14 -> 0 | ... AE7: ='Realisasi Sasaran'!Y14 -> 0
T8: =T7/$T$11 -> 0.98701299 | U8: =U7/$T$11 -> 0.98701299 | V8: =V7/$T$11 -> 1.0051948 | W8: =W7/$T$11 -> 1.0167273 | X8: =X7/$T$11 -> 1.0196364 | Y8: =Y7/$T$11 -> 0 | Z8: =Z7/$T$11 -> 0 | AA8: =AA7/$T$11 -> 0 | ... AD8: =AD7/$T$11 -> 0
S10: Nilai | T10: 2025 | U10: 2026 | V10: 2027 | W10: 2028 | X10: 2029
S11: Target | T11: 96.25 | U11: 96.5 | V11: 96.75 | W11: 96.9 | X11: 97
S12: Realisasi | T12: 96.25 | U12: ='Realisasi Sasaran'!Z14 -> 98.14 | V12: 0 | W12: 0 | X12: 0
S13: Capaian (%) | T13: =T12/T11*100 -> 100 | U13: =U12/U11*100 -> 101.69948 | V13: =V12/V11*100 -> 0 | W13: =W12/W11*100 -> 0 | X13: =X12/X11*100 -> 0

Sheet Cascading
A1: CASCADING SEKRETARIAT DPRD KABUPATEN GRESIK TAHUN 2025 - 2029
A3: Visi | C3: Pembangunan Gresik Maju yang berkelanjutan sebagai Pusat Pertumbuhan Ekonomi untuk Kesejahteraan Masyarakat
A6: Misi 4 | C6: Meningkatkan Sistem Pemerintahan yang Transparan, Akuntabel, dan Berorientasi pada Pelayanan yang Terbaik bagi Masyarakat.
A8: Tujuan 1 | C8: Terwujudnya tata kelola pemerintahan yang cerdas, inovatif, akuntable, dan melayani (smart governance)
BP9: Indeks Reformasi Birokrasi | BX9: Target 86,17 (Nilai)
A11: Sasaran 3 | C11: Meningkatkan tata kelola pemerintahan yang adaptif dan transparan melalui transformasi digital, penguatan kolaborasi lintas sektor, serta pengelolaan SDM aparatur berbasis sistem merit
A12: Indikator | BR12: Indeks Pelayanan Publik | BV12: Capaian | BW12: = | BX12: =BX18 -> 4.24 | BY12: dari | BZ12: 2.51 | CA12: (Nilai)
A16: Tujuan Renstra | C16: Terwujudnya Sinergitas Antara Pemerintah Daerah dan DPRD Dalam Penyelenggaraan Pemerintahan Daerah
A17: Indikator | C17: Indeks Pelayanan Publik Sekretariat DPRD
BV18: Capaian | BW18: = | BX18: ='Realisasi Sasaran'!Z10 -> 4.24 | BY18: dari | BZ18: 4.25 | CA18: Berdasarkan nilai PEKPPP Setwan
A20: Sasaran Renstra | C20: Meningkatnya kualitas pelayanan atas dukungan fasilitasi pelaksanaan tugas dan fungsi DPRD
A21: Indikator | BQ21: 1 | BR21: Persentase penyelenggaraan pelayanan administrasi kesekretariatan dan keuangan | BW21: = | BX21: =SUM(CB39,CJ39,CT39,DD39,DT39,ED39,EL39,ER39)/(LEFT(CD39,3)+LEFT(CL39,3)+LEFT(CV39,3)+LEFT(DF39,3)+LEFT(DV39,3)+LEFT(EF39,3)+LEFT(EN39,3)+LEFT(ET39,3)) -> 0.46544715 | BY21: dari | BZ21: 1 | CA21: =BZ21-BX21 -> 0.53455285
BQ22: 2 | BR22: Persentase Fasilitasi Pelaksanaan Fungsi DPRD | BW22: = | BX22: =SUM(I39,U39,AI39,AQ39,AU39)/(LEFT(K39,3)+LEFT(W39,3)+LEFT(AK39,3)+LEFT(AS39,2)+LEFT(AW39,2)) -> 0.3815331 | BY22: dari | BZ22: 1 | CA22: =BZ22-BX22 -> 0.6184669
BQ23: 3 | BR23: Persentase fasilitasi pelaksanaan tugas DPRD | BW23: = | BX23: =SUM(BF39,BR39)/(LEFT(BH39,3)+LEFT(BT39,3)) -> 0.41487603 | BY23: dari | BZ23: 1 | CA23: =BZ23-BX23 -> 0.58512397
BQ24: 4 | BR24: Nilai Kepuasan Anggota DPRD Atas Dukungan Pelaksanaan Tugas Sekretariat DPRD | BW24: = | BX24: ='Realisasi Sasaran'!Z14 -> 98.14 | BY24: dari | BZ24: 96.5 | CA24: Berdasarkan nilai Survey Kepuasan DPRD
A26: Program | C26: PROGRAM DUKUNGAN PELAKSANAAN TUGAS DAN FUNGSI DPRD | BZ26: PROGRAM PENUNJANG URUSAN PEMERINTAHAN DAERAH KABUPATEN/KOTA
C28: IKU | O28: IKU | AA28: IKU
A29: Indikator Program | C29: Ketepatan Penetapan Ranperda Tahun N | O29: Ketepatan Penetapan Perda APBD Tahun N | AA29: Persentase Pengawasan Penyelenggaraan Pemerintahan | BB29: Persentase Fasilitasi Pelaksanaan Tugas DPRD | BZ29: Nilai Hasil Evaluasi SAKIP Perangkat Daerah | CP29: Persentase Penyelenggaraan Administrasi Kesekretariatan | EJ29: Persentase Penyelenggaraan Administrasi Keuangan dan Kesejahteraan DPRD
G30: Capaian | H30: = | I30: =I39/LEFT(K39,3) -> 0.36873156 | J30: dari | K30: 1 | S30: Capaian | T30: = | U30: =U39/LEFT(W39,3) -> 0.045454545 | V30: dari | W30: 1 | AK30: Capaian | AL30: = | AM30: =SUM(AI39,AQ39,AU39)/(LEFT(AK39,3)+(LEFT(AS39,2)+(LEFT(AW39,2)))) -> 0.43661972 | AN30: dari | AO30: 1 | BJ30: Capaian | BK30: = | BL30: =SUM(BF39,BR39)/SUM(LEFT(BH39,3),(LEFT(BT39,3))) -> 0.41487603 | BM30: dari | BN30: 1 | CD30: Capaian | CE30: = | CF30: ='Realisasi Program'!X11 -> 86.85 | CG30: dari | CH30: 86.9 | DJ30: Capaian | DK30: = | DL30: =SUM(CT39,DD39,DT39,ED39)/(LEFT(CV39,3)+LEFT(DF39,3)+LEFT(DV39,3)+LEFT(EF39,3)) -> 0.48823529 | DM30: dari | DN30: 1 | EN30: Capaian | EO30: = | EP30: =SUM(EL39,ER39)/(LEFT(EN39,3)+LEFT(ET39,3)) -> 0.18666667 | EQ30: dari | ER30: 1
A33: KEGIATAN | C33: Pembentukan Peraturan Daerah dan Peraturan DPRD | O33: Pembahasan Kebijakan Anggaran | AA33: Pengawasan Penyelenggaraan Pemerintahan | AQ33: Pelaksanaan dan Pengawasan Kode Etik DPRD | AU33: Penyerapan dan Penghimpunan Aspirasi Masyarakat | AY33: Pembahasan Kerja Sama Daerah | BB33: Fasilitasi Tugas DPRD | BL33: Peningkatan Kapasitas DPRD | BZ33: Perencanaan, Penganggaran, dan Evaluasi Kinerja Perangkat Daerah | CF33: Administrasi Keuangan Perangkat Daerah | CP33: Administrasi Kepegawaian Perangkat Daerah | CX33: Administrasi Umum Perangkat Daerah | DN33: Pengadaan Barang Milik Daerah Penunjang Urusan Pemerintah Daerah | DR33: Penyediaan Jasa Penunjang Urusan Pemerintahan Daerah | DX33: Pemeliharaan Barang Milik Daerah Penunjang Urusan Pemerintahan Daerah | EJ33: Layanan Keuangan dan Kesejahteraan DPRD | EP33: Layanan Administrasi DPRD
