Workbook

Sheet Sekretariat DPRD 
A1: POHON KINERJA SEKRETARIAT DPRD KABUPATEN GRESIK TAHUN 2025 - 2029
A3: Visi | C3: Pembangunan Gresik Maju yang berkelanjutan sebagai Pusat Pertumbuhan Ekonomi untuk Kesejahteraan Masyarakat
A6: Misi 4 | C6: Meningkatkan Sistem Pemerintahan yang Transparan, Akuntabel, dan Berorientasi pada Pelayanan yang Terbaik bagi Masyarakat.
A8: Tujuan 1 | C8: Terwujudnya tata kelola pemerintahan yang cerdas, inovatif, akuntable, dan melayani (smart governance)
A10: Sasaran 3 | C10: Meningkatkan tata kelola pemerintahan yang adaptif dan transparan melalui transformasi digital, penguatan kolaborasi lintas sektor, serta pengelolaan SDM aparatur berbasis sistem merit
A11: Indikator | CA11: dari | CB11: 4.24 | CC11: (Indeks)
A15: Tujuan Renstra | C15: Meningkatkan kualitas pelayanan dan dukungan pelaksanaan tugas dan fungsi DPRD
A16: Indikator | C16: IK : Indeks Pelayanan Publik Sekretariat DPRD
BT17: Capaian Realisasi = | CA17: dari | CB17: 4.24 | CC17: (Indeks)
A19: Sasaran Renstra | C19: Meningkatnya kualitas pelayanan administrasi dan dukungan fasilitasi kinerja DPRD
A20: Indikator | C20: IK: Indeks Kepuasan Masyarakat (IKM) atas Pelayanan dan Kinerja Sekretariat DPRD
BT21: Capaian Realisasi = | BY21: ='Formulasi IKM'!D19 -> 80.317717 | CA21: dari | CB21: 100 | CC21: (Indeks)
A23: Kinerja Program | C23: Meningkatnya Kualitas Persidangan dan Kajian Peratuan Perundang-Undangan | AN23: Meningkatnya Kualitas Penganggaran dan Pengawasan | CB23: Meningkatnya akuntabilitas dan tata kelola perangkat daerah
C25: IKU | AN25: IKU | AZ25: IKU
A26: Indikator Program | C26: IK : Persentase Ketepatan Penetapan Ranperda | AN26: IK : Persentase Ketepatan Penetapan Perda APBD | AZ26: IK : Persentase Pengawasan Penyelenggaraan Pemerintahan | CB26: IK : Nilai Hasil Evaluasi SAKIP Perangkat Daerah | CR26: IK : Persentase Penyelenggaraan Administrasi Kesekretariatan
Q27: Capaian | R27: = | S27: =I36/16 -> 1 | T27: dari | U27: 1 | AR27: Capaian | AS27: = | AT27: =AR36/22 -> 1 | AU27: dari | AV27: 1 | BJ27: Capaian | BK27: = | BL27: =AVERAGE(BH33,BP33,BT33,BX33) -> 0.10714286 | BM27: dari | BN27: 1 | CF27: Capaian | CG27: = | CH27: 0.8685 | CI27: dari | CJ27: 0.8685 | DL27: Capaian | DM27: = | DN27: =AVERAGE(CV33,DF33,DP33,DV33,EF33) -> 0.22380952 | DO27: dari | DP27: 1
A30: Kinerja Kegiatan | C30: Terfasilitasinya kegiatan pembentukan Peraturan Daerah dan Peraturan DPRD tepat waktu | O30: Terfasilitasinya Tugas DPRD | Y30: Terfasilitasinya kegiatan Peningkatan Kapasitas DPRD | AN30: Terfasilitasinya kegiatan pembahasan kebijakan anggaran | AZ30: Terfasilitasinya kegiatan pengawasan penyelenggaraan pemerintahan | BP30: Terfasilitasinya kegiatan pelaksanaan dan pengawasan kode etik DPRD | BT30: Terfasilitasinya kegiatan penyerapan dan penghimpunan aspirasi masyarakat | BX30: Terfasilitasinya pelaksanaan kegiatan pembahasan kerjasama daerah | CB30: Tersusunnya dokumen perencanaan, penganggaran, dan evaluasi kinerja yang akuntabel dan tepat waktu | CH30: Tercapainya tertib administrasi dan akuntabilitas pengelolaan keuangan Perangkat Daerah | CR30: Terkelolanya SDM berbasis kinerja | CZ30: Terpenuhinya layanan administrasi umum tepat waktu dan terdokumentasi dengan baik | DP30: Tersedianya Barang dan Jasa Penunjang Urusan Pemerintah Daerah | DT30: Tersedianya jasa penunjang urusan Pemerintah Daerah sesuai kebutuhan Perangkat Daerah | DZ30: Terpeliharanya barang milik daerah penunjang urusan Pemerintahan Daerah dan layak digunakan | EL30: Terpenuhinya hak keuangan dan kesejahteraan DPRD | ER30: Terpenuhinya layanan administrasi DPRD
A32: Indikator Kegiatan (Hasil) | C32: Persentase Jumlah pelaksanaan kegiatan pembentukan Peraturan Daerah dan Peraturan DPRD | O32: Persentase Fasilitasi Pelaksanaan Tugas DPRD | Y32: Persentase Fasilitasi Pelaksanaan Kegiatan Peningkatan Kapasitas DPRD | AN32: Persentase Fasilitasi kegiatan Pembahasan Kebijakan Anggaran | AZ32: Persentase Fasilitasi Kegiatan Pengawasan Penyelenggaraan Pemerintahan | BP32: Persentase Fasilitasi Kegiatan Pelaksanaan dan Pengawasan Kode Etik DPRD | BT32: Persentase Fasilitasi Kegiatan Penyerapan dan Penghimpunan Aspirasi Masyarakat | BX32: Persentase Fasilitasi Kegiatan Pembahasan Kerjasama Daerah | CB32: Terpenuhinya Data Dukung Evaluasi SAKIP Perangkat Daerah | CH32: Terpenuhinya Data Dukung Pengawasan Internal Inspektorat atas Perangkat Daerah | CR32: Persentase Layanan Administrasi Kepegawaian Perangkat Daerah | CZ32: Persentase Layanan Administrasi Umum Perangkat Daerah | DP32: Persentase Pelaksanaan Pengadaan Barang Milik Daerah Penunjang Urusan Pemerintah Daerah | DT32: Persentase Penyediaan Jasa Penunjang Urusan Pemerintahan Daerah | DZ32: Persentase Pemeliharaan Barang Milik Daerah Penunjang Urusan Pemerintahan Daerah | EL32: Persentase Pemenuhan Layanan Keuangan dan Kesejahteraan DPRD | ER32: Persentase Pemenuhan Layanan Administrasi DPRD
G33: Capaian | H33: = | I33: =M45/64800 -> 1 | J33: dari | K33: 1 | Q33: Capaian | R33: = | S33: =S36/130 -> 1 | T33: dari | U33: 1 | AC33: Capaian | AD33: = | AE33: =AE36/461 -> 0.94577007 | AF33: dari | AG33: 1 | AR33: Capaian | AS33: = | AT33: =AR36/22 -> 1 | AU33: dari | AV33: 1 | BF33: Capaian | BG33: = | BH33: =BH36/252 -> 0.42857143 | BI33: dari | BJ33: 1 | BP33: =BP36/6 -> 0 | BQ33: dari | BR33: 1 | BT33: =BT36/7 -> 0 | BU33: dari | BV33: 1 | BX33: =BX36/2 -> 0 | BY33: dari 100% | CB33: Capaian | CC33: = | CD33: =CD36/29 -> 1.0344828 | CE33: dari | CF33: 1 | CJ33: Capaian | CK33: = | CL33: =CL36/39 -> 0.61538462 | CM33: dari | CN33: 1 | CT33: Capaian | CU33: = | CV33: =CV36/47 -> 0 | CW33: dari | CX33: 1 | DD33: Capaian | DE33: = | DF33: =DF36/224 -> 0 | DG33: dari | DH33: 1 | DP33: =DP36/6 -> 0.5 | DQ33: dari | DR33: 1 | DT33: Capaian | DU33: = | DV33: =DV36/110 -> 0 | DW33: dari | DX33: 1 | ED33: Capaian | EE33: = | EF33: =EF36/294 -> 0.61904762 | EG33: dari | EH33: 1 | EL33: Capaian | EM33: = | EN33: =EN36/655 -> 0 | EO33: dari | EP33: 1 | ER33: Capaian | ES33: = | ET33: =ET36/30 -> 0 | EU33: dari | EV33: 1
A35: Indikator Kegiatan (Output/Keluaran) | C35: 1. Jumlah fasilitasi pembentukan peraturan daerah dan peraturan DPRD 2. Jumlah masyarakat yang mengikuti kegiatan sosialisasi peraturan daerah | O35: Jumlah pelaksanaan kegiatan fasilitasi tugas DPRD | Y35: Jumlah pelaksanaan kegiatan Peningkatan Kapasitas DPRD yang difasilitasi | AN35: Jumlah fasilitasi pembahasan kebijakan anggaran | AZ35: Jumlah fasilitasi pengawasan penyelenggaraan pemerintahan | BP35: Jumlah fasilitasi kegiatan pelaksanaan dan pengawasan kode etik DPRD | BT35: Jumlah pelaksanaan kegiatan penyerapan dan penghimpunan aspirasi masyarakat yang difasilitasi | BX35: Jumlah pelaksanaan kegiatan pembahasan kerjasama daerah yang difasilitasi | CB35: Jumlah dokumen perencanaan, penganggaran dan evaluasi kinerja perangkat daerah yang tersusun | CH35: Jumlah dokumen administrasi keuangan Perangkat Daerah yang terpenuhi | CR35: Jumlah Layanan Administrasi Kepegawaian Berbasis Kinerja Perangkat Daerah yang terpenuhi | CZ35: Jumlah Layanan Administrasi Umum Perangkat Daerah yang terpenuhi | DP35: Jumlah Barang Milik Daerah Penunjang Urusan Pemerintah Daerah yang tersedia | DT35: Jumlah dokumen laporan hasil penyediaan jasa penunjang urusan Pemerintah Daerah | DZ35: Jumlah barang milik daerah penunjang urusan Pemerintahan Daerah yang terpelihara | EL35: Jumlah layanan keuangan dan kesejahteraan DPRD yang terpenuhi | ER35: Jumlah dokumen layanan administrasi DPRD yang terpenuhi
G36: 1. Capaian | H36: = | I36: =SUM(C45,E45,G45,I45,K45) -> 16 | K36: dari target | L36: 16 | M36: Kegiatan | Q36: Capaian | R36: = | S36: =SUM(O45,Q45,S45,U45,W45) -> 130 | U36: dari target | V36: 130 | W36: kegiatan | AC36: Capaian | AD36: = | AE36: =SUM(AA45,AC45,AI45,AK45) -> 436 | AG36: dari target | AH36: 461 | AI36: kegiatan | AP36: Capaian | AQ36: = | AR36: =SUM(AN45,AP45,AR45,AT45,AV45,AX45) -> 22 | AT36: dari target | AU36: 22 | AV36: kegiatan | BF36: Capaian | BG36: = | BH36: =SUM(AZ45,BB45,BD45,BF45,BH45,BJ45,BL45,BN45) -> 108 | BJ36: dari target | BK36: 252 | BL36: kegiatan | BP36: =SUM(BP45,BR45) -> 0 | BQ36: dari | BR36: 6 Kegiatan | BT36: =SUM(BT45,BV45) -> 0 | BU36: dari | BV36: 7 Kegiatan | BX36: =SUM(BX45) -> 0 | BY36: dari 2 Dokumen | CB36: Capaian | CC36: = | CD36: =SUM(CB45,CD45,CF45) -> 30 | CE36: dari | CF36: 29 Dokumen | CJ36: Capaian | CK36: = | CL36: =SUM(CJ45,CL45,CN45,CP45) -> 24 | CM36: dari | CN36: 39 Dokumen | CT36: Capaian | CU36: = | CV36: =SUM(CT45,CV45,CX45) -> 0 | CW36: dari | CX36: 47 Layanan | DD36: Capaian | DE36: = | DF36: =SUM(CZ45,DB45,DD45,DF45,DH45,DJ45,DL45,DN45) -> 0 | DG36: dari | DH36: 224 Layanan | DP36: =SUM(DP45,DR45) -> 3 | DQ36: dari | DR36: 6 Unit | DT36: Capaian | DU36: = | DV36: =SUM(DT45,DV45,DX45) -> 0 | DW36: dari | DX36: 110 Dokumen | ED36: Capaian | EE36: = | EF36: =SUM(DZ45,EB45,ED45,EF45,EH45,EJ45) -> 182 | EG36: dari | EH36: 294 Unit | EL36: Capaian | EM36: = | EN36: =(EL45*12)+EN45+EP45 -> 0 | EO36: dari | EP36: 655 Layanan | ER36: Capaian | ES36: = | ET36: =SUM(ER45,ET45,EV45) -> 0 | EU36: dari | EV36: 32 Dokumen
G37: 2. Capaian | H37: = | I37: =SUM(M45) -> 64800 | J37: dari | K37: 64.800 Orang
A39: Kinerja Sub Kegiatan | C39: Terfasilitasinya Penyusunan dan Pembahasan Program Pembentukan Peraturan Daerah | E39: Terfasilitasinya Pembahasan Rancangan Peraturan Daerah | G39: Terfasilitasinya Penyelenggaraan Kajian Perundang-Undangan | I39: Terfasilitasinya Penyusunan Penjelasan atau Keterangan dan/atau Naskah Akademik | K39: Terfasilitasinya Penyusunan Tata Tertib DPRD | M39: Terfasilitasinya Sosialisasi Peraturan Daerah yang Dilakukan Bersama oleh DPRD dan Pemerintah Daerah | O39: Terfasilitasinya Koordinasi dan Konsultasi Pelaksanaan Tugas DPRD | Q39: Terfasilitasinya Penyusunan Laporan Fraksi, Alat Kelengkapan dan Kinerja DPRD | S39: Terfasilitasinya Fasilitasi Pelaksanaan Tugas Badan Musyawarah | U39: Terfasilitasinya Tugas Pimpinan DPRD | W39: Terfasilitasinya Pelaksanaan Tugas Panitia Khusus | Y39: Terfasilitasinya Kegiatan Orientasi DPRD | AA39: Terfasilitasinya Pendalaman Tugas DPRD | AC39: Terlaksananya Kegiatan Publikasi dan Dokumentasi Dewan | AE39: Tersedianya Kelompok Pakar dan Tim Ahli | AG39: Tersedianya Tenaga Ahli Fraksi | AI39: Terselenggaranya Kegiatan Hubungan Masyarakat | AK39: Tersusunnya Rencana Kerja DPRD | AN39: Terfasilitasinya Pembahasan KUA dan PPAS | AP39: Terfasilitasinya Pembahasan Perubahan KUA dan Perubahan PPAS | AR39: Terfasilitasinya Pembahasan APBD | AT39: Terfasilitasinya Pembahasan APBD Perubahan | AV39: Terfasilitasinya Pembahasan Laporan Realisasi Pelaksanaan APBD Per Semester | AX39: Terfasilitasinya Pembahasan Pertanggungjawaban APBD | AZ39: Terfasilitasinya Pengawasan Urusan Pemerintahan Bidang Pemerintahan dan Hukum | BB39: Terfasilitasinya Pengawasan Urusan Pemerintahan Bidang Infrastruktur | BD39: Terfasilitasinya Pengawasan Urusan Pemerintahan Bidang Kesejahteraan Rakyat | BF39: Terfasilitasinya Pengawasan Urusan Pemerintahan Bidang Perekonomian | BH39: Terfasilitasinya Pengawasan Urusan Pemerintahan Bidang Sumber Daya Alam | BJ39: Terfasilitasinya Pengawasan Tindak Lanjut Hasil Pemeriksaan Laporan Keuangan oleh Badan Pemeriksa Keuangan | BL39: Terfasilitasinya Pengawasan Penggunaan Anggaran | BN39: Terfasilitasinya Pembahasan Laporan Keterangan Pertanggungjawaban Kepala Daerah | BP39: Terfasilitasinya Penyusunan Kode Etik DPRD | BR39: Terfasilitasinya Pengawasan Kode Etik DPRD | BT39: Terfasilitasinya Penyusunan Pokok-Pokok Pikiran DPRD | BV39: Terfasilitasinya Pelaksanaan Reses | BX39: Terfasilitasinya Verifikasi, dan Koordinasi Persetujuan Kerja Sama Daerah | CB39: Tersusunnya Dokumen Perencanaan Perangkat Daerah | CD39: Tersedianya Laporan Capaian Kinerja dan Ikhtisar Realisasi Kinerja SKPD dan Laporan Hasil Koordinasi Penyusunan Laporan Capaian Kinerja dan Ikhtisar Realisasi Kinerja SKPD | CF39: Terlaksananya Evaluasi Kinerja Perangkat Daerah | CH39: Tersedianya Gaji dan Tunjangan ASN | CJ39: Terlaksananya Penatausahaan dan Pengujian/Verifikasi Keuangan SKPD | CL39: Tersedianya Laporan Keuangan Akhir Tahun SKPD dan Laporan Hasil Koordinasi Penyusunan Laporan Keuangan Akhir Tahun SKPD | CN39: Tersedianya Laporan Keuangan Bulanan/Triwulanan/Semesteran SKPD dan Laporan Koordinasi Penyusunan Laporan Keuangan Bulanan/Triwulanan/Semesteran SKPD | CP39: Tersedianya Dokumen Pelaporan dan Analisis Prognosis Realisasi Anggaran | CR39: Tersedianya Pakaian Dinas beserta Atribut Kelengkapan | CT39: Terlaksananya Pendataan dan Pengolahan Administrasi Kepegawaian | CV39: Meningkatnya jumlah pegawai yang berkualitas sesuai tugas dan fungsinya | CX39: Terlaksananya Bimbingan Teknis Implementasi Peraturan Perundang-Undangan | CZ39: Tersedianya Komponen Instalasi Listrik/Penerangan Bangunan Kantor | DB39: Tersedianya Peralatan dan Perlengkapan Kantor | DD39: Tersedianya Peralatan Rumah Tangga | DF39: Tersedianya Bahan Logistik Kantor | DH39: Tersedianya Barang Cetakan dan Penggandaan | DJ39: Terfasilitasinya Kunjungan Tamu | DL39: Terlaksananya Penyelenggaraan Rapat Koordinasi dan Konsultasi SKPD | DN39: Tersedianya Dukungan Pelaksanaan Sistem Pemerintahan Berbasis Elektronik pada SKPD | DP39: Tersedianya Mebel | DR39: Tersedianya Peralatan dan Mesin Lainnya | DT39: Terlaksananya Penyediaan Jasa Surat Menyurat | DV39: Tersedianya Jasa Komunikasi, Sumber Daya Air dan Listrik | DX39: Tersedianya Jasa Pelayanan Umum Kantor | DZ39: Tersedianya Jasa Pemeliharaan, Biaya Pemeliharaan dan Pajak Kendaraan Perorangan Dinas atau Kendaraan Dinas Jabatan | EB39: Tersedianya Jasa Pemeliharaan, Biaya Pemeliharaan, Pajak dan Perizinan Kendaraan Dinas Operasional atau Lapangan | ED39: Terlaksananya Pemeliharaan Mebel | EF39: Terlaksananya Pemeliharaan Peralatan dan Mesin Lainnya | EH39: Terlaksananya Pemeliharaan/Rehabilitasi Gedung Kantor dan Bangunan Lainnya | EJ39: Terlaksananya Pemeliharaan/Rehabilitasi Sarana dan Prasarana Gedung Kantor atau Bangunan Lainnya | EL39: Terpenuhinya Hak Keuangan Anggota DPRD | EN39: Tersedianya Pakaian Dinas dan Atribut DPRD | EP39: Terlaksananya Medical Check Up DPRD | ER39: Terpenuhinya Layanan Administrasi Keanggotaan DPRD | ET39: Terfasilitasinya Fraksi DPRD | EV39: Terfasilitasinya Rapat Koordinasi dan Konsultasi DPRD
A41: Indikator Sub Kegiatan (Output/Keluaran) | C41: Jumlah Dokumen Hasil Penyusunan dan Pembahasan Program Pembentukan Peraturan Daerah | E41: Jumlah Dokumen Hasil Pembahasan Rancangan Peraturan Daerah | G41: Jumlah Dokumen Kajian Perundang-Undangan | I41: Jumlah Dokumen Hasil Penyusunan Penjelasan atau Keterangan dan/atau Naskah Akademik yang Difasilitasi | K41: Jumlah Dokumen Tata Tertib DPRD yang Disusun | M41: Jumlah Orang yang Mengikuti Sosialisasi Peraturan Daerah yang Dilakukan Bersama oleh DPRD dan Pemerintah Daerah | O41: Jumlah Dokumen Hasil Koordinasi dan Konsultasi Pelaksanaan Tugas DPRD | Q41: Jumlah Laporan Fraksi, Alat Kelengkapan dan Kinerja DPRD yang Disusun | S41: Jumlah Dokumen Hasil Fasilitasi Pelaksanaan Tugas Badan Musyawarah | U41: Jumlah Dokumen Hasil Fasilitasi Tugas Pimpinan DPRD | W41: Jumlah Dokumen Hasil Fasilitasi Pelaksanaan Tugas Panitia Khusus | Y41: Jumlah Dokumen Hasil Penyelenggaraan Orientasi DPRD | AA41: Jumlah Dokumen Hasil Pendalaman Tugas DPRD | AC41: Jumlah Dokumen Penyebarluasan Produk Hukum Daerah, Publikasi dan Dokumentasi Dewan | AE41: Jumlah Kelompok Pakar dan Tim Ahli yang tersedia | AG41: Jumlah Tenaga Ahli Fraksi | AI41: Jumlah Dokumen Hasil Penyelenggaraan Hubungan Masyarakat | AK41: Jumlah Dokumen Rencana Kerja DPRD | AN41: Jumlah Dokumen Hasil Pembahasan KUA dan PPAS | AP41: Jumlah Dokumen Hasil Pembahasan Perubahan KUA dan Perubahan PPAS | AR41: Jumlah Dokumen Hasil Pembahasan APBD | AT41: Jumlah Dokumen Hasil Pembahasan APBD Perubahan | AV41: Jumlah Dokumen Hasil Pembahasan Laporan Realisasi Pelaksanaan APBD Per Semester | AX41: Jumlah Dokumen Hasil Pembahasan Pertanggungjawaban APBD | AZ41: Jumlah Laporan Hasil Pengawasan Urusan Pemerintahan Bidang Pemerintahan dan Hukum | BB41: Jumlah Laporan Hasil Pengawasan Urusan Pemerintahan Bidang Infrastruktur | BD41: Jumlah Laporan Pengawasan Urusan Pemerintahan Bidang Kesejahteraan Rakyat | BF41: Jumlah Laporan Hasil Pengawasan Urusan Pemerintahan Bidang Perekonomian | BH41: Jumlah Laporan Hasil Pengawasan Urusan Pemerintahan Bidang Sumber Daya Alam | BJ41: Jumlah Dokumen Hasil Pengawasan Tindak Lanjut Hasil Pemeriksaan Laporan Keuangan oleh Badan Pemeriksa Keuangan | BL41: Jumlah Dokumen Hasil Pengawasan Penggunaan Anggaran | BN41: Jumlah Rekomendasi Hasil Pembahasan Laporan Keterangan Pertanggungjawaban Kepala Daerah | BP41: Jumlah Laporan Hasil Penyusunan Kode Etik DPRD | BR41: Jumlah Laporan Hasil Pengawasan Kode Etik DPRD | BT41: Jumlah Dokumen Pokok-Pokok Pikiran DPRD yang Disusun | BV41: Jumah Dokumen Hasil Pelaksanaan Reses | BX41: Jumlah Dokumen Rekomendasi Hasil Fasilitasi, Verifikasi, dan Koordinasi Persetujuan Kerjasama Daerah | CB41: Jumlah Dokumen Perencanaan Perangkat Daerah | CD41: Jumlah Laporan Capaian Kinerja dan Ikhtisar Realisasi Kinerja SKPD dan Laporan Hasil Koordinasi Penyusunan Laporan Capaian Kinerja dan Ikhtisar Realisasi Kinerja SKPD | CF41: Jumlah Laporan Evaluasi Kinerja Perangkat Daerah | CH41: Jumlah Orang yang Menerima Gaji dan Tunjangan ASN | CJ41: Jumlah Dokumen Penatausahaan dan Pengujian/Verifikasi Keuangan SKPD | CL41: Jumlah Laporan Keuangan Akhir Tahun SKPD dan Laporan Hasil Koordinasi Penyusunan Laporan Keuangan Akhir Tahun SKPD | CN41: Jumlah Laporan Keuangan Bulanan/ Triwulanan/ Semesteran SKPD dan Laporan Koordinasi Penyusunan Laporan Keuangan Bulanan/Triwulanan/Semesteran SKPD | CP41: Jumlah Dokumen Pelaporan dan Analisis Prognosis Realisasi Anggaran | CR41: Jumlah Paket Pakaian Dinas beserta Atribut Kelengkapan | CT41: Jumlah Dokumen Pendataan dan Pengolahan Administrasi Kepegawaian | CV41: Jumlah Pegawai Berdasarkan Tugas dan Fungsi yang Mengikuti Pendidikan dan Pelatihan | CX41: Jumlah Orang yang Mengikuti Bimbingan Teknis Implementasi Peraturan Perundang-Undangan | CZ41: Jumlah Paket Komponen Instalasi Listrik/Penerangan Bangunan Kantor yang Disediakan | DB41: Jumlah Paket Peralatan dan Perlengkapan Kantor yang Disediakan | DD41: Jumlah Paket Peralatan Rumah Tangga yang Disediakan | DF41: Jumlah Paket Bahan Logistik Kantor yang Disediakan | DH41: Jumlah Paket Barang Cetakan dan Penggandaan yang Disediakan | DJ41: Jumlah Laporan Fasilitasi Kunjungan Tamu | DL41: Jumlah Laporan Penyelenggaraan Rapat Koordinasi dan Konsultasi SKPD | DN41: Jumlah Dokumen Dukungan Pelaksanaan Sistem Pemerintahan Berbasis Elektronik pada SKPD | DP41: Jumlah Paket Mebel yang Disediakan | DR41: Jumlah Unit Peralatan dan Mesin Lainnya yang Disediakan | DT41: Jumlah Laporan Penyediaan Jasa Surat Menyurat | DV41: Jumlah Laporan Penyediaan Jasa Komunikasi, Sumber Daya Air dan Listrik yang Disediakan | DX41: Jumlah Laporan Penyediaan Jasa Pelayanan Umum Kantor yang Disediakan | DZ41: Jumlah Kendaraan Perorangan Dinas atau Kendaraan Dinas Jabatan yang Dipelihara dan dibayarkan Pajaknya | EB41: Jumlah Kendaraan Dinas Operasional atau Lapangan yang Dipelihara dan dibayarkan Pajak dan Perizinannya | ED41: Jumlah Mebel yang Dipelihara | EF41: Jumlah Peralatan dan Mesin Lainnya yang Dipelihara | EH41: Jumlah Gedung Kantor dan Bangunan Lainnya yang Dipelihara/Direhabilitasi | EJ41: Jumlah Sarana dan Prasarana Gedung Kantor atau Bangunan Lainnya yang Dipelihara/Direhabilitasi | EL41: Jumlah Anggota DPRD yang Menerima Hak Keuangan DPRD | EN41: Jumlah Paket Pakaian Dinas dan Atribut DPRD yang Disediakan | EP41: Jumlah Orang yang Mengikuti Medical Check Up DPRD | ER41: Jumlah Dokumen Hasil Penyelenggaraan Administrasi Keanggotaan DPRD | ET41: Jumlah Laporan Hasil Fasilitasi Fraksi DPRD | EV41: Jumlah Laporan Hasil Fasilitasi Rapat Koordinasi dan Konsultasi DPRD
A43: Target | C43: 2 Dokumen | E43: 8 Dokumen | G43: 1 Dokumen | I43: 4 Dokumen | K43: 1 Dokumen | M43: 64800 Orang | O43: 12 Dokumen | Q43: 6 Laporan | S43: 24 Dokumen | U43: 86 Dokumen | W43: 2 Dokumen | Y43: 0 Dokumen | AA43: 6 Dokumen | AC43: 430 Dokumen | AE43: 0 Orang | AG43: 6 Orang | AI43: 24 Dokumen | AK43: 1 Dokumen | AN43: 4 Dokumen | AP43: 4 Dokumen | AR43: 4 Dokumen | AT43: 4 Dokumen | AV43: 2 Dokumen | AX43: 4 Dokumen | AZ43: 48 Laporan | BB43: 48 Laporan | BD43: 48 Laporan | BF43: 48 Laporan | BH43: 48 Laporan | BJ43: 2 Dokumen | BL43: 6 Dokumen | BN43: 4 Dokumen | BP43: 2 Laporan | BR43: 4 Laporan | BT43: 2 Dokumen | BV43: 3 Dokumen | BX43: 2 Dokumen | CB43: 9 Dokumen | CD43: 17 Laporan | CF43: 4 Laporan | CH43: 50 Orang | CJ43: 24 Dokumen | CL43: 5 Laporan | CN43: 9 Laporan | CP43: 1 Dokumen | CR43: 0 Paket | CT43: 17 Dokumen | CV43: 22 Orang | CX43: 8 Orang | CZ43: 1 Paket | DB43: 3 Paket | DD43: 2 Paket | DF43: 60 Paket | DH43: 5 Paket | DJ43: 132 Laporan | DL43: 20 Laporan | DN43: 1 Dokumen | DP43: 3 Unit | DR43: 3 Unit | DT43: 90 Laporan | DV43: 12 Laporan | DX43: 78 Laporan | DZ43: 4 Unit | EB43: 26 Unit | ED43: 156 Unit | EF43: 101 Unit | EH43: 2 Unit | EJ43: 5 Unit | EL43: 50 Orang/Bulan | EN43: 5 Paket | EP43: 50 Orang | ER43: 10 Dokumen | ET43: 12 Laporan | EV43: 10 Laporan
A45: Realisasi | C45: 2 | E45: 8 | G45: 1 | I45: 4 | K45: 1 | M45: 64800 | O45: 12 | Q45: 6 | S45: 24 | U45: 86 | W45: 2 | AA45: 6 | AC45: 430 | AN45: 4 | AP45: 4 | AR45: 4 | AT45: 4 | AV45: 2 | AX45: 4 | AZ45: 48 | BB45: 48 | BJ45: 2 | BL45: 6 | BN45: 4 | CB45: 9 | CD45: 17 | CF45: 4 | CH45: 50 | CJ45: 24 | DR45: 3 | EB45: 26 | ED45: 156

Sheet Formulasi IKM
A1: Indeks Pelayanan Setwan
A2: Komponen | B2: Indikator Terukur | C2: Rumus | D2: Sumber Data | E2: Satuan | F2: Bobot | G2: Target Th1 - th5
A3: Fasilitasi Penyusunan Perda | B3: % ketepatan penetapan Perda | C3: (Rapat tepat standar ÷ Total rapat) ×100% | D3: Laporan hasil rapat pembentukan Perda | E3: % | F3: 25 | G3: 100 | H3: 100 | I3: 100 | J3: 100 | K3: 100
A4: Fasilitasi Penganggaran dan Pengawasan | B4: % ketepatan penetapan Perda APBD | C4: (Dokumen tepat waktu ÷ Total dokumen) ×100% | D4: Laporan hasil rapat Badan Angaran | E4: % | F4: 25 | G4: 100 | H4: 100 | I4: 100 | J4: 100 | K4: 100
A5: Layanan Administrasi Keuangan | B5: % data dukung SAKIP | C5: Jumlah data dukung SAKIP yang dipenuhi dibagi data dukung SAKIP yg dievaluasi x 100% | D5: Data evaluasi SAKIP pada SIAKRI | E5: % | F5: 15 | G5: 100 | H5: 100 | I5: 100 | J5: 100 | K5: 100
A6: Layanan Kepegawaian | B6: IP ASN | C6: Nilai IP ASN PD | D6: Laporan IP ASN PD | E6: Indeks | F6: 5 | G6: 80 | H6: 83 | I6: 87 | J6: 90 | K6: 93
A7: Layanan Sarpras | B7: Indeks dukungan sarpras | C7: ∑(Persentase Kelayakan Komponen × Bobot) | D7: Checklist sarpras | E7: % | F7: 10 | G7: 80 | H7: 85 | I7: 90 | J7: 93 | K7: 95
A8: Kepuasan Masyarakat | B8: Nilai survei kepuasan masyarakat | C8: Nilai rata-rata kuesioner (skala 1–100) | D8: Survei kepuasan masyarakat | E8: Indeks | F8: 20 | G8: 96,25 | H8: 97 | I8: 97.5 | J8: 97.75 | K8: 98
F9: =SUM(F3:F8) -> 100
A11: Komponen | B11: Nilai | C11: Bobot | D11: Indeks (Nilai x Bobot)
A12: Fasilitasi Penyusunan Perda | B12: ='Sekretariat DPRD '!S27*100 -> 100 | C12: 0.25 | D12: =B12*C12 -> 25
A13: Fasilitasi Penganggaran dan Pengawasan | B13: =AVERAGE('Sekretariat DPRD '!AT27,'Sekretariat DPRD '!BL27)*100 -> 55.357143 | C13: 0.25 | D13: =B13*C13 -> 13.839286
A14: Layanan Administrasi Keuangan | B14: =(('Sekretariat DPRD '!CD36+'Sekretariat DPRD '!CL36)/68)*100 -> 79.411765 | C14: 0.15 | D14: =B14*C14 -> 11.911765
A15: Layanan Kepegawaian | B15: 80 | C15: 0.05 | D15: =B15*C15 -> 4
A16: Layanan Sarpras | B16: =('Sekretariat DPRD '!DP36+'Sekretariat DPRD '!EF36)/300*100 -> 61.666667 | C16: 0.1 | D16: =B16*C16 -> 6.1666667
A17: Kepuasan Masyarakat | B17: 97 | C17: 0.2 | D17: =B17*C17 -> 19.4
C18: =SUM(C12:C17) -> 1
A19: Indeks Pelayanan Setwan | D19: =SUM(D12:D17) -> 80.317717
A22: Definisi operasional:
A23: Indeks komposit yang mengukur kualitas layanan Sekretariat DPRD dalam memfasilitasi fungsi pembentukan perda, anggaran, dan pengawasan DPRD yang dihitung dari 6 dimensi layanan.
A25: Rumus: Indeks Pelayanan Setwan=∑(Nilai Komponen × Bobot)
A26: Satuan: Indeks (0–100)
A27: Frekuensi ukur: Tahunan.
